BEGIN:VCALENDAR
VERSION:2.0
PRODID:-//Jubilee Worship Center - ECPv6.15.20//NONSGML v1.0//EN
CALSCALE:GREGORIAN
METHOD:PUBLISH
X-ORIGINAL-URL:https://jubileewc.org
X-WR-CALDESC:Events for Jubilee Worship Center
REFRESH-INTERVAL;VALUE=DURATION:PT1H
X-Robots-Tag:noindex
X-PUBLISHED-TTL:PT1H
BEGIN:VTIMEZONE
TZID:America/Chicago
BEGIN:DAYLIGHT
TZOFFSETFROM:-0600
TZOFFSETTO:-0500
TZNAME:CDT
DTSTART:20200308T080000
END:DAYLIGHT
BEGIN:STANDARD
TZOFFSETFROM:-0500
TZOFFSETTO:-0600
TZNAME:CST
DTSTART:20201101T070000
END:STANDARD
BEGIN:DAYLIGHT
TZOFFSETFROM:-0600
TZOFFSETTO:-0500
TZNAME:CDT
DTSTART:20210314T080000
END:DAYLIGHT
BEGIN:STANDARD
TZOFFSETFROM:-0500
TZOFFSETTO:-0600
TZNAME:CST
DTSTART:20211107T070000
END:STANDARD
BEGIN:DAYLIGHT
TZOFFSETFROM:-0600
TZOFFSETTO:-0500
TZNAME:CDT
DTSTART:20220313T080000
END:DAYLIGHT
BEGIN:STANDARD
TZOFFSETFROM:-0500
TZOFFSETTO:-0600
TZNAME:CST
DTSTART:20221106T070000
END:STANDARD
END:VTIMEZONE
BEGIN:VEVENT
DTSTART;TZID=America/Chicago:20210505T180000
DTEND;TZID=America/Chicago:20210505T184500
DTSTAMP:20260421T092025
CREATED:20210415T220918Z
LAST-MODIFIED:20210415T220919Z
UID:10265-1620237600-1620240300@jubileewc.org
SUMMARY:Class: How to Transform Your World by Loving Your Neighbor
DESCRIPTION:  \nJoin us for a new class starting at Jubilee! \n“How to Transform Your World by Loving Your Neighbor” \nWednesdays 6:00 – 6:45 p.m. \nMay 5\, 12\, 19 & 26 \nSign up below. \n  \nSign Up Here.
URL:https://jubileewc.org/event/class-how-to-transform-your-world-by-loving-your-neighbor/2021-05-05/
LOCATION:Jubilee Worship Center\, 3125 County Road 74\, St. Cloud\, MN\, 56301\, United States
CATEGORIES:Bible Class
ATTACH;FMTTYPE=image/png:https://jubileewc.org/wp-content/uploads/2021/04/Picture1.png
END:VEVENT
END:VCALENDAR