BEGIN:VCALENDAR
VERSION:2.0
PRODID:-//Jubilee Worship Center - ECPv6.15.20//NONSGML v1.0//EN
CALSCALE:GREGORIAN
METHOD:PUBLISH
X-ORIGINAL-URL:https://jubileewc.org
X-WR-CALDESC:Events for Jubilee Worship Center
REFRESH-INTERVAL;VALUE=DURATION:PT1H
X-Robots-Tag:noindex
X-PUBLISHED-TTL:PT1H
BEGIN:VTIMEZONE
TZID:America/Chicago
BEGIN:DAYLIGHT
TZOFFSETFROM:-0600
TZOFFSETTO:-0500
TZNAME:CDT
DTSTART:20200308T080000
END:DAYLIGHT
BEGIN:STANDARD
TZOFFSETFROM:-0500
TZOFFSETTO:-0600
TZNAME:CST
DTSTART:20201101T070000
END:STANDARD
BEGIN:DAYLIGHT
TZOFFSETFROM:-0600
TZOFFSETTO:-0500
TZNAME:CDT
DTSTART:20210314T080000
END:DAYLIGHT
BEGIN:STANDARD
TZOFFSETFROM:-0500
TZOFFSETTO:-0600
TZNAME:CST
DTSTART:20211107T070000
END:STANDARD
BEGIN:DAYLIGHT
TZOFFSETFROM:-0600
TZOFFSETTO:-0500
TZNAME:CDT
DTSTART:20220313T080000
END:DAYLIGHT
BEGIN:STANDARD
TZOFFSETFROM:-0500
TZOFFSETTO:-0600
TZNAME:CST
DTSTART:20221106T070000
END:STANDARD
END:VTIMEZONE
BEGIN:VEVENT
DTSTART;TZID=America/Chicago:20210417T120000
DTEND;TZID=America/Chicago:20210417T140000
DTSTAMP:20260421T091133
CREATED:20210115T232625Z
LAST-MODIFIED:20210603T011908Z
UID:9671-1618660800-1618668000@jubileewc.org
SUMMARY:Praise Dance Ministry
DESCRIPTION:Taught by Keshia King \nSaturdays 12:00 – 2:00 p.m.\nIn the Jubilee Youth Room \nFor everyone ages 7 and up\nTransportation will not be provided \n“Let them praise His name with the dance.” Psalm 149:3a
URL:https://jubileewc.org/event/praise-dance-ministry/2021-04-17/
LOCATION:Jubilee Youth Room\, 3125 County Road 74\, St. Cloud\, MN\, 56301\, United States
CATEGORIES:Praise Dance
ATTACH;FMTTYPE=image/png:https://jubileewc.org/wp-content/uploads/2021/01/Praise-Dance.png
END:VEVENT
END:VCALENDAR