BEGIN:VCALENDAR
VERSION:2.0
PRODID:-//Jubilee Worship Center - ECPv6.15.20//NONSGML v1.0//EN
CALSCALE:GREGORIAN
METHOD:PUBLISH
X-WR-CALNAME:Jubilee Worship Center
X-ORIGINAL-URL:https://jubileewc.org
X-WR-CALDESC:Events for Jubilee Worship Center
REFRESH-INTERVAL;VALUE=DURATION:PT1H
X-Robots-Tag:noindex
X-PUBLISHED-TTL:PT1H
BEGIN:VTIMEZONE
TZID:America/Chicago
BEGIN:DAYLIGHT
TZOFFSETFROM:-0600
TZOFFSETTO:-0500
TZNAME:CDT
DTSTART:20200308T080000
END:DAYLIGHT
BEGIN:STANDARD
TZOFFSETFROM:-0500
TZOFFSETTO:-0600
TZNAME:CST
DTSTART:20201101T070000
END:STANDARD
BEGIN:DAYLIGHT
TZOFFSETFROM:-0600
TZOFFSETTO:-0500
TZNAME:CDT
DTSTART:20210314T080000
END:DAYLIGHT
BEGIN:STANDARD
TZOFFSETFROM:-0500
TZOFFSETTO:-0600
TZNAME:CST
DTSTART:20211107T070000
END:STANDARD
BEGIN:DAYLIGHT
TZOFFSETFROM:-0600
TZOFFSETTO:-0500
TZNAME:CDT
DTSTART:20220313T080000
END:DAYLIGHT
BEGIN:STANDARD
TZOFFSETFROM:-0500
TZOFFSETTO:-0600
TZNAME:CST
DTSTART:20221106T070000
END:STANDARD
END:VTIMEZONE
BEGIN:VEVENT
DTSTART;TZID=America/Chicago:20211219T100000
DTEND;TZID=America/Chicago:20211219T113000
DTSTAMP:20260421T161433
CREATED:20211201T184949Z
LAST-MODIFIED:20211201T185917Z
UID:11791-1639908000-1639913400@jubileewc.org
SUMMARY:Wildfire Youth & Jubilee Kids Christmas Program
DESCRIPTION:Join our youth and kids for a Christmas play of hope!\n“Breath of My Soul” is a moving play written by Pastor Buddy King and Katrina Hedburg. This play brings our focus back on the true reason for the season – Jesus! – and reminds us of His presence in our lives. \nCelebrate hope with us this Christmas season and join us for one of these live shows! \nDecember 19 at 10:00 a.m. \nDecember 24 at 4:00 p.m. \n  \n 
URL:https://jubileewc.org/event/wildfire-youth-jubilee-kids-christmas-play/2021-12-19/
LOCATION:Jubilee Worship Center\, 3125 County Road 74\, St. Cloud\, MN\, 56301\, United States
CATEGORIES:Christmas
ATTACH;FMTTYPE=image/png:https://jubileewc.org/wp-content/uploads/2021/12/ChristmasPlay-FB.png
END:VEVENT
END:VCALENDAR