BEGIN:VCALENDAR
VERSION:2.0
PRODID:-//Jubilee Worship Center - ECPv6.15.20//NONSGML v1.0//EN
CALSCALE:GREGORIAN
METHOD:PUBLISH
X-WR-CALNAME:Jubilee Worship Center
X-ORIGINAL-URL:https://jubileewc.org
X-WR-CALDESC:Events for Jubilee Worship Center
REFRESH-INTERVAL;VALUE=DURATION:PT1H
X-Robots-Tag:noindex
X-PUBLISHED-TTL:PT1H
BEGIN:VTIMEZONE
TZID:America/Chicago
BEGIN:DAYLIGHT
TZOFFSETFROM:-0600
TZOFFSETTO:-0500
TZNAME:CDT
DTSTART:20250309T080000
END:DAYLIGHT
BEGIN:STANDARD
TZOFFSETFROM:-0500
TZOFFSETTO:-0600
TZNAME:CST
DTSTART:20251102T070000
END:STANDARD
BEGIN:DAYLIGHT
TZOFFSETFROM:-0600
TZOFFSETTO:-0500
TZNAME:CDT
DTSTART:20260308T080000
END:DAYLIGHT
BEGIN:STANDARD
TZOFFSETFROM:-0500
TZOFFSETTO:-0600
TZNAME:CST
DTSTART:20261101T070000
END:STANDARD
BEGIN:DAYLIGHT
TZOFFSETFROM:-0600
TZOFFSETTO:-0500
TZNAME:CDT
DTSTART:20270314T080000
END:DAYLIGHT
BEGIN:STANDARD
TZOFFSETFROM:-0500
TZOFFSETTO:-0600
TZNAME:CST
DTSTART:20271107T070000
END:STANDARD
END:VTIMEZONE
BEGIN:VTIMEZONE
TZID:UTC
BEGIN:STANDARD
TZOFFSETFROM:+0000
TZOFFSETTO:+0000
TZNAME:UTC
DTSTART:20250101T000000
END:STANDARD
END:VTIMEZONE
BEGIN:VEVENT
DTSTART;TZID=America/Chicago:20260422T063000
DTEND;TZID=America/Chicago:20260422T073000
DTSTAMP:20260421T035338
CREATED:20221117T202648Z
LAST-MODIFIED:20260218T211301Z
UID:19787-1776839400-1776843000@jubileewc.org
SUMMARY:Wednesday Morning Prayer
DESCRIPTION:Join Pastor Mark every Wednesday morning at 6:30 a.m. in the Fireside Room for Morning Prayer!\nRe-center and refocus your week with prayer and encouragement\, lifting our church\, our families\, communities\, and nation up to God.
URL:https://jubileewc.org/event/wednesday-morning-prayer/2026-04-22/
LOCATION:Jubilee Worship Center\, 3125 County Road 74\, St. Cloud\, MN\, 56301\, United States
CATEGORIES:Prayer
ATTACH;FMTTYPE=image/png:https://jubileewc.org/wp-content/uploads/2022/11/Morning-Prayer-Website.png
END:VEVENT
BEGIN:VEVENT
DTSTART;TZID=America/Chicago:20260422T180000
DTEND;TZID=America/Chicago:20260422T193000
DTSTAMP:20260421T035338
CREATED:20200708T202352Z
LAST-MODIFIED:20200708T202352Z
UID:19890-1776880800-1776886200@jubileewc.org
SUMMARY:Wildfire Youth Ministry
DESCRIPTION:Join us for youth group with Director Ian Wesenberg on Wednesday Nights at 6:00 p.m.!\nWe believe that God has a special destiny for this generation and a purpose for each individual. It’s our heart to see that purpose realized in each youth and to equip young people to a life dedicated to God. \nWe invite you to join us! \nWildfire Youth Group meets Wednesdays from 6:00 – 7:30 p.m. There will be a meal at 6:00 p.m. \nYouth grades 7 -12 are invited to join us for lively worship\, a time of teaching\, and fun games. \nWe also host a variety of monthly activities such as bowling\, Valley Fair trips\, camping\, soccer\, pizza night\, and more.
URL:https://jubileewc.org/event/wildfire-youth-ministry/2026-04-22/
LOCATION:Jubilee Youth Room\, 3125 County Road 74\, St. Cloud\, MN\, 56301\, United States
CATEGORIES:Wildfire Youth Ministry
ATTACH;FMTTYPE=image/png:https://jubileewc.org/wp-content/uploads/2020/07/Wildfire-Youth-Website-1.png
END:VEVENT
BEGIN:VEVENT
DTSTART;TZID=America/Chicago:20260422T180000
DTEND;TZID=America/Chicago:20260422T193000
DTSTAMP:20260421T035338
CREATED:20201209T030027Z
LAST-MODIFIED:20260205T193118Z
UID:20690-1776880800-1776886200@jubileewc.org
SUMMARY:Wednesday Night Adult Prayer
DESCRIPTION:Join us for a time of prayer on Wednesday evenings from 6:00 – 7:30 p.m.\nNo previous experience necessary. \nThere will be a meal at 6:00 p.m.
URL:https://jubileewc.org/event/wednesday-night-adult-prayer/2026-04-22/
LOCATION:Jubilee Worship Center\, 3125 County Road 74\, St. Cloud\, MN\, 56301\, United States
CATEGORIES:Prayer
ATTACH;FMTTYPE=image/png:https://jubileewc.org/wp-content/uploads/2020/12/Prayer-Night-Website-2.png
END:VEVENT
BEGIN:VEVENT
DTSTART;TZID=America/Chicago:20260422T180000
DTEND;TZID=America/Chicago:20260422T193000
DTSTAMP:20260421T035338
CREATED:20210910T233836Z
LAST-MODIFIED:20251113T192959Z
UID:19950-1776880800-1776886200@jubileewc.org
SUMMARY:Wednesday Night Kids Church
DESCRIPTION:Join us for Wednesday Night Kids Church with Stephanie Miller!\nThis is for all kids age 3 thru 6th grade (must be potty trained and out of diapers). \nWednesdays from 6:00 – 7:30 p.m. There will be a meal provided.
URL:https://jubileewc.org/event/wednesday-night-kids-ministry/2026-04-22/
LOCATION:Jubilee Worship Center\, 3125 County Road 74\, St. Cloud\, MN\, 56301\, United States
CATEGORIES:Jubilee Kids
ATTACH;FMTTYPE=image/png:https://jubileewc.org/wp-content/uploads/2021/09/Kids-Church-Website-2.png
END:VEVENT
BEGIN:VEVENT
DTSTART;TZID=UTC:20260426T100000
DTEND;TZID=UTC:20260426T113000
DTSTAMP:20260421T035338
CREATED:20201005T211448Z
LAST-MODIFIED:20260319T200515Z
UID:19589-1777197600-1777203000@jubileewc.org
SUMMARY:Sunday Worship Service
DESCRIPTION:We invite you to be our guest at one of our Sunday morning Worship Services at 10:00 a.m.\nWe believe you will find Jubilee to be a friendly\, relational church\, full of life. Our services have a very expressive and contemporary style of worship and praise. Brace yourself\, because it may not be what you’re used to! \n  \nLivestream Link – Facebook \nLivestream Link – YouTube \nLivestream Link – Rumble \n  \n  \n 
URL:https://jubileewc.org/event/sunday-worship-service/2026-04-26/
LOCATION:Jubilee Sanctuary\, 3125 County Road 74\, St. Cloud\, MN\, 56301\, United States
CATEGORIES:Sunday Worship
ATTACH;FMTTYPE=image/png:https://jubileewc.org/wp-content/uploads/2020/10/Sunday-Worship-Service.png
END:VEVENT
BEGIN:VEVENT
DTSTART;TZID=America/Chicago:20260426T183000
DTEND;TZID=America/Chicago:20260426T200000
DTSTAMP:20260421T035338
CREATED:20240131T204839Z
LAST-MODIFIED:20260409T195152Z
UID:19691-1777228200-1777233600@jubileewc.org
SUMMARY:Temple Restorers
DESCRIPTION:Support group for Health\, Wellness & Weight Loss\nSundays at 6:30 p.m. on Zoom \nYou can join this group at any time. \nFor more info or to join this group\, contact us.
URL:https://jubileewc.org/event/temple-restorers/2026-04-26/
LOCATION:MN
CATEGORIES:Classes and Small Groups
ATTACH;FMTTYPE=image/png:https://jubileewc.org/wp-content/uploads/2024/01/Temple-Restorers-Website-1.png
END:VEVENT
BEGIN:VEVENT
DTSTART;TZID=America/Chicago:20260429T063000
DTEND;TZID=America/Chicago:20260429T073000
DTSTAMP:20260421T035338
CREATED:20221117T202648Z
LAST-MODIFIED:20260218T211303Z
UID:19788-1777444200-1777447800@jubileewc.org
SUMMARY:Wednesday Morning Prayer
DESCRIPTION:Join Pastor Mark every Wednesday morning at 6:30 a.m. in the Fireside Room for Morning Prayer!\nRe-center and refocus your week with prayer and encouragement\, lifting our church\, our families\, communities\, and nation up to God.
URL:https://jubileewc.org/event/wednesday-morning-prayer/2026-04-29/
LOCATION:Jubilee Worship Center\, 3125 County Road 74\, St. Cloud\, MN\, 56301\, United States
CATEGORIES:Prayer
ATTACH;FMTTYPE=image/png:https://jubileewc.org/wp-content/uploads/2022/11/Morning-Prayer-Website.png
END:VEVENT
BEGIN:VEVENT
DTSTART;TZID=America/Chicago:20260429T180000
DTEND;TZID=America/Chicago:20260429T193000
DTSTAMP:20260421T035338
CREATED:20200708T202352Z
LAST-MODIFIED:20200708T202352Z
UID:19891-1777485600-1777491000@jubileewc.org
SUMMARY:Wildfire Youth Ministry
DESCRIPTION:Join us for youth group with Director Ian Wesenberg on Wednesday Nights at 6:00 p.m.!\nWe believe that God has a special destiny for this generation and a purpose for each individual. It’s our heart to see that purpose realized in each youth and to equip young people to a life dedicated to God. \nWe invite you to join us! \nWildfire Youth Group meets Wednesdays from 6:00 – 7:30 p.m. There will be a meal at 6:00 p.m. \nYouth grades 7 -12 are invited to join us for lively worship\, a time of teaching\, and fun games. \nWe also host a variety of monthly activities such as bowling\, Valley Fair trips\, camping\, soccer\, pizza night\, and more.
URL:https://jubileewc.org/event/wildfire-youth-ministry/2026-04-29/
LOCATION:Jubilee Youth Room\, 3125 County Road 74\, St. Cloud\, MN\, 56301\, United States
CATEGORIES:Wildfire Youth Ministry
ATTACH;FMTTYPE=image/png:https://jubileewc.org/wp-content/uploads/2020/07/Wildfire-Youth-Website-1.png
END:VEVENT
BEGIN:VEVENT
DTSTART;TZID=America/Chicago:20260429T180000
DTEND;TZID=America/Chicago:20260429T193000
DTSTAMP:20260421T035338
CREATED:20201209T030027Z
LAST-MODIFIED:20260205T193119Z
UID:20691-1777485600-1777491000@jubileewc.org
SUMMARY:Wednesday Night Adult Prayer
DESCRIPTION:Join us for a time of prayer on Wednesday evenings from 6:00 – 7:30 p.m.\nNo previous experience necessary. \nThere will be a meal at 6:00 p.m.
URL:https://jubileewc.org/event/wednesday-night-adult-prayer/2026-04-29/
LOCATION:Jubilee Worship Center\, 3125 County Road 74\, St. Cloud\, MN\, 56301\, United States
CATEGORIES:Prayer
ATTACH;FMTTYPE=image/png:https://jubileewc.org/wp-content/uploads/2020/12/Prayer-Night-Website-2.png
END:VEVENT
BEGIN:VEVENT
DTSTART;TZID=America/Chicago:20260429T180000
DTEND;TZID=America/Chicago:20260429T193000
DTSTAMP:20260421T035338
CREATED:20210910T233836Z
LAST-MODIFIED:20251113T193001Z
UID:19951-1777485600-1777491000@jubileewc.org
SUMMARY:Wednesday Night Kids Church
DESCRIPTION:Join us for Wednesday Night Kids Church with Stephanie Miller!\nThis is for all kids age 3 thru 6th grade (must be potty trained and out of diapers). \nWednesdays from 6:00 – 7:30 p.m. There will be a meal provided.
URL:https://jubileewc.org/event/wednesday-night-kids-ministry/2026-04-29/
LOCATION:Jubilee Worship Center\, 3125 County Road 74\, St. Cloud\, MN\, 56301\, United States
CATEGORIES:Jubilee Kids
ATTACH;FMTTYPE=image/png:https://jubileewc.org/wp-content/uploads/2021/09/Kids-Church-Website-2.png
END:VEVENT
BEGIN:VEVENT
DTSTART;TZID=UTC:20260503T100000
DTEND;TZID=UTC:20260503T113000
DTSTAMP:20260421T035338
CREATED:20201005T211448Z
LAST-MODIFIED:20260319T200518Z
UID:19590-1777802400-1777807800@jubileewc.org
SUMMARY:Sunday Worship Service
DESCRIPTION:We invite you to be our guest at one of our Sunday morning Worship Services at 10:00 a.m.\nWe believe you will find Jubilee to be a friendly\, relational church\, full of life. Our services have a very expressive and contemporary style of worship and praise. Brace yourself\, because it may not be what you’re used to! \n  \nLivestream Link – Facebook \nLivestream Link – YouTube \nLivestream Link – Rumble \n  \n  \n 
URL:https://jubileewc.org/event/sunday-worship-service/2026-05-03/
LOCATION:Jubilee Sanctuary\, 3125 County Road 74\, St. Cloud\, MN\, 56301\, United States
CATEGORIES:Sunday Worship
ATTACH;FMTTYPE=image/png:https://jubileewc.org/wp-content/uploads/2020/10/Sunday-Worship-Service.png
END:VEVENT
BEGIN:VEVENT
DTSTART;TZID=America/Chicago:20260503T180000
DTEND;TZID=America/Chicago:20260503T200000
DTSTAMP:20260421T035338
CREATED:20220316T155502Z
LAST-MODIFIED:20260409T201546Z
UID:12285-1777831200-1777838400@jubileewc.org
SUMMARY:Jubilee Roller Skating
DESCRIPTION:Join us for our annual church skate night!\nSunday\, May 3rd from 6-8 pm \nAt St. Cloud Skatin’ Place \nThere is no cost to attend; donations are encouraged. Concessions are available for purchase.
URL:https://jubileewc.org/event/jubilee-roller-skating/
LOCATION:St. Cloud Skatin’ Place\, 3302 Southway Drive\, St. Cloud\, MN\, 56301\, United States
CATEGORIES:Special Event
ATTACH;FMTTYPE=image/png:https://jubileewc.org/wp-content/uploads/2022/03/Roller-Skating-Website-1.png
END:VEVENT
BEGIN:VEVENT
DTSTART;TZID=America/Chicago:20260503T183000
DTEND;TZID=America/Chicago:20260503T200000
DTSTAMP:20260421T035338
CREATED:20240131T204839Z
LAST-MODIFIED:20260409T195154Z
UID:19692-1777833000-1777838400@jubileewc.org
SUMMARY:Temple Restorers
DESCRIPTION:Support group for Health\, Wellness & Weight Loss\nSundays at 6:30 p.m. on Zoom \nYou can join this group at any time. \nFor more info or to join this group\, contact us.
URL:https://jubileewc.org/event/temple-restorers/2026-05-03/
LOCATION:MN
CATEGORIES:Classes and Small Groups
ATTACH;FMTTYPE=image/png:https://jubileewc.org/wp-content/uploads/2024/01/Temple-Restorers-Website-1.png
END:VEVENT
BEGIN:VEVENT
DTSTART;TZID=America/Chicago:20260504T183000
DTEND;TZID=America/Chicago:20260504T200000
DTSTAMP:20260421T035338
CREATED:20240131T204210Z
LAST-MODIFIED:20240131T204210Z
UID:20379-1777919400-1777924800@jubileewc.org
SUMMARY:20s & 30s Bible Study Group
DESCRIPTION:If you are in your 20s or 30s you are invited to join our Bible Study Group!\nEvery other Monday at 6:30 p.m. \nThis group will meet at Ruth’s home. \nNote: There is no childcare. \nFor more info or to join this group\, contact us.
URL:https://jubileewc.org/event/20s-30s-bible-study-group/2026-05-04/
LOCATION:MN
CATEGORIES:Classes and Small Groups
ATTACH;FMTTYPE=image/png:https://jubileewc.org/wp-content/uploads/2024/01/20s-30s-Bible-Study-Website-1.png
END:VEVENT
BEGIN:VEVENT
DTSTART;TZID=America/Chicago:20260506T063000
DTEND;TZID=America/Chicago:20260506T073000
DTSTAMP:20260421T035338
CREATED:20221117T202648Z
LAST-MODIFIED:20260218T211306Z
UID:19789-1778049000-1778052600@jubileewc.org
SUMMARY:Wednesday Morning Prayer
DESCRIPTION:Join Pastor Mark every Wednesday morning at 6:30 a.m. in the Fireside Room for Morning Prayer!\nRe-center and refocus your week with prayer and encouragement\, lifting our church\, our families\, communities\, and nation up to God.
URL:https://jubileewc.org/event/wednesday-morning-prayer/2026-05-06/
LOCATION:Jubilee Worship Center\, 3125 County Road 74\, St. Cloud\, MN\, 56301\, United States
CATEGORIES:Prayer
ATTACH;FMTTYPE=image/png:https://jubileewc.org/wp-content/uploads/2022/11/Morning-Prayer-Website.png
END:VEVENT
BEGIN:VEVENT
DTSTART;TZID=America/Chicago:20260506T180000
DTEND;TZID=America/Chicago:20260506T193000
DTSTAMP:20260421T035338
CREATED:20200708T202352Z
LAST-MODIFIED:20200708T202352Z
UID:19892-1778090400-1778095800@jubileewc.org
SUMMARY:Wildfire Youth Ministry
DESCRIPTION:Join us for youth group with Director Ian Wesenberg on Wednesday Nights at 6:00 p.m.!\nWe believe that God has a special destiny for this generation and a purpose for each individual. It’s our heart to see that purpose realized in each youth and to equip young people to a life dedicated to God. \nWe invite you to join us! \nWildfire Youth Group meets Wednesdays from 6:00 – 7:30 p.m. There will be a meal at 6:00 p.m. \nYouth grades 7 -12 are invited to join us for lively worship\, a time of teaching\, and fun games. \nWe also host a variety of monthly activities such as bowling\, Valley Fair trips\, camping\, soccer\, pizza night\, and more.
URL:https://jubileewc.org/event/wildfire-youth-ministry/2026-05-06/
LOCATION:Jubilee Youth Room\, 3125 County Road 74\, St. Cloud\, MN\, 56301\, United States
CATEGORIES:Wildfire Youth Ministry
ATTACH;FMTTYPE=image/png:https://jubileewc.org/wp-content/uploads/2020/07/Wildfire-Youth-Website-1.png
END:VEVENT
BEGIN:VEVENT
DTSTART;TZID=America/Chicago:20260506T180000
DTEND;TZID=America/Chicago:20260506T193000
DTSTAMP:20260421T035338
CREATED:20201209T030027Z
LAST-MODIFIED:20260205T193120Z
UID:20692-1778090400-1778095800@jubileewc.org
SUMMARY:Wednesday Night Adult Prayer
DESCRIPTION:Join us for a time of prayer on Wednesday evenings from 6:00 – 7:30 p.m.\nNo previous experience necessary. \nThere will be a meal at 6:00 p.m.
URL:https://jubileewc.org/event/wednesday-night-adult-prayer/2026-05-06/
LOCATION:Jubilee Worship Center\, 3125 County Road 74\, St. Cloud\, MN\, 56301\, United States
CATEGORIES:Prayer
ATTACH;FMTTYPE=image/png:https://jubileewc.org/wp-content/uploads/2020/12/Prayer-Night-Website-2.png
END:VEVENT
BEGIN:VEVENT
DTSTART;TZID=America/Chicago:20260506T180000
DTEND;TZID=America/Chicago:20260506T193000
DTSTAMP:20260421T035338
CREATED:20210910T233836Z
LAST-MODIFIED:20251113T193002Z
UID:19952-1778090400-1778095800@jubileewc.org
SUMMARY:Wednesday Night Kids Church
DESCRIPTION:Join us for Wednesday Night Kids Church with Stephanie Miller!\nThis is for all kids age 3 thru 6th grade (must be potty trained and out of diapers). \nWednesdays from 6:00 – 7:30 p.m. There will be a meal provided.
URL:https://jubileewc.org/event/wednesday-night-kids-ministry/2026-05-06/
LOCATION:Jubilee Worship Center\, 3125 County Road 74\, St. Cloud\, MN\, 56301\, United States
CATEGORIES:Jubilee Kids
ATTACH;FMTTYPE=image/png:https://jubileewc.org/wp-content/uploads/2021/09/Kids-Church-Website-2.png
END:VEVENT
BEGIN:VEVENT
DTSTART;TZID=UTC:20260510T100000
DTEND;TZID=UTC:20260510T113000
DTSTAMP:20260421T035338
CREATED:20201005T211448Z
LAST-MODIFIED:20260319T200520Z
UID:19591-1778407200-1778412600@jubileewc.org
SUMMARY:Sunday Worship Service
DESCRIPTION:We invite you to be our guest at one of our Sunday morning Worship Services at 10:00 a.m.\nWe believe you will find Jubilee to be a friendly\, relational church\, full of life. Our services have a very expressive and contemporary style of worship and praise. Brace yourself\, because it may not be what you’re used to! \n  \nLivestream Link – Facebook \nLivestream Link – YouTube \nLivestream Link – Rumble \n  \n  \n 
URL:https://jubileewc.org/event/sunday-worship-service/2026-05-10/
LOCATION:Jubilee Sanctuary\, 3125 County Road 74\, St. Cloud\, MN\, 56301\, United States
CATEGORIES:Sunday Worship
ATTACH;FMTTYPE=image/png:https://jubileewc.org/wp-content/uploads/2020/10/Sunday-Worship-Service.png
END:VEVENT
BEGIN:VEVENT
DTSTART;TZID=America/Chicago:20260510T183000
DTEND;TZID=America/Chicago:20260510T200000
DTSTAMP:20260421T035338
CREATED:20240131T204839Z
LAST-MODIFIED:20260409T195155Z
UID:19693-1778437800-1778443200@jubileewc.org
SUMMARY:Temple Restorers
DESCRIPTION:Support group for Health\, Wellness & Weight Loss\nSundays at 6:30 p.m. on Zoom \nYou can join this group at any time. \nFor more info or to join this group\, contact us.
URL:https://jubileewc.org/event/temple-restorers/2026-05-10/
LOCATION:MN
CATEGORIES:Classes and Small Groups
ATTACH;FMTTYPE=image/png:https://jubileewc.org/wp-content/uploads/2024/01/Temple-Restorers-Website-1.png
END:VEVENT
BEGIN:VEVENT
DTSTART;TZID=America/Chicago:20260512T183000
DTEND;TZID=America/Chicago:20260512T200000
DTSTAMP:20260421T035338
CREATED:20250320T190618Z
LAST-MODIFIED:20250320T190618Z
UID:21005-1778610600-1778616000@jubileewc.org
SUMMARY:Spring Ladies Nights
DESCRIPTION:Ladies\, you are invited to join us for our 2026 Spring Ladies Nights! Our theme is “The Joy of Harmony & Balance”.\nBringing balance to your life: A consistent\, orderly & pleasing arrangement of roles \nThe second Tuesday of the month from 6:30 – 8:00 p.m. at Jubilee \nPlease let us know if you can make it. Email us.
URL:https://jubileewc.org/event/spring-ladies-nights/2026-05-12/
LOCATION:Jubilee Worship Center\, 3125 County Road 74\, St. Cloud\, MN\, 56301\, United States
CATEGORIES:Ladies Event
ATTACH;FMTTYPE=image/jpeg:https://jubileewc.org/wp-content/uploads/2025/03/Spring-Ladies-Nights-Website.jpg
END:VEVENT
BEGIN:VEVENT
DTSTART;TZID=America/Chicago:20260513T063000
DTEND;TZID=America/Chicago:20260513T073000
DTSTAMP:20260421T035338
CREATED:20221117T202648Z
LAST-MODIFIED:20260218T211308Z
UID:19790-1778653800-1778657400@jubileewc.org
SUMMARY:Wednesday Morning Prayer
DESCRIPTION:Join Pastor Mark every Wednesday morning at 6:30 a.m. in the Fireside Room for Morning Prayer!\nRe-center and refocus your week with prayer and encouragement\, lifting our church\, our families\, communities\, and nation up to God.
URL:https://jubileewc.org/event/wednesday-morning-prayer/2026-05-13/
LOCATION:Jubilee Worship Center\, 3125 County Road 74\, St. Cloud\, MN\, 56301\, United States
CATEGORIES:Prayer
ATTACH;FMTTYPE=image/png:https://jubileewc.org/wp-content/uploads/2022/11/Morning-Prayer-Website.png
END:VEVENT
BEGIN:VEVENT
DTSTART;TZID=America/Chicago:20260513T180000
DTEND;TZID=America/Chicago:20260513T193000
DTSTAMP:20260421T035338
CREATED:20200708T202352Z
LAST-MODIFIED:20200708T202352Z
UID:19893-1778695200-1778700600@jubileewc.org
SUMMARY:Wildfire Youth Ministry
DESCRIPTION:Join us for youth group with Director Ian Wesenberg on Wednesday Nights at 6:00 p.m.!\nWe believe that God has a special destiny for this generation and a purpose for each individual. It’s our heart to see that purpose realized in each youth and to equip young people to a life dedicated to God. \nWe invite you to join us! \nWildfire Youth Group meets Wednesdays from 6:00 – 7:30 p.m. There will be a meal at 6:00 p.m. \nYouth grades 7 -12 are invited to join us for lively worship\, a time of teaching\, and fun games. \nWe also host a variety of monthly activities such as bowling\, Valley Fair trips\, camping\, soccer\, pizza night\, and more.
URL:https://jubileewc.org/event/wildfire-youth-ministry/2026-05-13/
LOCATION:Jubilee Youth Room\, 3125 County Road 74\, St. Cloud\, MN\, 56301\, United States
CATEGORIES:Wildfire Youth Ministry
ATTACH;FMTTYPE=image/png:https://jubileewc.org/wp-content/uploads/2020/07/Wildfire-Youth-Website-1.png
END:VEVENT
BEGIN:VEVENT
DTSTART;TZID=America/Chicago:20260513T180000
DTEND;TZID=America/Chicago:20260513T193000
DTSTAMP:20260421T035338
CREATED:20201209T030027Z
LAST-MODIFIED:20260205T193122Z
UID:20693-1778695200-1778700600@jubileewc.org
SUMMARY:Wednesday Night Adult Prayer
DESCRIPTION:Join us for a time of prayer on Wednesday evenings from 6:00 – 7:30 p.m.\nNo previous experience necessary. \nThere will be a meal at 6:00 p.m.
URL:https://jubileewc.org/event/wednesday-night-adult-prayer/2026-05-13/
LOCATION:Jubilee Worship Center\, 3125 County Road 74\, St. Cloud\, MN\, 56301\, United States
CATEGORIES:Prayer
ATTACH;FMTTYPE=image/png:https://jubileewc.org/wp-content/uploads/2020/12/Prayer-Night-Website-2.png
END:VEVENT
BEGIN:VEVENT
DTSTART;TZID=America/Chicago:20260513T180000
DTEND;TZID=America/Chicago:20260513T193000
DTSTAMP:20260421T035338
CREATED:20210910T233836Z
LAST-MODIFIED:20251113T193004Z
UID:19953-1778695200-1778700600@jubileewc.org
SUMMARY:Wednesday Night Kids Church
DESCRIPTION:Join us for Wednesday Night Kids Church with Stephanie Miller!\nThis is for all kids age 3 thru 6th grade (must be potty trained and out of diapers). \nWednesdays from 6:00 – 7:30 p.m. There will be a meal provided.
URL:https://jubileewc.org/event/wednesday-night-kids-ministry/2026-05-13/
LOCATION:Jubilee Worship Center\, 3125 County Road 74\, St. Cloud\, MN\, 56301\, United States
CATEGORIES:Jubilee Kids
ATTACH;FMTTYPE=image/png:https://jubileewc.org/wp-content/uploads/2021/09/Kids-Church-Website-2.png
END:VEVENT
BEGIN:VEVENT
DTSTART;TZID=America/Chicago:20260516T090000
DTEND;TZID=America/Chicago:20260516T103000
DTSTAMP:20260421T035338
CREATED:20220324T172953Z
LAST-MODIFIED:20260116T211526Z
UID:19562-1778922000-1778927400@jubileewc.org
SUMMARY:Men's Coffee
DESCRIPTION:All men are invited to join us for coffee (paid for by Jubilee)!\nEvery 3rd Saturday of the month \n9:00 – 10:30 am \nAt Caribou Coffee (outside Crossroads Mall) \nLet us know if you can make it. We hope to see you there! \n  \nSign up here.
URL:https://jubileewc.org/event/mens-coffee/2026-05-16/
LOCATION:Caribou Coffee\, 3940 Division St\, St. Cloud\, MN\, 56301\, United States
CATEGORIES:Men's Event
ATTACH;FMTTYPE=image/png:https://jubileewc.org/wp-content/uploads/2022/03/Mens-Coffee-Website.png
END:VEVENT
BEGIN:VEVENT
DTSTART;TZID=UTC:20260517T100000
DTEND;TZID=UTC:20260517T113000
DTSTAMP:20260421T035338
CREATED:20201005T211448Z
LAST-MODIFIED:20260319T200523Z
UID:19592-1779012000-1779017400@jubileewc.org
SUMMARY:Sunday Worship Service
DESCRIPTION:We invite you to be our guest at one of our Sunday morning Worship Services at 10:00 a.m.\nWe believe you will find Jubilee to be a friendly\, relational church\, full of life. Our services have a very expressive and contemporary style of worship and praise. Brace yourself\, because it may not be what you’re used to! \n  \nLivestream Link – Facebook \nLivestream Link – YouTube \nLivestream Link – Rumble \n  \n  \n 
URL:https://jubileewc.org/event/sunday-worship-service/2026-05-17/
LOCATION:Jubilee Sanctuary\, 3125 County Road 74\, St. Cloud\, MN\, 56301\, United States
CATEGORIES:Sunday Worship
ATTACH;FMTTYPE=image/png:https://jubileewc.org/wp-content/uploads/2020/10/Sunday-Worship-Service.png
END:VEVENT
BEGIN:VEVENT
DTSTART;TZID=America/Chicago:20260517T183000
DTEND;TZID=America/Chicago:20260517T200000
DTSTAMP:20260421T035338
CREATED:20240131T204839Z
LAST-MODIFIED:20260409T195157Z
UID:19694-1779042600-1779048000@jubileewc.org
SUMMARY:Temple Restorers
DESCRIPTION:Support group for Health\, Wellness & Weight Loss\nSundays at 6:30 p.m. on Zoom \nYou can join this group at any time. \nFor more info or to join this group\, contact us.
URL:https://jubileewc.org/event/temple-restorers/2026-05-17/
LOCATION:MN
CATEGORIES:Classes and Small Groups
ATTACH;FMTTYPE=image/png:https://jubileewc.org/wp-content/uploads/2024/01/Temple-Restorers-Website-1.png
END:VEVENT
BEGIN:VEVENT
DTSTART;TZID=America/Chicago:20260518T183000
DTEND;TZID=America/Chicago:20260518T200000
DTSTAMP:20260421T035338
CREATED:20240131T204210Z
LAST-MODIFIED:20240131T204210Z
UID:20380-1779129000-1779134400@jubileewc.org
SUMMARY:20s & 30s Bible Study Group
DESCRIPTION:If you are in your 20s or 30s you are invited to join our Bible Study Group!\nEvery other Monday at 6:30 p.m. \nThis group will meet at Ruth’s home. \nNote: There is no childcare. \nFor more info or to join this group\, contact us.
URL:https://jubileewc.org/event/20s-30s-bible-study-group/2026-05-18/
LOCATION:MN
CATEGORIES:Classes and Small Groups
ATTACH;FMTTYPE=image/png:https://jubileewc.org/wp-content/uploads/2024/01/20s-30s-Bible-Study-Website-1.png
END:VEVENT
BEGIN:VEVENT
DTSTART;TZID=America/Chicago:20260520T063000
DTEND;TZID=America/Chicago:20260520T073000
DTSTAMP:20260421T035338
CREATED:20221117T202648Z
LAST-MODIFIED:20260218T211311Z
UID:19791-1779258600-1779262200@jubileewc.org
SUMMARY:Wednesday Morning Prayer
DESCRIPTION:Join Pastor Mark every Wednesday morning at 6:30 a.m. in the Fireside Room for Morning Prayer!\nRe-center and refocus your week with prayer and encouragement\, lifting our church\, our families\, communities\, and nation up to God.
URL:https://jubileewc.org/event/wednesday-morning-prayer/2026-05-20/
LOCATION:Jubilee Worship Center\, 3125 County Road 74\, St. Cloud\, MN\, 56301\, United States
CATEGORIES:Prayer
ATTACH;FMTTYPE=image/png:https://jubileewc.org/wp-content/uploads/2022/11/Morning-Prayer-Website.png
END:VEVENT
END:VCALENDAR