BEGIN:VCALENDAR
VERSION:2.0
PRODID:-//Jubilee Worship Center - ECPv6.15.20//NONSGML v1.0//EN
CALSCALE:GREGORIAN
METHOD:PUBLISH
X-WR-CALNAME:Jubilee Worship Center
X-ORIGINAL-URL:https://jubileewc.org
X-WR-CALDESC:Events for Jubilee Worship Center
REFRESH-INTERVAL;VALUE=DURATION:PT1H
X-Robots-Tag:noindex
X-PUBLISHED-TTL:PT1H
BEGIN:VTIMEZONE
TZID:America/Chicago
BEGIN:DAYLIGHT
TZOFFSETFROM:-0600
TZOFFSETTO:-0500
TZNAME:CDT
DTSTART:20210314T080000
END:DAYLIGHT
BEGIN:STANDARD
TZOFFSETFROM:-0500
TZOFFSETTO:-0600
TZNAME:CST
DTSTART:20211107T070000
END:STANDARD
BEGIN:DAYLIGHT
TZOFFSETFROM:-0600
TZOFFSETTO:-0500
TZNAME:CDT
DTSTART:20220313T080000
END:DAYLIGHT
BEGIN:STANDARD
TZOFFSETFROM:-0500
TZOFFSETTO:-0600
TZNAME:CST
DTSTART:20221106T070000
END:STANDARD
BEGIN:DAYLIGHT
TZOFFSETFROM:-0600
TZOFFSETTO:-0500
TZNAME:CDT
DTSTART:20230312T080000
END:DAYLIGHT
BEGIN:STANDARD
TZOFFSETFROM:-0500
TZOFFSETTO:-0600
TZNAME:CST
DTSTART:20231105T070000
END:STANDARD
END:VTIMEZONE
BEGIN:VEVENT
DTSTART;TZID=America/Chicago:20220907T180000
DTEND;TZID=America/Chicago:20220907T210000
DTSTAMP:20260423T135114
CREATED:20220629T195429Z
LAST-MODIFIED:20220629T195437Z
UID:13248-1662573600-1662584400@jubileewc.org
SUMMARY:Backyard Bonfire
DESCRIPTION:You are warmly invited to a night of fun & hanging out!\nAt Pastor Mark & Becky’s home \nWe will provide hot dogs\, buns\, s’mores & beverages. Please bring a dish to share. \nEverybody is invited. Sign up below. \n  \nSign Up Here.
URL:https://jubileewc.org/event/backyard-bonfire-3/
LOCATION:Pastor Mark & Becky’s home
CATEGORIES:Backyard Bonfire
ATTACH;FMTTYPE=image/png:https://jubileewc.org/wp-content/uploads/2022/06/September-Backyard-Bonfire-FB.png
END:VEVENT
END:VCALENDAR