BEGIN:VCALENDAR
VERSION:2.0
PRODID:-//Jubilee Worship Center - ECPv6.15.20//NONSGML v1.0//EN
CALSCALE:GREGORIAN
METHOD:PUBLISH
X-WR-CALNAME:Jubilee Worship Center
X-ORIGINAL-URL:https://jubileewc.org
X-WR-CALDESC:Events for Jubilee Worship Center
REFRESH-INTERVAL;VALUE=DURATION:PT1H
X-Robots-Tag:noindex
X-PUBLISHED-TTL:PT1H
BEGIN:VTIMEZONE
TZID:America/Chicago
BEGIN:DAYLIGHT
TZOFFSETFROM:-0600
TZOFFSETTO:-0500
TZNAME:CDT
DTSTART:20220313T080000
END:DAYLIGHT
BEGIN:STANDARD
TZOFFSETFROM:-0500
TZOFFSETTO:-0600
TZNAME:CST
DTSTART:20221106T070000
END:STANDARD
BEGIN:DAYLIGHT
TZOFFSETFROM:-0600
TZOFFSETTO:-0500
TZNAME:CDT
DTSTART:20230312T080000
END:DAYLIGHT
BEGIN:STANDARD
TZOFFSETFROM:-0500
TZOFFSETTO:-0600
TZNAME:CST
DTSTART:20231105T070000
END:STANDARD
BEGIN:DAYLIGHT
TZOFFSETFROM:-0600
TZOFFSETTO:-0500
TZNAME:CDT
DTSTART:20240310T080000
END:DAYLIGHT
BEGIN:STANDARD
TZOFFSETFROM:-0500
TZOFFSETTO:-0600
TZNAME:CST
DTSTART:20241103T070000
END:STANDARD
END:VTIMEZONE
BEGIN:VEVENT
DTSTART;TZID=America/Chicago:20230607T180000
DTEND;TZID=America/Chicago:20230607T200000
DTSTAMP:20260422T225352
CREATED:20230504T184233Z
LAST-MODIFIED:20230511T182138Z
UID:14857-1686160800-1686168000@jubileewc.org
SUMMARY:June Backyard Bonfire
DESCRIPTION:You are warmly invited to a night of fun & hanging out!\nAt Pastor Mark & Becky’s home \nWednesday\, June 7th from 6:00 – 8:00 p.m. \nWe will provide hot dogs\, buns\, s’mores & beverages. Please bring a dish to share. \nEverybody is invited. Sign up below. \n  \nSign Up Here.
URL:https://jubileewc.org/event/june-backyard-bonfire/
LOCATION:Pastor Mark & Becky’s home
CATEGORIES:Backyard Bonfire
ATTACH;FMTTYPE=image/png:https://jubileewc.org/wp-content/uploads/2023/05/41C4E405-DEB4-481C-80A5-0AADF0E332A3.png
END:VEVENT
END:VCALENDAR