BEGIN:VCALENDAR
VERSION:2.0
PRODID:-//Jubilee Worship Center - ECPv6.15.20//NONSGML v1.0//EN
CALSCALE:GREGORIAN
METHOD:PUBLISH
X-ORIGINAL-URL:https://jubileewc.org
X-WR-CALDESC:Events for Jubilee Worship Center
REFRESH-INTERVAL;VALUE=DURATION:PT1H
X-Robots-Tag:noindex
X-PUBLISHED-TTL:PT1H
BEGIN:VTIMEZONE
TZID:America/Chicago
BEGIN:DAYLIGHT
TZOFFSETFROM:-0600
TZOFFSETTO:-0500
TZNAME:CDT
DTSTART:20240310T080000
END:DAYLIGHT
BEGIN:STANDARD
TZOFFSETFROM:-0500
TZOFFSETTO:-0600
TZNAME:CST
DTSTART:20241103T070000
END:STANDARD
BEGIN:DAYLIGHT
TZOFFSETFROM:-0600
TZOFFSETTO:-0500
TZNAME:CDT
DTSTART:20250309T080000
END:DAYLIGHT
BEGIN:STANDARD
TZOFFSETFROM:-0500
TZOFFSETTO:-0600
TZNAME:CST
DTSTART:20251102T070000
END:STANDARD
BEGIN:DAYLIGHT
TZOFFSETFROM:-0600
TZOFFSETTO:-0500
TZNAME:CDT
DTSTART:20260308T080000
END:DAYLIGHT
BEGIN:STANDARD
TZOFFSETFROM:-0500
TZOFFSETTO:-0600
TZNAME:CST
DTSTART:20261101T070000
END:STANDARD
END:VTIMEZONE
BEGIN:VEVENT
DTSTART;TZID=America/Chicago:20251005T090000
DTEND;TZID=America/Chicago:20251005T100000
DTSTAMP:20260424T164620
CREATED:20250912T191129Z
LAST-MODIFIED:20251010T021701Z
UID:19370-1759654800-1759658400@jubileewc.org
SUMMARY:Class: Cultivating a Heart of Generosity
DESCRIPTION:Join us for a Sunday morning class: “Cultivating a Heart of Generosity”!\nSundays from 9:00 – 9:45 a.m. starting September 21st in the Jubilee main office area \nFacilitated by MaryAnne Block \nLet us know if you would like to join this class. Email us.
URL:https://jubileewc.org/event/class-cultivating-a-heart-of-generosity/2025-10-05/
LOCATION:Jubilee Worship Center\, 3125 County Road 74\, St. Cloud\, MN\, 56301\, United States
CATEGORIES:Bible Class,Classes and Small Groups
ATTACH;FMTTYPE=image/png:https://jubileewc.org/wp-content/uploads/2025/09/Generosity-Class-Website.png
END:VEVENT
BEGIN:VEVENT
DTSTART;TZID=America/Chicago:20251005T183000
DTEND;TZID=America/Chicago:20251005T200000
DTSTAMP:20260424T164620
CREATED:20240131T204839Z
LAST-MODIFIED:20260409T195102Z
UID:18252-1759689000-1759694400@jubileewc.org
SUMMARY:Temple Restorers
DESCRIPTION:Support group for Health\, Wellness & Weight Loss\nSundays at 6:30 p.m. on Zoom \nYou can join this group at any time. \nFor more info or to join this group\, contact us.
URL:https://jubileewc.org/event/temple-restorers/2025-10-05/
LOCATION:MN
CATEGORIES:Classes and Small Groups
ATTACH;FMTTYPE=image/png:https://jubileewc.org/wp-content/uploads/2024/01/Temple-Restorers-Website-1.png
END:VEVENT
BEGIN:VEVENT
DTSTART;TZID=America/Chicago:20251012T090000
DTEND;TZID=America/Chicago:20251012T100000
DTSTAMP:20260424T164620
CREATED:20250912T191129Z
LAST-MODIFIED:20251010T021703Z
UID:19371-1760259600-1760263200@jubileewc.org
SUMMARY:Class: Cultivating a Heart of Generosity
DESCRIPTION:Join us for a Sunday morning class: “Cultivating a Heart of Generosity”!\nSundays from 9:00 – 9:45 a.m. starting September 21st in the Jubilee main office area \nFacilitated by MaryAnne Block \nLet us know if you would like to join this class. Email us.
URL:https://jubileewc.org/event/class-cultivating-a-heart-of-generosity/2025-10-12/
LOCATION:Jubilee Worship Center\, 3125 County Road 74\, St. Cloud\, MN\, 56301\, United States
CATEGORIES:Bible Class,Classes and Small Groups
ATTACH;FMTTYPE=image/png:https://jubileewc.org/wp-content/uploads/2025/09/Generosity-Class-Website.png
END:VEVENT
BEGIN:VEVENT
DTSTART;TZID=America/Chicago:20251012T183000
DTEND;TZID=America/Chicago:20251012T200000
DTSTAMP:20260424T164620
CREATED:20240131T204839Z
LAST-MODIFIED:20260409T195104Z
UID:18253-1760293800-1760299200@jubileewc.org
SUMMARY:Temple Restorers
DESCRIPTION:Support group for Health\, Wellness & Weight Loss\nSundays at 6:30 p.m. on Zoom \nYou can join this group at any time. \nFor more info or to join this group\, contact us.
URL:https://jubileewc.org/event/temple-restorers/2025-10-12/
LOCATION:MN
CATEGORIES:Classes and Small Groups
ATTACH;FMTTYPE=image/png:https://jubileewc.org/wp-content/uploads/2024/01/Temple-Restorers-Website-1.png
END:VEVENT
BEGIN:VEVENT
DTSTART;TZID=America/Chicago:20251019T183000
DTEND;TZID=America/Chicago:20251019T200000
DTSTAMP:20260424T164620
CREATED:20240131T204839Z
LAST-MODIFIED:20260409T195105Z
UID:18254-1760898600-1760904000@jubileewc.org
SUMMARY:Temple Restorers
DESCRIPTION:Support group for Health\, Wellness & Weight Loss\nSundays at 6:30 p.m. on Zoom \nYou can join this group at any time. \nFor more info or to join this group\, contact us.
URL:https://jubileewc.org/event/temple-restorers/2025-10-19/
LOCATION:MN
CATEGORIES:Classes and Small Groups
ATTACH;FMTTYPE=image/png:https://jubileewc.org/wp-content/uploads/2024/01/Temple-Restorers-Website-1.png
END:VEVENT
BEGIN:VEVENT
DTSTART;TZID=America/Chicago:20251026T183000
DTEND;TZID=America/Chicago:20251026T200000
DTSTAMP:20260424T164620
CREATED:20240131T204839Z
LAST-MODIFIED:20260409T195107Z
UID:18255-1761503400-1761508800@jubileewc.org
SUMMARY:Temple Restorers
DESCRIPTION:Support group for Health\, Wellness & Weight Loss\nSundays at 6:30 p.m. on Zoom \nYou can join this group at any time. \nFor more info or to join this group\, contact us.
URL:https://jubileewc.org/event/temple-restorers/2025-10-26/
LOCATION:MN
CATEGORIES:Classes and Small Groups
ATTACH;FMTTYPE=image/png:https://jubileewc.org/wp-content/uploads/2024/01/Temple-Restorers-Website-1.png
END:VEVENT
END:VCALENDAR