BEGIN:VCALENDAR
VERSION:2.0
PRODID:-//Jubilee Worship Center - ECPv6.15.20//NONSGML v1.0//EN
CALSCALE:GREGORIAN
METHOD:PUBLISH
X-WR-CALNAME:Jubilee Worship Center
X-ORIGINAL-URL:https://jubileewc.org
X-WR-CALDESC:Events for Jubilee Worship Center
REFRESH-INTERVAL;VALUE=DURATION:PT1H
X-Robots-Tag:noindex
X-PUBLISHED-TTL:PT1H
BEGIN:VTIMEZONE
TZID:America/Chicago
BEGIN:DAYLIGHT
TZOFFSETFROM:-0600
TZOFFSETTO:-0500
TZNAME:CDT
DTSTART:20250309T080000
END:DAYLIGHT
BEGIN:STANDARD
TZOFFSETFROM:-0500
TZOFFSETTO:-0600
TZNAME:CST
DTSTART:20251102T070000
END:STANDARD
BEGIN:DAYLIGHT
TZOFFSETFROM:-0600
TZOFFSETTO:-0500
TZNAME:CDT
DTSTART:20260308T080000
END:DAYLIGHT
BEGIN:STANDARD
TZOFFSETFROM:-0500
TZOFFSETTO:-0600
TZNAME:CST
DTSTART:20261101T070000
END:STANDARD
BEGIN:DAYLIGHT
TZOFFSETFROM:-0600
TZOFFSETTO:-0500
TZNAME:CDT
DTSTART:20270314T080000
END:DAYLIGHT
BEGIN:STANDARD
TZOFFSETFROM:-0500
TZOFFSETTO:-0600
TZNAME:CST
DTSTART:20271107T070000
END:STANDARD
END:VTIMEZONE
BEGIN:VEVENT
DTSTART;TZID=America/Chicago:20260601T183000
DTEND;TZID=America/Chicago:20260601T200000
DTSTAMP:20260424T094236
CREATED:20240131T204210Z
LAST-MODIFIED:20240131T204210Z
UID:20381-1780338600-1780344000@jubileewc.org
SUMMARY:20s & 30s Bible Study Group
DESCRIPTION:If you are in your 20s or 30s you are invited to join our Bible Study Group!\nEvery other Monday at 6:30 p.m. \nThis group will meet at Ruth’s home. \nNote: There is no childcare. \nFor more info or to join this group\, contact us.
URL:https://jubileewc.org/event/20s-30s-bible-study-group/2026-06-01/
LOCATION:MN
CATEGORIES:Classes and Small Groups
ATTACH;FMTTYPE=image/png:https://jubileewc.org/wp-content/uploads/2024/01/20s-30s-Bible-Study-Website-1.png
END:VEVENT
BEGIN:VEVENT
DTSTART;TZID=America/Chicago:20260607T183000
DTEND;TZID=America/Chicago:20260607T200000
DTSTAMP:20260424T094236
CREATED:20240131T204839Z
LAST-MODIFIED:20260409T195202Z
UID:19697-1780857000-1780862400@jubileewc.org
SUMMARY:Temple Restorers
DESCRIPTION:Support group for Health\, Wellness & Weight Loss\nSundays at 6:30 p.m. on Zoom \nYou can join this group at any time. \nFor more info or to join this group\, contact us.
URL:https://jubileewc.org/event/temple-restorers/2026-06-07/
LOCATION:MN
CATEGORIES:Classes and Small Groups
ATTACH;FMTTYPE=image/png:https://jubileewc.org/wp-content/uploads/2024/01/Temple-Restorers-Website-1.png
END:VEVENT
BEGIN:VEVENT
DTSTART;TZID=America/Chicago:20260614T183000
DTEND;TZID=America/Chicago:20260614T200000
DTSTAMP:20260424T094236
CREATED:20240131T204839Z
LAST-MODIFIED:20260409T195204Z
UID:19698-1781461800-1781467200@jubileewc.org
SUMMARY:Temple Restorers
DESCRIPTION:Support group for Health\, Wellness & Weight Loss\nSundays at 6:30 p.m. on Zoom \nYou can join this group at any time. \nFor more info or to join this group\, contact us.
URL:https://jubileewc.org/event/temple-restorers/2026-06-14/
LOCATION:MN
CATEGORIES:Classes and Small Groups
ATTACH;FMTTYPE=image/png:https://jubileewc.org/wp-content/uploads/2024/01/Temple-Restorers-Website-1.png
END:VEVENT
BEGIN:VEVENT
DTSTART;TZID=America/Chicago:20260615T183000
DTEND;TZID=America/Chicago:20260615T200000
DTSTAMP:20260424T094236
CREATED:20240131T204210Z
LAST-MODIFIED:20240131T204210Z
UID:20382-1781548200-1781553600@jubileewc.org
SUMMARY:20s & 30s Bible Study Group
DESCRIPTION:If you are in your 20s or 30s you are invited to join our Bible Study Group!\nEvery other Monday at 6:30 p.m. \nThis group will meet at Ruth’s home. \nNote: There is no childcare. \nFor more info or to join this group\, contact us.
URL:https://jubileewc.org/event/20s-30s-bible-study-group/2026-06-15/
LOCATION:MN
CATEGORIES:Classes and Small Groups
ATTACH;FMTTYPE=image/png:https://jubileewc.org/wp-content/uploads/2024/01/20s-30s-Bible-Study-Website-1.png
END:VEVENT
BEGIN:VEVENT
DTSTART;TZID=America/Chicago:20260621T183000
DTEND;TZID=America/Chicago:20260621T200000
DTSTAMP:20260424T094236
CREATED:20240131T204839Z
LAST-MODIFIED:20260409T195205Z
UID:19699-1782066600-1782072000@jubileewc.org
SUMMARY:Temple Restorers
DESCRIPTION:Support group for Health\, Wellness & Weight Loss\nSundays at 6:30 p.m. on Zoom \nYou can join this group at any time. \nFor more info or to join this group\, contact us.
URL:https://jubileewc.org/event/temple-restorers/2026-06-21/
LOCATION:MN
CATEGORIES:Classes and Small Groups
ATTACH;FMTTYPE=image/png:https://jubileewc.org/wp-content/uploads/2024/01/Temple-Restorers-Website-1.png
END:VEVENT
BEGIN:VEVENT
DTSTART;TZID=America/Chicago:20260628T183000
DTEND;TZID=America/Chicago:20260628T200000
DTSTAMP:20260424T094236
CREATED:20240131T204839Z
LAST-MODIFIED:20260409T195207Z
UID:19700-1782671400-1782676800@jubileewc.org
SUMMARY:Temple Restorers
DESCRIPTION:Support group for Health\, Wellness & Weight Loss\nSundays at 6:30 p.m. on Zoom \nYou can join this group at any time. \nFor more info or to join this group\, contact us.
URL:https://jubileewc.org/event/temple-restorers/2026-06-28/
LOCATION:MN
CATEGORIES:Classes and Small Groups
ATTACH;FMTTYPE=image/png:https://jubileewc.org/wp-content/uploads/2024/01/Temple-Restorers-Website-1.png
END:VEVENT
BEGIN:VEVENT
DTSTART;TZID=America/Chicago:20260629T183000
DTEND;TZID=America/Chicago:20260629T200000
DTSTAMP:20260424T094236
CREATED:20240131T204210Z
LAST-MODIFIED:20240131T204210Z
UID:20383-1782757800-1782763200@jubileewc.org
SUMMARY:20s & 30s Bible Study Group
DESCRIPTION:If you are in your 20s or 30s you are invited to join our Bible Study Group!\nEvery other Monday at 6:30 p.m. \nThis group will meet at Ruth’s home. \nNote: There is no childcare. \nFor more info or to join this group\, contact us.
URL:https://jubileewc.org/event/20s-30s-bible-study-group/2026-06-29/
LOCATION:MN
CATEGORIES:Classes and Small Groups
ATTACH;FMTTYPE=image/png:https://jubileewc.org/wp-content/uploads/2024/01/20s-30s-Bible-Study-Website-1.png
END:VEVENT
END:VCALENDAR