BEGIN:VCALENDAR
VERSION:2.0
PRODID:-//Jubilee Worship Center - ECPv6.15.20//NONSGML v1.0//EN
CALSCALE:GREGORIAN
METHOD:PUBLISH
X-WR-CALNAME:Jubilee Worship Center
X-ORIGINAL-URL:https://jubileewc.org
X-WR-CALDESC:Events for Jubilee Worship Center
REFRESH-INTERVAL;VALUE=DURATION:PT1H
X-Robots-Tag:noindex
X-PUBLISHED-TTL:PT1H
BEGIN:VTIMEZONE
TZID:America/Chicago
BEGIN:DAYLIGHT
TZOFFSETFROM:-0600
TZOFFSETTO:-0500
TZNAME:CDT
DTSTART:20250309T080000
END:DAYLIGHT
BEGIN:STANDARD
TZOFFSETFROM:-0500
TZOFFSETTO:-0600
TZNAME:CST
DTSTART:20251102T070000
END:STANDARD
BEGIN:DAYLIGHT
TZOFFSETFROM:-0600
TZOFFSETTO:-0500
TZNAME:CDT
DTSTART:20260308T080000
END:DAYLIGHT
BEGIN:STANDARD
TZOFFSETFROM:-0500
TZOFFSETTO:-0600
TZNAME:CST
DTSTART:20261101T070000
END:STANDARD
BEGIN:DAYLIGHT
TZOFFSETFROM:-0600
TZOFFSETTO:-0500
TZNAME:CDT
DTSTART:20270314T080000
END:DAYLIGHT
BEGIN:STANDARD
TZOFFSETFROM:-0500
TZOFFSETTO:-0600
TZNAME:CST
DTSTART:20271107T070000
END:STANDARD
END:VTIMEZONE
BEGIN:VEVENT
DTSTART;TZID=America/Chicago:20261004T183000
DTEND;TZID=America/Chicago:20261004T200000
DTSTAMP:20260424T162418
CREATED:20240131T204839Z
LAST-MODIFIED:20260409T195230Z
UID:19714-1791138600-1791144000@jubileewc.org
SUMMARY:Temple Restorers
DESCRIPTION:Support group for Health\, Wellness & Weight Loss\nSundays at 6:30 p.m. on Zoom \nYou can join this group at any time. \nFor more info or to join this group\, contact us.
URL:https://jubileewc.org/event/temple-restorers/2026-10-04/
LOCATION:MN
CATEGORIES:Classes and Small Groups
ATTACH;FMTTYPE=image/png:https://jubileewc.org/wp-content/uploads/2024/01/Temple-Restorers-Website-1.png
END:VEVENT
BEGIN:VEVENT
DTSTART;TZID=America/Chicago:20261005T183000
DTEND;TZID=America/Chicago:20261005T200000
DTSTAMP:20260424T162418
CREATED:20240131T204210Z
LAST-MODIFIED:20240131T204210Z
UID:20390-1791225000-1791230400@jubileewc.org
SUMMARY:20s & 30s Bible Study Group
DESCRIPTION:If you are in your 20s or 30s you are invited to join our Bible Study Group!\nEvery other Monday at 6:30 p.m. \nThis group will meet at Ruth’s home. \nNote: There is no childcare. \nFor more info or to join this group\, contact us.
URL:https://jubileewc.org/event/20s-30s-bible-study-group/2026-10-05/
LOCATION:MN
CATEGORIES:Classes and Small Groups
ATTACH;FMTTYPE=image/png:https://jubileewc.org/wp-content/uploads/2024/01/20s-30s-Bible-Study-Website-1.png
END:VEVENT
BEGIN:VEVENT
DTSTART;TZID=America/Chicago:20261011T183000
DTEND;TZID=America/Chicago:20261011T200000
DTSTAMP:20260424T162418
CREATED:20240131T204839Z
LAST-MODIFIED:20260409T195232Z
UID:19715-1791743400-1791748800@jubileewc.org
SUMMARY:Temple Restorers
DESCRIPTION:Support group for Health\, Wellness & Weight Loss\nSundays at 6:30 p.m. on Zoom \nYou can join this group at any time. \nFor more info or to join this group\, contact us.
URL:https://jubileewc.org/event/temple-restorers/2026-10-11/
LOCATION:MN
CATEGORIES:Classes and Small Groups
ATTACH;FMTTYPE=image/png:https://jubileewc.org/wp-content/uploads/2024/01/Temple-Restorers-Website-1.png
END:VEVENT
BEGIN:VEVENT
DTSTART;TZID=America/Chicago:20261018T183000
DTEND;TZID=America/Chicago:20261018T200000
DTSTAMP:20260424T162418
CREATED:20240131T204839Z
LAST-MODIFIED:20260409T195233Z
UID:19716-1792348200-1792353600@jubileewc.org
SUMMARY:Temple Restorers
DESCRIPTION:Support group for Health\, Wellness & Weight Loss\nSundays at 6:30 p.m. on Zoom \nYou can join this group at any time. \nFor more info or to join this group\, contact us.
URL:https://jubileewc.org/event/temple-restorers/2026-10-18/
LOCATION:MN
CATEGORIES:Classes and Small Groups
ATTACH;FMTTYPE=image/png:https://jubileewc.org/wp-content/uploads/2024/01/Temple-Restorers-Website-1.png
END:VEVENT
BEGIN:VEVENT
DTSTART;TZID=America/Chicago:20261019T183000
DTEND;TZID=America/Chicago:20261019T200000
DTSTAMP:20260424T162418
CREATED:20240131T204210Z
LAST-MODIFIED:20240131T204210Z
UID:20391-1792434600-1792440000@jubileewc.org
SUMMARY:20s & 30s Bible Study Group
DESCRIPTION:If you are in your 20s or 30s you are invited to join our Bible Study Group!\nEvery other Monday at 6:30 p.m. \nThis group will meet at Ruth’s home. \nNote: There is no childcare. \nFor more info or to join this group\, contact us.
URL:https://jubileewc.org/event/20s-30s-bible-study-group/2026-10-19/
LOCATION:MN
CATEGORIES:Classes and Small Groups
ATTACH;FMTTYPE=image/png:https://jubileewc.org/wp-content/uploads/2024/01/20s-30s-Bible-Study-Website-1.png
END:VEVENT
BEGIN:VEVENT
DTSTART;TZID=America/Chicago:20261025T183000
DTEND;TZID=America/Chicago:20261025T200000
DTSTAMP:20260424T162418
CREATED:20240131T204839Z
LAST-MODIFIED:20260409T195236Z
UID:19717-1792953000-1792958400@jubileewc.org
SUMMARY:Temple Restorers
DESCRIPTION:Support group for Health\, Wellness & Weight Loss\nSundays at 6:30 p.m. on Zoom \nYou can join this group at any time. \nFor more info or to join this group\, contact us.
URL:https://jubileewc.org/event/temple-restorers/2026-10-25/
LOCATION:MN
CATEGORIES:Classes and Small Groups
ATTACH;FMTTYPE=image/png:https://jubileewc.org/wp-content/uploads/2024/01/Temple-Restorers-Website-1.png
END:VEVENT
END:VCALENDAR