BEGIN:VCALENDAR
VERSION:2.0
PRODID:-//Jubilee Worship Center - ECPv6.15.20//NONSGML v1.0//EN
CALSCALE:GREGORIAN
METHOD:PUBLISH
X-ORIGINAL-URL:https://jubileewc.org
X-WR-CALDESC:Events for Jubilee Worship Center
REFRESH-INTERVAL;VALUE=DURATION:PT1H
X-Robots-Tag:noindex
X-PUBLISHED-TTL:PT1H
BEGIN:VTIMEZONE
TZID:America/Chicago
BEGIN:DAYLIGHT
TZOFFSETFROM:-0600
TZOFFSETTO:-0500
TZNAME:CDT
DTSTART:20240310T080000
END:DAYLIGHT
BEGIN:STANDARD
TZOFFSETFROM:-0500
TZOFFSETTO:-0600
TZNAME:CST
DTSTART:20241103T070000
END:STANDARD
BEGIN:DAYLIGHT
TZOFFSETFROM:-0600
TZOFFSETTO:-0500
TZNAME:CDT
DTSTART:20250309T080000
END:DAYLIGHT
BEGIN:STANDARD
TZOFFSETFROM:-0500
TZOFFSETTO:-0600
TZNAME:CST
DTSTART:20251102T070000
END:STANDARD
BEGIN:DAYLIGHT
TZOFFSETFROM:-0600
TZOFFSETTO:-0500
TZNAME:CDT
DTSTART:20260308T080000
END:DAYLIGHT
BEGIN:STANDARD
TZOFFSETFROM:-0500
TZOFFSETTO:-0600
TZNAME:CST
DTSTART:20261101T070000
END:STANDARD
BEGIN:DAYLIGHT
TZOFFSETFROM:-0600
TZOFFSETTO:-0500
TZNAME:CDT
DTSTART:20270314T080000
END:DAYLIGHT
BEGIN:STANDARD
TZOFFSETFROM:-0500
TZOFFSETTO:-0600
TZNAME:CST
DTSTART:20271107T070000
END:STANDARD
END:VTIMEZONE
BEGIN:VEVENT
DTSTART;TZID=America/Chicago:20260420T183000
DTEND;TZID=America/Chicago:20260420T200000
DTSTAMP:20260424T063600
CREATED:20240131T204210Z
LAST-MODIFIED:20240131T204210Z
UID:20378-1776709800-1776715200@jubileewc.org
SUMMARY:20s & 30s Bible Study Group
DESCRIPTION:If you are in your 20s or 30s you are invited to join our Bible Study Group!\nEvery other Monday at 6:30 p.m. \nThis group will meet at Ruth’s home. \nNote: There is no childcare. \nFor more info or to join this group\, contact us.
URL:https://jubileewc.org/event/20s-30s-bible-study-group/2026-04-20/
LOCATION:MN
CATEGORIES:Classes and Small Groups
ATTACH;FMTTYPE=image/png:https://jubileewc.org/wp-content/uploads/2024/01/20s-30s-Bible-Study-Website-1.png
END:VEVENT
BEGIN:VEVENT
DTSTART;TZID=America/Chicago:20260419T183000
DTEND;TZID=America/Chicago:20260419T200000
DTSTAMP:20260424T063600
CREATED:20240131T204839Z
LAST-MODIFIED:20260409T195151Z
UID:19690-1776623400-1776628800@jubileewc.org
SUMMARY:Temple Restorers
DESCRIPTION:Support group for Health\, Wellness & Weight Loss\nSundays at 6:30 p.m. on Zoom \nYou can join this group at any time. \nFor more info or to join this group\, contact us.
URL:https://jubileewc.org/event/temple-restorers/2026-04-19/
LOCATION:MN
CATEGORIES:Classes and Small Groups
ATTACH;FMTTYPE=image/png:https://jubileewc.org/wp-content/uploads/2024/01/Temple-Restorers-Website-1.png
END:VEVENT
BEGIN:VEVENT
DTSTART;TZID=America/Chicago:20260412T183000
DTEND;TZID=America/Chicago:20260412T200000
DTSTAMP:20260424T063600
CREATED:20240131T204839Z
LAST-MODIFIED:20260409T195149Z
UID:19689-1776018600-1776024000@jubileewc.org
SUMMARY:Temple Restorers
DESCRIPTION:Support group for Health\, Wellness & Weight Loss\nSundays at 6:30 p.m. on Zoom \nYou can join this group at any time. \nFor more info or to join this group\, contact us.
URL:https://jubileewc.org/event/temple-restorers/2026-04-12/
LOCATION:MN
CATEGORIES:Classes and Small Groups
ATTACH;FMTTYPE=image/png:https://jubileewc.org/wp-content/uploads/2024/01/Temple-Restorers-Website-1.png
END:VEVENT
BEGIN:VEVENT
DTSTART;TZID=America/Chicago:20260406T183000
DTEND;TZID=America/Chicago:20260406T200000
DTSTAMP:20260424T063600
CREATED:20240131T204210Z
LAST-MODIFIED:20240131T204210Z
UID:20377-1775500200-1775505600@jubileewc.org
SUMMARY:20s & 30s Bible Study Group
DESCRIPTION:If you are in your 20s or 30s you are invited to join our Bible Study Group!\nEvery other Monday at 6:30 p.m. \nThis group will meet at Ruth’s home. \nNote: There is no childcare. \nFor more info or to join this group\, contact us.
URL:https://jubileewc.org/event/20s-30s-bible-study-group/2026-04-06/
LOCATION:MN
CATEGORIES:Classes and Small Groups
ATTACH;FMTTYPE=image/png:https://jubileewc.org/wp-content/uploads/2024/01/20s-30s-Bible-Study-Website-1.png
END:VEVENT
BEGIN:VEVENT
DTSTART;TZID=America/Chicago:20260405T183000
DTEND;TZID=America/Chicago:20260405T200000
DTSTAMP:20260424T063600
CREATED:20240131T204839Z
LAST-MODIFIED:20260409T195148Z
UID:19688-1775413800-1775419200@jubileewc.org
SUMMARY:Temple Restorers
DESCRIPTION:Support group for Health\, Wellness & Weight Loss\nSundays at 6:30 p.m. on Zoom \nYou can join this group at any time. \nFor more info or to join this group\, contact us.
URL:https://jubileewc.org/event/temple-restorers/2026-04-05/
LOCATION:MN
CATEGORIES:Classes and Small Groups
ATTACH;FMTTYPE=image/png:https://jubileewc.org/wp-content/uploads/2024/01/Temple-Restorers-Website-1.png
END:VEVENT
BEGIN:VEVENT
DTSTART;TZID=America/Chicago:20260329T183000
DTEND;TZID=America/Chicago:20260329T200000
DTSTAMP:20260424T063600
CREATED:20240131T204839Z
LAST-MODIFIED:20260409T195146Z
UID:19687-1774809000-1774814400@jubileewc.org
SUMMARY:Temple Restorers
DESCRIPTION:Support group for Health\, Wellness & Weight Loss\nSundays at 6:30 p.m. on Zoom \nYou can join this group at any time. \nFor more info or to join this group\, contact us.
URL:https://jubileewc.org/event/temple-restorers/2026-03-29/
LOCATION:MN
CATEGORIES:Classes and Small Groups
ATTACH;FMTTYPE=image/png:https://jubileewc.org/wp-content/uploads/2024/01/Temple-Restorers-Website-1.png
END:VEVENT
BEGIN:VEVENT
DTSTART;TZID=America/Chicago:20260323T183000
DTEND;TZID=America/Chicago:20260323T200000
DTSTAMP:20260424T063600
CREATED:20240131T204210Z
LAST-MODIFIED:20240131T204210Z
UID:20376-1774290600-1774296000@jubileewc.org
SUMMARY:20s & 30s Bible Study Group
DESCRIPTION:If you are in your 20s or 30s you are invited to join our Bible Study Group!\nEvery other Monday at 6:30 p.m. \nThis group will meet at Ruth’s home. \nNote: There is no childcare. \nFor more info or to join this group\, contact us.
URL:https://jubileewc.org/event/20s-30s-bible-study-group/2026-03-23/
LOCATION:MN
CATEGORIES:Classes and Small Groups
ATTACH;FMTTYPE=image/png:https://jubileewc.org/wp-content/uploads/2024/01/20s-30s-Bible-Study-Website-1.png
END:VEVENT
BEGIN:VEVENT
DTSTART;TZID=America/Chicago:20260322T183000
DTEND;TZID=America/Chicago:20260322T200000
DTSTAMP:20260424T063600
CREATED:20240131T204839Z
LAST-MODIFIED:20260409T195142Z
UID:19686-1774204200-1774209600@jubileewc.org
SUMMARY:Temple Restorers
DESCRIPTION:Support group for Health\, Wellness & Weight Loss\nSundays at 6:30 p.m. on Zoom \nYou can join this group at any time. \nFor more info or to join this group\, contact us.
URL:https://jubileewc.org/event/temple-restorers/2026-03-22/
LOCATION:MN
CATEGORIES:Classes and Small Groups
ATTACH;FMTTYPE=image/png:https://jubileewc.org/wp-content/uploads/2024/01/Temple-Restorers-Website-1.png
END:VEVENT
BEGIN:VEVENT
DTSTART;TZID=America/Chicago:20260315T183000
DTEND;TZID=America/Chicago:20260315T200000
DTSTAMP:20260424T063600
CREATED:20240131T204839Z
LAST-MODIFIED:20260409T195141Z
UID:19685-1773599400-1773604800@jubileewc.org
SUMMARY:Temple Restorers
DESCRIPTION:Support group for Health\, Wellness & Weight Loss\nSundays at 6:30 p.m. on Zoom \nYou can join this group at any time. \nFor more info or to join this group\, contact us.
URL:https://jubileewc.org/event/temple-restorers/2026-03-15/
LOCATION:MN
CATEGORIES:Classes and Small Groups
ATTACH;FMTTYPE=image/png:https://jubileewc.org/wp-content/uploads/2024/01/Temple-Restorers-Website-1.png
END:VEVENT
BEGIN:VEVENT
DTSTART;TZID=America/Chicago:20260309T183000
DTEND;TZID=America/Chicago:20260309T200000
DTSTAMP:20260424T063600
CREATED:20240131T204210Z
LAST-MODIFIED:20240131T204210Z
UID:20375-1773081000-1773086400@jubileewc.org
SUMMARY:20s & 30s Bible Study Group
DESCRIPTION:If you are in your 20s or 30s you are invited to join our Bible Study Group!\nEvery other Monday at 6:30 p.m. \nThis group will meet at Ruth’s home. \nNote: There is no childcare. \nFor more info or to join this group\, contact us.
URL:https://jubileewc.org/event/20s-30s-bible-study-group/2026-03-09/
LOCATION:MN
CATEGORIES:Classes and Small Groups
ATTACH;FMTTYPE=image/png:https://jubileewc.org/wp-content/uploads/2024/01/20s-30s-Bible-Study-Website-1.png
END:VEVENT
BEGIN:VEVENT
DTSTART;TZID=America/Chicago:20260308T183000
DTEND;TZID=America/Chicago:20260308T200000
DTSTAMP:20260424T063600
CREATED:20240131T204839Z
LAST-MODIFIED:20260409T195139Z
UID:19684-1772994600-1773000000@jubileewc.org
SUMMARY:Temple Restorers
DESCRIPTION:Support group for Health\, Wellness & Weight Loss\nSundays at 6:30 p.m. on Zoom \nYou can join this group at any time. \nFor more info or to join this group\, contact us.
URL:https://jubileewc.org/event/temple-restorers/2026-03-08/
LOCATION:MN
CATEGORIES:Classes and Small Groups
ATTACH;FMTTYPE=image/png:https://jubileewc.org/wp-content/uploads/2024/01/Temple-Restorers-Website-1.png
END:VEVENT
BEGIN:VEVENT
DTSTART;TZID=America/Chicago:20260301T183000
DTEND;TZID=America/Chicago:20260301T200000
DTSTAMP:20260424T063600
CREATED:20240131T204839Z
LAST-MODIFIED:20260409T195138Z
UID:19683-1772389800-1772395200@jubileewc.org
SUMMARY:Temple Restorers
DESCRIPTION:Support group for Health\, Wellness & Weight Loss\nSundays at 6:30 p.m. on Zoom \nYou can join this group at any time. \nFor more info or to join this group\, contact us.
URL:https://jubileewc.org/event/temple-restorers/2026-03-01/
LOCATION:MN
CATEGORIES:Classes and Small Groups
ATTACH;FMTTYPE=image/png:https://jubileewc.org/wp-content/uploads/2024/01/Temple-Restorers-Website-1.png
END:VEVENT
BEGIN:VEVENT
DTSTART;TZID=America/Chicago:20260223T183000
DTEND;TZID=America/Chicago:20260223T200000
DTSTAMP:20260424T063600
CREATED:20240131T204210Z
LAST-MODIFIED:20240131T204210Z
UID:20374-1771871400-1771876800@jubileewc.org
SUMMARY:20s & 30s Bible Study Group
DESCRIPTION:If you are in your 20s or 30s you are invited to join our Bible Study Group!\nEvery other Monday at 6:30 p.m. \nThis group will meet at Ruth’s home. \nNote: There is no childcare. \nFor more info or to join this group\, contact us.
URL:https://jubileewc.org/event/20s-30s-bible-study-group/2026-02-23/
LOCATION:MN
CATEGORIES:Classes and Small Groups
ATTACH;FMTTYPE=image/png:https://jubileewc.org/wp-content/uploads/2024/01/20s-30s-Bible-Study-Website-1.png
END:VEVENT
BEGIN:VEVENT
DTSTART;TZID=America/Chicago:20260222T183000
DTEND;TZID=America/Chicago:20260222T200000
DTSTAMP:20260424T063600
CREATED:20240131T204839Z
LAST-MODIFIED:20260409T195136Z
UID:19682-1771785000-1771790400@jubileewc.org
SUMMARY:Temple Restorers
DESCRIPTION:Support group for Health\, Wellness & Weight Loss\nSundays at 6:30 p.m. on Zoom \nYou can join this group at any time. \nFor more info or to join this group\, contact us.
URL:https://jubileewc.org/event/temple-restorers/2026-02-22/
LOCATION:MN
CATEGORIES:Classes and Small Groups
ATTACH;FMTTYPE=image/png:https://jubileewc.org/wp-content/uploads/2024/01/Temple-Restorers-Website-1.png
END:VEVENT
BEGIN:VEVENT
DTSTART;TZID=America/Chicago:20260215T183000
DTEND;TZID=America/Chicago:20260215T200000
DTSTAMP:20260424T063600
CREATED:20240131T204839Z
LAST-MODIFIED:20260409T195134Z
UID:19681-1771180200-1771185600@jubileewc.org
SUMMARY:Temple Restorers
DESCRIPTION:Support group for Health\, Wellness & Weight Loss\nSundays at 6:30 p.m. on Zoom \nYou can join this group at any time. \nFor more info or to join this group\, contact us.
URL:https://jubileewc.org/event/temple-restorers/2026-02-15/
LOCATION:MN
CATEGORIES:Classes and Small Groups
ATTACH;FMTTYPE=image/png:https://jubileewc.org/wp-content/uploads/2024/01/Temple-Restorers-Website-1.png
END:VEVENT
BEGIN:VEVENT
DTSTART;TZID=America/Chicago:20260209T183000
DTEND;TZID=America/Chicago:20260209T200000
DTSTAMP:20260424T063600
CREATED:20240131T204210Z
LAST-MODIFIED:20240131T204210Z
UID:20373-1770661800-1770667200@jubileewc.org
SUMMARY:20s & 30s Bible Study Group
DESCRIPTION:If you are in your 20s or 30s you are invited to join our Bible Study Group!\nEvery other Monday at 6:30 p.m. \nThis group will meet at Ruth’s home. \nNote: There is no childcare. \nFor more info or to join this group\, contact us.
URL:https://jubileewc.org/event/20s-30s-bible-study-group/2026-02-09/
LOCATION:MN
CATEGORIES:Classes and Small Groups
ATTACH;FMTTYPE=image/png:https://jubileewc.org/wp-content/uploads/2024/01/20s-30s-Bible-Study-Website-1.png
END:VEVENT
BEGIN:VEVENT
DTSTART;TZID=America/Chicago:20260208T183000
DTEND;TZID=America/Chicago:20260208T200000
DTSTAMP:20260424T063600
CREATED:20240131T204839Z
LAST-MODIFIED:20260409T195133Z
UID:19680-1770575400-1770580800@jubileewc.org
SUMMARY:Temple Restorers
DESCRIPTION:Support group for Health\, Wellness & Weight Loss\nSundays at 6:30 p.m. on Zoom \nYou can join this group at any time. \nFor more info or to join this group\, contact us.
URL:https://jubileewc.org/event/temple-restorers/2026-02-08/
LOCATION:MN
CATEGORIES:Classes and Small Groups
ATTACH;FMTTYPE=image/png:https://jubileewc.org/wp-content/uploads/2024/01/Temple-Restorers-Website-1.png
END:VEVENT
BEGIN:VEVENT
DTSTART;TZID=America/Chicago:20260201T183000
DTEND;TZID=America/Chicago:20260201T200000
DTSTAMP:20260424T063600
CREATED:20240131T204839Z
LAST-MODIFIED:20260409T195131Z
UID:19679-1769970600-1769976000@jubileewc.org
SUMMARY:Temple Restorers
DESCRIPTION:Support group for Health\, Wellness & Weight Loss\nSundays at 6:30 p.m. on Zoom \nYou can join this group at any time. \nFor more info or to join this group\, contact us.
URL:https://jubileewc.org/event/temple-restorers/2026-02-01/
LOCATION:MN
CATEGORIES:Classes and Small Groups
ATTACH;FMTTYPE=image/png:https://jubileewc.org/wp-content/uploads/2024/01/Temple-Restorers-Website-1.png
END:VEVENT
BEGIN:VEVENT
DTSTART;TZID=America/Chicago:20260126T183000
DTEND;TZID=America/Chicago:20260126T200000
DTSTAMP:20260424T063600
CREATED:20240131T204210Z
LAST-MODIFIED:20240131T204210Z
UID:20372-1769452200-1769457600@jubileewc.org
SUMMARY:20s & 30s Bible Study Group
DESCRIPTION:If you are in your 20s or 30s you are invited to join our Bible Study Group!\nEvery other Monday at 6:30 p.m. \nThis group will meet at Ruth’s home. \nNote: There is no childcare. \nFor more info or to join this group\, contact us.
URL:https://jubileewc.org/event/20s-30s-bible-study-group/2026-01-26/
LOCATION:MN
CATEGORIES:Classes and Small Groups
ATTACH;FMTTYPE=image/png:https://jubileewc.org/wp-content/uploads/2024/01/20s-30s-Bible-Study-Website-1.png
END:VEVENT
BEGIN:VEVENT
DTSTART;TZID=America/Chicago:20260125T183000
DTEND;TZID=America/Chicago:20260125T200000
DTSTAMP:20260424T063600
CREATED:20240131T204839Z
LAST-MODIFIED:20260409T195130Z
UID:19678-1769365800-1769371200@jubileewc.org
SUMMARY:Temple Restorers
DESCRIPTION:Support group for Health\, Wellness & Weight Loss\nSundays at 6:30 p.m. on Zoom \nYou can join this group at any time. \nFor more info or to join this group\, contact us.
URL:https://jubileewc.org/event/temple-restorers/2026-01-25/
LOCATION:MN
CATEGORIES:Classes and Small Groups
ATTACH;FMTTYPE=image/png:https://jubileewc.org/wp-content/uploads/2024/01/Temple-Restorers-Website-1.png
END:VEVENT
BEGIN:VEVENT
DTSTART;TZID=America/Chicago:20260118T183000
DTEND;TZID=America/Chicago:20260118T200000
DTSTAMP:20260424T063600
CREATED:20240131T204839Z
LAST-MODIFIED:20260409T195128Z
UID:19677-1768761000-1768766400@jubileewc.org
SUMMARY:Temple Restorers
DESCRIPTION:Support group for Health\, Wellness & Weight Loss\nSundays at 6:30 p.m. on Zoom \nYou can join this group at any time. \nFor more info or to join this group\, contact us.
URL:https://jubileewc.org/event/temple-restorers/2026-01-18/
LOCATION:MN
CATEGORIES:Classes and Small Groups
ATTACH;FMTTYPE=image/png:https://jubileewc.org/wp-content/uploads/2024/01/Temple-Restorers-Website-1.png
END:VEVENT
BEGIN:VEVENT
DTSTART;TZID=America/Chicago:20260112T183000
DTEND;TZID=America/Chicago:20260112T200000
DTSTAMP:20260424T063600
CREATED:20240131T204210Z
LAST-MODIFIED:20251204T155206Z
UID:16549-1768242600-1768248000@jubileewc.org
SUMMARY:20s & 30s Bible Study Group
DESCRIPTION:If you are in your 20s or 30s you are invited to join our Bible Study Group!\nEvery other Monday at 6:30 p.m. \nThis group will meet at Ruth’s home. \nNote: There is no childcare. \nFor more info or to join this group\, contact us.
URL:https://jubileewc.org/event/20s-30s-bible-study-group/2026-01-12/
LOCATION:MN
CATEGORIES:Classes and Small Groups
ATTACH;FMTTYPE=image/png:https://jubileewc.org/wp-content/uploads/2024/01/20s-30s-Bible-Study-Website-1.png
END:VEVENT
BEGIN:VEVENT
DTSTART;TZID=America/Chicago:20260111T183000
DTEND;TZID=America/Chicago:20260111T200000
DTSTAMP:20260424T063600
CREATED:20240131T204839Z
LAST-MODIFIED:20260409T195126Z
UID:19676-1768156200-1768161600@jubileewc.org
SUMMARY:Temple Restorers
DESCRIPTION:Support group for Health\, Wellness & Weight Loss\nSundays at 6:30 p.m. on Zoom \nYou can join this group at any time. \nFor more info or to join this group\, contact us.
URL:https://jubileewc.org/event/temple-restorers/2026-01-11/
LOCATION:MN
CATEGORIES:Classes and Small Groups
ATTACH;FMTTYPE=image/png:https://jubileewc.org/wp-content/uploads/2024/01/Temple-Restorers-Website-1.png
END:VEVENT
BEGIN:VEVENT
DTSTART;TZID=America/Chicago:20260104T183000
DTEND;TZID=America/Chicago:20260104T200000
DTSTAMP:20260424T063600
CREATED:20240131T204839Z
LAST-MODIFIED:20260409T195124Z
UID:19675-1767551400-1767556800@jubileewc.org
SUMMARY:Temple Restorers
DESCRIPTION:Support group for Health\, Wellness & Weight Loss\nSundays at 6:30 p.m. on Zoom \nYou can join this group at any time. \nFor more info or to join this group\, contact us.
URL:https://jubileewc.org/event/temple-restorers/2026-01-04/
LOCATION:MN
CATEGORIES:Classes and Small Groups
ATTACH;FMTTYPE=image/png:https://jubileewc.org/wp-content/uploads/2024/01/Temple-Restorers-Website-1.png
END:VEVENT
BEGIN:VEVENT
DTSTART;TZID=America/Chicago:20251228T183000
DTEND;TZID=America/Chicago:20251228T200000
DTSTAMP:20260424T063600
CREATED:20240131T204839Z
LAST-MODIFIED:20260409T195123Z
UID:19674-1766946600-1766952000@jubileewc.org
SUMMARY:Temple Restorers
DESCRIPTION:Support group for Health\, Wellness & Weight Loss\nSundays at 6:30 p.m. on Zoom \nYou can join this group at any time. \nFor more info or to join this group\, contact us.
URL:https://jubileewc.org/event/temple-restorers/2025-12-28/
LOCATION:MN
CATEGORIES:Classes and Small Groups
ATTACH;FMTTYPE=image/png:https://jubileewc.org/wp-content/uploads/2024/01/Temple-Restorers-Website-1.png
END:VEVENT
BEGIN:VEVENT
DTSTART;TZID=America/Chicago:20251221T183000
DTEND;TZID=America/Chicago:20251221T200000
DTSTAMP:20260424T063600
CREATED:20240131T204839Z
LAST-MODIFIED:20260409T195121Z
UID:19673-1766341800-1766347200@jubileewc.org
SUMMARY:Temple Restorers
DESCRIPTION:Support group for Health\, Wellness & Weight Loss\nSundays at 6:30 p.m. on Zoom \nYou can join this group at any time. \nFor more info or to join this group\, contact us.
URL:https://jubileewc.org/event/temple-restorers/2025-12-21/
LOCATION:MN
CATEGORIES:Classes and Small Groups
ATTACH;FMTTYPE=image/png:https://jubileewc.org/wp-content/uploads/2024/01/Temple-Restorers-Website-1.png
END:VEVENT
BEGIN:VEVENT
DTSTART;TZID=America/Chicago:20251214T183000
DTEND;TZID=America/Chicago:20251214T200000
DTSTAMP:20260424T063600
CREATED:20240131T204839Z
LAST-MODIFIED:20260409T195120Z
UID:18262-1765737000-1765742400@jubileewc.org
SUMMARY:Temple Restorers
DESCRIPTION:Support group for Health\, Wellness & Weight Loss\nSundays at 6:30 p.m. on Zoom \nYou can join this group at any time. \nFor more info or to join this group\, contact us.
URL:https://jubileewc.org/event/temple-restorers/2025-12-14/
LOCATION:MN
CATEGORIES:Classes and Small Groups
ATTACH;FMTTYPE=image/png:https://jubileewc.org/wp-content/uploads/2024/01/Temple-Restorers-Website-1.png
END:VEVENT
BEGIN:VEVENT
DTSTART;TZID=America/Chicago:20251207T183000
DTEND;TZID=America/Chicago:20251207T200000
DTSTAMP:20260424T063600
CREATED:20240131T204839Z
LAST-MODIFIED:20260409T195118Z
UID:18261-1765132200-1765137600@jubileewc.org
SUMMARY:Temple Restorers
DESCRIPTION:Support group for Health\, Wellness & Weight Loss\nSundays at 6:30 p.m. on Zoom \nYou can join this group at any time. \nFor more info or to join this group\, contact us.
URL:https://jubileewc.org/event/temple-restorers/2025-12-07/
LOCATION:MN
CATEGORIES:Classes and Small Groups
ATTACH;FMTTYPE=image/png:https://jubileewc.org/wp-content/uploads/2024/01/Temple-Restorers-Website-1.png
END:VEVENT
BEGIN:VEVENT
DTSTART;TZID=America/Chicago:20251130T183000
DTEND;TZID=America/Chicago:20251130T200000
DTSTAMP:20260424T063600
CREATED:20240131T204839Z
LAST-MODIFIED:20260409T195117Z
UID:18260-1764527400-1764532800@jubileewc.org
SUMMARY:Temple Restorers
DESCRIPTION:Support group for Health\, Wellness & Weight Loss\nSundays at 6:30 p.m. on Zoom \nYou can join this group at any time. \nFor more info or to join this group\, contact us.
URL:https://jubileewc.org/event/temple-restorers/2025-11-30/
LOCATION:MN
CATEGORIES:Classes and Small Groups
ATTACH;FMTTYPE=image/png:https://jubileewc.org/wp-content/uploads/2024/01/Temple-Restorers-Website-1.png
END:VEVENT
BEGIN:VEVENT
DTSTART;TZID=America/Chicago:20251123T183000
DTEND;TZID=America/Chicago:20251123T200000
DTSTAMP:20260424T063600
CREATED:20240131T204839Z
LAST-MODIFIED:20260409T195115Z
UID:18259-1763922600-1763928000@jubileewc.org
SUMMARY:Temple Restorers
DESCRIPTION:Support group for Health\, Wellness & Weight Loss\nSundays at 6:30 p.m. on Zoom \nYou can join this group at any time. \nFor more info or to join this group\, contact us.
URL:https://jubileewc.org/event/temple-restorers/2025-11-23/
LOCATION:MN
CATEGORIES:Classes and Small Groups
ATTACH;FMTTYPE=image/png:https://jubileewc.org/wp-content/uploads/2024/01/Temple-Restorers-Website-1.png
END:VEVENT
END:VCALENDAR