BEGIN:VCALENDAR
VERSION:2.0
PRODID:-//Jubilee Worship Center - ECPv6.15.20//NONSGML v1.0//EN
CALSCALE:GREGORIAN
METHOD:PUBLISH
X-WR-CALNAME:Jubilee Worship Center
X-ORIGINAL-URL:https://jubileewc.org
X-WR-CALDESC:Events for Jubilee Worship Center
REFRESH-INTERVAL;VALUE=DURATION:PT1H
X-Robots-Tag:noindex
X-PUBLISHED-TTL:PT1H
BEGIN:VTIMEZONE
TZID:America/Chicago
BEGIN:DAYLIGHT
TZOFFSETFROM:-0600
TZOFFSETTO:-0500
TZNAME:CDT
DTSTART:20250309T080000
END:DAYLIGHT
BEGIN:STANDARD
TZOFFSETFROM:-0500
TZOFFSETTO:-0600
TZNAME:CST
DTSTART:20251102T070000
END:STANDARD
BEGIN:DAYLIGHT
TZOFFSETFROM:-0600
TZOFFSETTO:-0500
TZNAME:CDT
DTSTART:20260308T080000
END:DAYLIGHT
BEGIN:STANDARD
TZOFFSETFROM:-0500
TZOFFSETTO:-0600
TZNAME:CST
DTSTART:20261101T070000
END:STANDARD
BEGIN:DAYLIGHT
TZOFFSETFROM:-0600
TZOFFSETTO:-0500
TZNAME:CDT
DTSTART:20270314T080000
END:DAYLIGHT
BEGIN:STANDARD
TZOFFSETFROM:-0500
TZOFFSETTO:-0600
TZNAME:CST
DTSTART:20271107T070000
END:STANDARD
END:VTIMEZONE
BEGIN:VEVENT
DTSTART;TZID=America/Chicago:20261206T183000
DTEND;TZID=America/Chicago:20261206T200000
DTSTAMP:20260424T210816
CREATED:20240131T204839Z
LAST-MODIFIED:20240131T204839Z
UID:21109-1796581800-1796587200@jubileewc.org
SUMMARY:Temple Restorers
DESCRIPTION:Support group for Health\, Wellness & Weight Loss\nSundays at 6:30 p.m. on Zoom \nYou can join this group at any time. \nFor more info or to join this group\, contact us.
URL:https://jubileewc.org/event/temple-restorers/2026-12-06/
CATEGORIES:Classes and Small Groups
ATTACH;FMTTYPE=image/png:https://jubileewc.org/wp-content/uploads/2024/01/Temple-Restorers-Website-1.png
END:VEVENT
BEGIN:VEVENT
DTSTART;TZID=America/Chicago:20261213T183000
DTEND;TZID=America/Chicago:20261213T200000
DTSTAMP:20260424T210816
CREATED:20240131T204839Z
LAST-MODIFIED:20240131T204839Z
UID:21110-1797186600-1797192000@jubileewc.org
SUMMARY:Temple Restorers
DESCRIPTION:Support group for Health\, Wellness & Weight Loss\nSundays at 6:30 p.m. on Zoom \nYou can join this group at any time. \nFor more info or to join this group\, contact us.
URL:https://jubileewc.org/event/temple-restorers/2026-12-13/
CATEGORIES:Classes and Small Groups
ATTACH;FMTTYPE=image/png:https://jubileewc.org/wp-content/uploads/2024/01/Temple-Restorers-Website-1.png
END:VEVENT
BEGIN:VEVENT
DTSTART;TZID=America/Chicago:20261213T183000
DTEND;TZID=America/Chicago:20261213T200000
DTSTAMP:20260424T210816
CREATED:20240131T204839Z
LAST-MODIFIED:20260409T195250Z
UID:20576-1797186600-1797192000@jubileewc.org
SUMMARY:Temple Restorers
DESCRIPTION:Support group for Health\, Wellness & Weight Loss\nSundays at 6:30 p.m. on Zoom \nYou can join this group at any time. \nFor more info or to join this group\, contact us.
URL:https://jubileewc.org/event/temple-restorers/2026-12-13/
CATEGORIES:Classes and Small Groups
ATTACH;FMTTYPE=image/png:https://jubileewc.org/wp-content/uploads/2024/01/Temple-Restorers-Website-1.png
END:VEVENT
BEGIN:VEVENT
DTSTART;TZID=America/Chicago:20261214T183000
DTEND;TZID=America/Chicago:20261214T200000
DTSTAMP:20260424T210816
CREATED:20240131T204210Z
LAST-MODIFIED:20240131T204210Z
UID:20442-1797273000-1797278400@jubileewc.org
SUMMARY:20s & 30s Bible Study Group
DESCRIPTION:If you are in your 20s or 30s you are invited to join our Bible Study Group!\nEvery other Monday at 6:30 p.m. \nThis group will meet at Ruth’s home. \nNote: There is no childcare. \nFor more info or to join this group\, contact us.
URL:https://jubileewc.org/event/20s-30s-bible-study-group/2026-12-14/
CATEGORIES:Classes and Small Groups
ATTACH;FMTTYPE=image/png:https://jubileewc.org/wp-content/uploads/2024/01/20s-30s-Bible-Study-Website-1.png
END:VEVENT
BEGIN:VEVENT
DTSTART;TZID=America/Chicago:20261220T183000
DTEND;TZID=America/Chicago:20261220T200000
DTSTAMP:20260424T210816
CREATED:20240131T204839Z
LAST-MODIFIED:20240131T204839Z
UID:21111-1797791400-1797796800@jubileewc.org
SUMMARY:Temple Restorers
DESCRIPTION:Support group for Health\, Wellness & Weight Loss\nSundays at 6:30 p.m. on Zoom \nYou can join this group at any time. \nFor more info or to join this group\, contact us.
URL:https://jubileewc.org/event/temple-restorers/2026-12-20/
CATEGORIES:Classes and Small Groups
ATTACH;FMTTYPE=image/png:https://jubileewc.org/wp-content/uploads/2024/01/Temple-Restorers-Website-1.png
END:VEVENT
BEGIN:VEVENT
DTSTART;TZID=America/Chicago:20261220T183000
DTEND;TZID=America/Chicago:20261220T200000
DTSTAMP:20260424T210816
CREATED:20240131T204839Z
LAST-MODIFIED:20260409T195252Z
UID:20577-1797791400-1797796800@jubileewc.org
SUMMARY:Temple Restorers
DESCRIPTION:Support group for Health\, Wellness & Weight Loss\nSundays at 6:30 p.m. on Zoom \nYou can join this group at any time. \nFor more info or to join this group\, contact us.
URL:https://jubileewc.org/event/temple-restorers/2026-12-20/
CATEGORIES:Classes and Small Groups
ATTACH;FMTTYPE=image/png:https://jubileewc.org/wp-content/uploads/2024/01/Temple-Restorers-Website-1.png
END:VEVENT
BEGIN:VEVENT
DTSTART;TZID=America/Chicago:20261227T183000
DTEND;TZID=America/Chicago:20261227T200000
DTSTAMP:20260424T210816
CREATED:20240131T204839Z
LAST-MODIFIED:20260409T195255Z
UID:20578-1798396200-1798401600@jubileewc.org
SUMMARY:Temple Restorers
DESCRIPTION:Support group for Health\, Wellness & Weight Loss\nSundays at 6:30 p.m. on Zoom \nYou can join this group at any time. \nFor more info or to join this group\, contact us.
URL:https://jubileewc.org/event/temple-restorers/2026-12-27/
CATEGORIES:Classes and Small Groups
ATTACH;FMTTYPE=image/png:https://jubileewc.org/wp-content/uploads/2024/01/Temple-Restorers-Website-1.png
END:VEVENT
BEGIN:VEVENT
DTSTART;TZID=America/Chicago:20261227T183000
DTEND;TZID=America/Chicago:20261227T200000
DTSTAMP:20260424T210816
CREATED:20240131T204839Z
LAST-MODIFIED:20240131T204839Z
UID:21112-1798396200-1798401600@jubileewc.org
SUMMARY:Temple Restorers
DESCRIPTION:Support group for Health\, Wellness & Weight Loss\nSundays at 6:30 p.m. on Zoom \nYou can join this group at any time. \nFor more info or to join this group\, contact us.
URL:https://jubileewc.org/event/temple-restorers/2026-12-27/
CATEGORIES:Classes and Small Groups
ATTACH;FMTTYPE=image/png:https://jubileewc.org/wp-content/uploads/2024/01/Temple-Restorers-Website-1.png
END:VEVENT
BEGIN:VEVENT
DTSTART;TZID=America/Chicago:20261228T183000
DTEND;TZID=America/Chicago:20261228T200000
DTSTAMP:20260424T210816
CREATED:20240131T204210Z
LAST-MODIFIED:20240131T204210Z
UID:20481-1798482600-1798488000@jubileewc.org
SUMMARY:20s & 30s Bible Study Group
DESCRIPTION:If you are in your 20s or 30s you are invited to join our Bible Study Group!\nEvery other Monday at 6:30 p.m. \nThis group will meet at Ruth’s home. \nNote: There is no childcare. \nFor more info or to join this group\, contact us.
URL:https://jubileewc.org/event/20s-30s-bible-study-group/2026-12-28/
CATEGORIES:Classes and Small Groups
ATTACH;FMTTYPE=image/png:https://jubileewc.org/wp-content/uploads/2024/01/20s-30s-Bible-Study-Website-1.png
END:VEVENT
END:VCALENDAR