BEGIN:VCALENDAR
VERSION:2.0
PRODID:-//Jubilee Worship Center - ECPv6.15.20//NONSGML v1.0//EN
CALSCALE:GREGORIAN
METHOD:PUBLISH
X-ORIGINAL-URL:https://jubileewc.org
X-WR-CALDESC:Events for Jubilee Worship Center
REFRESH-INTERVAL;VALUE=DURATION:PT1H
X-Robots-Tag:noindex
X-PUBLISHED-TTL:PT1H
BEGIN:VTIMEZONE
TZID:America/Chicago
BEGIN:DAYLIGHT
TZOFFSETFROM:-0600
TZOFFSETTO:-0500
TZNAME:CDT
DTSTART:20210314T080000
END:DAYLIGHT
BEGIN:STANDARD
TZOFFSETFROM:-0500
TZOFFSETTO:-0600
TZNAME:CST
DTSTART:20211107T070000
END:STANDARD
BEGIN:DAYLIGHT
TZOFFSETFROM:-0600
TZOFFSETTO:-0500
TZNAME:CDT
DTSTART:20220313T080000
END:DAYLIGHT
BEGIN:STANDARD
TZOFFSETFROM:-0500
TZOFFSETTO:-0600
TZNAME:CST
DTSTART:20221106T070000
END:STANDARD
BEGIN:DAYLIGHT
TZOFFSETFROM:-0600
TZOFFSETTO:-0500
TZNAME:CDT
DTSTART:20230312T080000
END:DAYLIGHT
BEGIN:STANDARD
TZOFFSETFROM:-0500
TZOFFSETTO:-0600
TZNAME:CST
DTSTART:20231105T070000
END:STANDARD
BEGIN:DAYLIGHT
TZOFFSETFROM:-0600
TZOFFSETTO:-0500
TZNAME:CDT
DTSTART:20240310T080000
END:DAYLIGHT
BEGIN:STANDARD
TZOFFSETFROM:-0500
TZOFFSETTO:-0600
TZNAME:CST
DTSTART:20241103T070000
END:STANDARD
BEGIN:DAYLIGHT
TZOFFSETFROM:-0600
TZOFFSETTO:-0500
TZNAME:CDT
DTSTART:20250309T080000
END:DAYLIGHT
BEGIN:STANDARD
TZOFFSETFROM:-0500
TZOFFSETTO:-0600
TZNAME:CST
DTSTART:20251102T070000
END:STANDARD
BEGIN:DAYLIGHT
TZOFFSETFROM:-0600
TZOFFSETTO:-0500
TZNAME:CDT
DTSTART:20260308T080000
END:DAYLIGHT
BEGIN:STANDARD
TZOFFSETFROM:-0500
TZOFFSETTO:-0600
TZNAME:CST
DTSTART:20261101T070000
END:STANDARD
END:VTIMEZONE
BEGIN:VEVENT
DTSTART;TZID=America/Chicago:20250518T183000
DTEND;TZID=America/Chicago:20250518T200000
DTSTAMP:20260424T155534
CREATED:20240131T204839Z
LAST-MODIFIED:20260409T195019Z
UID:18232-1747593000-1747598400@jubileewc.org
SUMMARY:Temple Restorers
DESCRIPTION:Support group for Health\, Wellness & Weight Loss\nSundays at 6:30 p.m. on Zoom \nYou can join this group at any time. \nFor more info or to join this group\, contact us.
URL:https://jubileewc.org/event/temple-restorers/2025-05-18/
CATEGORIES:Classes and Small Groups
ATTACH;FMTTYPE=image/png:https://jubileewc.org/wp-content/uploads/2024/01/Temple-Restorers-Website-1.png
END:VEVENT
BEGIN:VEVENT
DTSTART;TZID=America/Chicago:20250511T183000
DTEND;TZID=America/Chicago:20250511T200000
DTSTAMP:20260424T155534
CREATED:20240131T204839Z
LAST-MODIFIED:20260409T195016Z
UID:18231-1746988200-1746993600@jubileewc.org
SUMMARY:Temple Restorers
DESCRIPTION:Support group for Health\, Wellness & Weight Loss\nSundays at 6:30 p.m. on Zoom \nYou can join this group at any time. \nFor more info or to join this group\, contact us.
URL:https://jubileewc.org/event/temple-restorers/2025-05-11/
CATEGORIES:Classes and Small Groups
ATTACH;FMTTYPE=image/png:https://jubileewc.org/wp-content/uploads/2024/01/Temple-Restorers-Website-1.png
END:VEVENT
BEGIN:VEVENT
DTSTART;TZID=America/Chicago:20250508T190000
DTEND;TZID=America/Chicago:20250508T200000
DTSTAMP:20260424T155534
CREATED:20250418T213415Z
LAST-MODIFIED:20250418T213415Z
UID:18887-1746730800-1746734400@jubileewc.org
SUMMARY:Discipleship Class
DESCRIPTION:New Class Starting: “SO\, YOU WANT TO BE A DISCIPLE”\n3 Thursdays: April 24th\, May 1st & May 8th \nFrom 7:00 – 8:00 p.m. in the Jubilee Fireside Room \nWith Pastor Mark \n“And Jesus came and spoke to them\, saying\, ‘All authority has been given to Me in heaven and on earth. Go therefore and make disciples of all the nations\, baptizing them in the name of the Father and of the Son and of the Holy Spirit\, teaching them to observe all things that I have commanded you; and lo\, I am with you always\, even to the end of the age.’ Amen.” Matthew 28:18-20 \n-Where are you on the discipleship matrix? What is a disciple? How are disciples made? Are all Christians/believers disciples? How can I make disciples? \nFind our the answers to these questions and more! \nLet us know if you want to sign up for this class. Contact us.
URL:https://jubileewc.org/event/discipleship-class/2025-05-08/
LOCATION:Jubilee Fireside Room\, 3125 County Road 74\, St. Cloud\, 56301\, United States
CATEGORIES:Classes and Small Groups
ATTACH;FMTTYPE=image/png:https://jubileewc.org/wp-content/uploads/2025/04/Discipleship-Class-Website2.png
END:VEVENT
BEGIN:VEVENT
DTSTART;TZID=America/Chicago:20250504T183000
DTEND;TZID=America/Chicago:20250504T200000
DTSTAMP:20260424T155534
CREATED:20240131T204839Z
LAST-MODIFIED:20260409T195013Z
UID:18230-1746383400-1746388800@jubileewc.org
SUMMARY:Temple Restorers
DESCRIPTION:Support group for Health\, Wellness & Weight Loss\nSundays at 6:30 p.m. on Zoom \nYou can join this group at any time. \nFor more info or to join this group\, contact us.
URL:https://jubileewc.org/event/temple-restorers/2025-05-04/
CATEGORIES:Classes and Small Groups
ATTACH;FMTTYPE=image/png:https://jubileewc.org/wp-content/uploads/2024/01/Temple-Restorers-Website-1.png
END:VEVENT
BEGIN:VEVENT
DTSTART;TZID=America/Chicago:20250501T190000
DTEND;TZID=America/Chicago:20250501T200000
DTSTAMP:20260424T155534
CREATED:20250418T213415Z
LAST-MODIFIED:20250418T213415Z
UID:18886-1746126000-1746129600@jubileewc.org
SUMMARY:Discipleship Class
DESCRIPTION:New Class Starting: “SO\, YOU WANT TO BE A DISCIPLE”\n3 Thursdays: April 24th\, May 1st & May 8th \nFrom 7:00 – 8:00 p.m. in the Jubilee Fireside Room \nWith Pastor Mark \n“And Jesus came and spoke to them\, saying\, ‘All authority has been given to Me in heaven and on earth. Go therefore and make disciples of all the nations\, baptizing them in the name of the Father and of the Son and of the Holy Spirit\, teaching them to observe all things that I have commanded you; and lo\, I am with you always\, even to the end of the age.’ Amen.” Matthew 28:18-20 \n-Where are you on the discipleship matrix? What is a disciple? How are disciples made? Are all Christians/believers disciples? How can I make disciples? \nFind our the answers to these questions and more! \nLet us know if you want to sign up for this class. Contact us.
URL:https://jubileewc.org/event/discipleship-class/2025-05-01/
LOCATION:Jubilee Fireside Room\, 3125 County Road 74\, St. Cloud\, 56301\, United States
CATEGORIES:Classes and Small Groups
ATTACH;FMTTYPE=image/png:https://jubileewc.org/wp-content/uploads/2025/04/Discipleship-Class-Website2.png
END:VEVENT
BEGIN:VEVENT
DTSTART;TZID=America/Chicago:20250427T183000
DTEND;TZID=America/Chicago:20250427T200000
DTSTAMP:20260424T155534
CREATED:20240131T204839Z
LAST-MODIFIED:20260409T195010Z
UID:18229-1745778600-1745784000@jubileewc.org
SUMMARY:Temple Restorers
DESCRIPTION:Support group for Health\, Wellness & Weight Loss\nSundays at 6:30 p.m. on Zoom \nYou can join this group at any time. \nFor more info or to join this group\, contact us.
URL:https://jubileewc.org/event/temple-restorers/2025-04-27/
CATEGORIES:Classes and Small Groups
ATTACH;FMTTYPE=image/png:https://jubileewc.org/wp-content/uploads/2024/01/Temple-Restorers-Website-1.png
END:VEVENT
BEGIN:VEVENT
DTSTART;TZID=America/Chicago:20250424T190000
DTEND;TZID=America/Chicago:20250424T200000
DTSTAMP:20260424T155534
CREATED:20250418T213415Z
LAST-MODIFIED:20250419T161154Z
UID:18880-1745521200-1745524800@jubileewc.org
SUMMARY:Discipleship Class
DESCRIPTION:New Class Starting: “SO\, YOU WANT TO BE A DISCIPLE”\n3 Thursdays: April 24th\, May 1st & May 8th \nFrom 7:00 – 8:00 p.m. in the Jubilee Fireside Room \nWith Pastor Mark \n“And Jesus came and spoke to them\, saying\, ‘All authority has been given to Me in heaven and on earth. Go therefore and make disciples of all the nations\, baptizing them in the name of the Father and of the Son and of the Holy Spirit\, teaching them to observe all things that I have commanded you; and lo\, I am with you always\, even to the end of the age.’ Amen.” Matthew 28:18-20 \n-Where are you on the discipleship matrix? What is a disciple? How are disciples made? Are all Christians/believers disciples? How can I make disciples? \nFind our the answers to these questions and more! \nLet us know if you want to sign up for this class. Contact us.
URL:https://jubileewc.org/event/discipleship-class/2025-04-24/
LOCATION:Jubilee Fireside Room\, 3125 County Road 74\, St. Cloud\, 56301\, United States
CATEGORIES:Classes and Small Groups
ATTACH;FMTTYPE=image/png:https://jubileewc.org/wp-content/uploads/2025/04/Discipleship-Class-Website2.png
END:VEVENT
BEGIN:VEVENT
DTSTART;TZID=America/Chicago:20240204T183000
DTEND;TZID=America/Chicago:20240204T200000
DTSTAMP:20260424T155534
CREATED:20240131T204839Z
LAST-MODIFIED:20260409T195000Z
UID:16598-1707071400-1707076800@jubileewc.org
SUMMARY:Temple Restorers
DESCRIPTION:Support group for Health\, Wellness & Weight Loss\nSundays at 6:30 p.m. on Zoom \nYou can join this group at any time. \nFor more info or to join this group\, contact us.
URL:https://jubileewc.org/event/temple-restorers/2024-02-04/
CATEGORIES:Classes and Small Groups
ATTACH;FMTTYPE=image/png:https://jubileewc.org/wp-content/uploads/2024/01/Temple-Restorers-Website-1.png
END:VEVENT
BEGIN:VEVENT
DTSTART;TZID=America/Chicago:20231220T183000
DTEND;TZID=America/Chicago:20231220T200000
DTSTAMP:20260424T155534
CREATED:20231130T190130Z
LAST-MODIFIED:20231130T190131Z
UID:16154-1703097000-1703102400@jubileewc.org
SUMMARY:End Times/Last Days Q&A
DESCRIPTION:Pastor Mark will be leading an End Times/Last Days Q&A.\nWednesday\, December 20th from 6:30 – 8:00 pm (meal at 6:00 pm) \nYou can submit any questions you would like answered regarding the End Times/Last Days below. \n  \nSubmit questions here.
URL:https://jubileewc.org/event/end-times-last-days-qa/
LOCATION:Jubilee Worship Center\, 3125 County Road 74\, St. Cloud\, MN\, 56301\, United States
CATEGORIES:Classes and Small Groups
ATTACH;FMTTYPE=image/png:https://jubileewc.org/wp-content/uploads/2023/11/End-Times-QA-Website.png
END:VEVENT
BEGIN:VEVENT
DTSTART;TZID=America/Chicago:20231004T193000
DTEND;TZID=America/Chicago:20231004T203000
DTSTAMP:20260424T155534
CREATED:20230922T191921Z
LAST-MODIFIED:20231025T152028Z
UID:15937-1696447800-1696451400@jubileewc.org
SUMMARY:Dreams & Visions Class
DESCRIPTION:Join Pastor Becky for “Dreams & Visions”\nWednesdays from 7:30 – 8:30 p.m. starting October 4th \n  \nSign up here.
URL:https://jubileewc.org/event/dreams-visions-class/2023-10-04/
LOCATION:Jubilee Worship Center\, 3125 County Road 74\, St. Cloud\, MN\, 56301\, United States
CATEGORIES:Classes and Small Groups
ATTACH;FMTTYPE=image/png:https://jubileewc.org/wp-content/uploads/2023/09/Dreams-Visions-Website.png
END:VEVENT
BEGIN:VEVENT
DTSTART;TZID=America/Chicago:20230917T090000
DTEND;TZID=America/Chicago:20230917T100000
DTSTAMP:20260424T155534
CREATED:20230823T211904Z
LAST-MODIFIED:20231109T205603Z
UID:15582-1694941200-1694944800@jubileewc.org
SUMMARY:Sunday Class: Gods at War
DESCRIPTION:Join MaryAnne for this Sunday morning class held at 9:00 am in the Fireside Room.\nLearn how to defeat the idols that battle for your heart! \n 
URL:https://jubileewc.org/event/sunday-class-gods-at-war/2023-09-17/
LOCATION:Jubilee Worship Center\, 3125 County Road 74\, St. Cloud\, MN\, 56301\, United States
CATEGORIES:Classes and Small Groups
ATTACH;FMTTYPE=image/png:https://jubileewc.org/wp-content/uploads/2023/08/Gods-at-War-Website-1.png
END:VEVENT
BEGIN:VEVENT
DTSTART;TZID=America/Chicago:20230614T190000
DTEND;TZID=America/Chicago:20230614T200000
DTSTAMP:20260424T155534
CREATED:20230524T195640Z
LAST-MODIFIED:20230627T190821Z
UID:14964-1686769200-1686772800@jubileewc.org
SUMMARY:"You Can Prophesy" Class
DESCRIPTION:Join us for this 4-week class taught by Pastor Becky!\nWednesdays 7:00 – 8:00 pm \nJune 14: “Prophecy is for Today” and “Five Levels of Prophecy” \nJune 21: “Three Categories of Spiritual Gifts” and “Preparing to Prophesy” \nJuly 12: “Discerning God’s Voice” and “Prophetic Protocol” \nJuly 19: “Responding to Prophetic Ministry” and “Office of the Prophetic & the Gift of Prophecy” \nSign up here.
URL:https://jubileewc.org/event/you-can-prophesy-class/2023-06-14/
LOCATION:Jubilee Worship Center\, 3125 County Road 74\, St. Cloud\, MN\, 56301\, United States
CATEGORIES:Classes and Small Groups
ATTACH;FMTTYPE=image/png:https://jubileewc.org/wp-content/uploads/2023/05/49A722DB-AC5F-4C5D-8119-8CDA06BA9789.png
END:VEVENT
BEGIN:VEVENT
DTSTART;TZID=America/Chicago:20220717T090000
DTEND;TZID=America/Chicago:20220717T100000
DTSTAMP:20260424T155534
CREATED:20220707T151950Z
LAST-MODIFIED:20220831T180335Z
UID:13267-1658048400-1658052000@jubileewc.org
SUMMARY:Sunday Morning Class
DESCRIPTION:Join us for a new Sunday morning class!\n“Victorious Christian Living” [A study on the book of Joshua]\nWith MaryAnne Block \nSunday mornings at 9:00 a.m. in the Fireside Room
URL:https://jubileewc.org/event/sunday-morning-class-2/2022-07-17/
LOCATION:Jubilee Worship Center\, 3125 County Road 74\, St. Cloud\, MN\, 56301\, United States
CATEGORIES:Classes and Small Groups
ATTACH;FMTTYPE=image/png:https://jubileewc.org/wp-content/uploads/2022/07/97B5E8C7-5012-409F-A457-CE094BFA1D85.png
END:VEVENT
BEGIN:VEVENT
DTSTART;TZID=America/Chicago:20220424T143000
DTEND;TZID=America/Chicago:20220424T160000
DTSTAMP:20260424T155534
CREATED:20220407T193109Z
LAST-MODIFIED:20220407T193229Z
UID:12373-1650810600-1650816000@jubileewc.org
SUMMARY:Political Talk with Pastor Mark
DESCRIPTION:“What is Happening in Our World Politically & What Should We Do About It?”\nYou are invited to join Pastor Mark for a look at the current hot political topics. Some of the questions being discussed are: What are these hot political topics? Are these issues connected? Are they accidental or intentional? What is the desired outcome? What should we do about it?
URL:https://jubileewc.org/event/political-talk-with-pastor-mark/
LOCATION:Jubilee Youth Room\, 3125 County Road 74\, St. Cloud\, MN\, 56301\, United States
CATEGORIES:Classes and Small Groups
END:VEVENT
BEGIN:VEVENT
DTSTART;TZID=America/Chicago:20220306T083000
DTEND;TZID=America/Chicago:20220306T093000
DTSTAMP:20260424T155534
CREATED:20220311T195748Z
LAST-MODIFIED:20220317T182858Z
UID:12269-1646555400-1646559000@jubileewc.org
SUMMARY:Sunday Morning Class
DESCRIPTION:“The Power of Your Words” by Pastor Robert Morris\nHow God can bless your life through the words you speak \nThis class will meet Sunday mornings 8:45 – 9:45 a.m. in the Fireside Room. It is facilitated by Pat Guenin. Anybody is welcome to attend.
URL:https://jubileewc.org/event/sunday-morning-class/2022-03-06/
LOCATION:Jubilee Worship Center\, 3125 County Road 74\, St. Cloud\, MN\, 56301\, United States
CATEGORIES:Classes and Small Groups
ATTACH;FMTTYPE=image/png:https://jubileewc.org/wp-content/uploads/2022/03/Power-of-Your-Words-Class-FB.png
END:VEVENT
BEGIN:VEVENT
DTSTART;TZID=America/Chicago:20220215T130000
DTEND;TZID=America/Chicago:20220215T150000
DTSTAMP:20260424T155534
CREATED:20220209T202943Z
LAST-MODIFIED:20220209T203200Z
UID:12115-1644930000-1644937200@jubileewc.org
SUMMARY:Secrets of the Mysteries Class
DESCRIPTION:New Class Starting: “Secrets of the Mysteries”\nTuesdays 1:00 – 3:00 pm \nFebruary 15 – May 3 \nIn the Fireside Room with Nancy LeTourneau \nFee: $70 (Scholarships available) \nBook: Prophets and Personal Prophecy by Bill Hamon (Available on Amazon for $11.99) \nThis class will meet in the Fireside Room and will Skype with Prophet Char Feldhusen\, who will be teaching it. Please don’t let that dissuade you. Char’s personality – love of God and abilities come right through the screen! \n“The training and activations will give you the confidence to walk in the prophetic gifts.”  -Char \nFor more information or to sign up\, click here.
URL:https://jubileewc.org/event/secrets-of-the-mysteries-class/2022-02-15/
LOCATION:Jubilee Worship Center\, 3125 County Road 74\, St. Cloud\, MN\, 56301\, United States
CATEGORIES:Classes and Small Groups
ATTACH;FMTTYPE=image/png:https://jubileewc.org/wp-content/uploads/2022/02/FB-Post-copy.png
END:VEVENT
END:VCALENDAR