BEGIN:VCALENDAR
VERSION:2.0
PRODID:-//Jubilee Worship Center - ECPv6.15.20//NONSGML v1.0//EN
CALSCALE:GREGORIAN
METHOD:PUBLISH
X-WR-CALNAME:Jubilee Worship Center
X-ORIGINAL-URL:https://jubileewc.org
X-WR-CALDESC:Events for Jubilee Worship Center
REFRESH-INTERVAL;VALUE=DURATION:PT1H
X-Robots-Tag:noindex
X-PUBLISHED-TTL:PT1H
BEGIN:VTIMEZONE
TZID:America/Chicago
BEGIN:DAYLIGHT
TZOFFSETFROM:-0600
TZOFFSETTO:-0500
TZNAME:CDT
DTSTART:20210314T080000
END:DAYLIGHT
BEGIN:STANDARD
TZOFFSETFROM:-0500
TZOFFSETTO:-0600
TZNAME:CST
DTSTART:20211107T070000
END:STANDARD
BEGIN:DAYLIGHT
TZOFFSETFROM:-0600
TZOFFSETTO:-0500
TZNAME:CDT
DTSTART:20220313T080000
END:DAYLIGHT
BEGIN:STANDARD
TZOFFSETFROM:-0500
TZOFFSETTO:-0600
TZNAME:CST
DTSTART:20221106T070000
END:STANDARD
BEGIN:DAYLIGHT
TZOFFSETFROM:-0600
TZOFFSETTO:-0500
TZNAME:CDT
DTSTART:20230312T080000
END:DAYLIGHT
BEGIN:STANDARD
TZOFFSETFROM:-0500
TZOFFSETTO:-0600
TZNAME:CST
DTSTART:20231105T070000
END:STANDARD
END:VTIMEZONE
BEGIN:VEVENT
DTSTART;TZID=America/Chicago:20220717T090000
DTEND;TZID=America/Chicago:20220717T100000
DTSTAMP:20260424T172404
CREATED:20220707T151950Z
LAST-MODIFIED:20220831T180335Z
UID:13267-1658048400-1658052000@jubileewc.org
SUMMARY:Sunday Morning Class
DESCRIPTION:Join us for a new Sunday morning class!\n“Victorious Christian Living” [A study on the book of Joshua]\nWith MaryAnne Block \nSunday mornings at 9:00 a.m. in the Fireside Room
URL:https://jubileewc.org/event/sunday-morning-class-2/2022-07-17/
LOCATION:Jubilee Worship Center\, 3125 County Road 74\, St. Cloud\, MN\, 56301\, United States
CATEGORIES:Classes and Small Groups
ATTACH;FMTTYPE=image/png:https://jubileewc.org/wp-content/uploads/2022/07/97B5E8C7-5012-409F-A457-CE094BFA1D85.png
END:VEVENT
BEGIN:VEVENT
DTSTART;TZID=America/Chicago:20220424T143000
DTEND;TZID=America/Chicago:20220424T160000
DTSTAMP:20260424T172404
CREATED:20220407T193109Z
LAST-MODIFIED:20220407T193229Z
UID:12373-1650810600-1650816000@jubileewc.org
SUMMARY:Political Talk with Pastor Mark
DESCRIPTION:“What is Happening in Our World Politically & What Should We Do About It?”\nYou are invited to join Pastor Mark for a look at the current hot political topics. Some of the questions being discussed are: What are these hot political topics? Are these issues connected? Are they accidental or intentional? What is the desired outcome? What should we do about it?
URL:https://jubileewc.org/event/political-talk-with-pastor-mark/
LOCATION:Jubilee Youth Room\, 3125 County Road 74\, St. Cloud\, MN\, 56301\, United States
CATEGORIES:Classes and Small Groups
END:VEVENT
BEGIN:VEVENT
DTSTART;TZID=America/Chicago:20220306T083000
DTEND;TZID=America/Chicago:20220306T093000
DTSTAMP:20260424T172404
CREATED:20220311T195748Z
LAST-MODIFIED:20220317T182858Z
UID:12269-1646555400-1646559000@jubileewc.org
SUMMARY:Sunday Morning Class
DESCRIPTION:“The Power of Your Words” by Pastor Robert Morris\nHow God can bless your life through the words you speak \nThis class will meet Sunday mornings 8:45 – 9:45 a.m. in the Fireside Room. It is facilitated by Pat Guenin. Anybody is welcome to attend.
URL:https://jubileewc.org/event/sunday-morning-class/2022-03-06/
LOCATION:Jubilee Worship Center\, 3125 County Road 74\, St. Cloud\, MN\, 56301\, United States
CATEGORIES:Classes and Small Groups
ATTACH;FMTTYPE=image/png:https://jubileewc.org/wp-content/uploads/2022/03/Power-of-Your-Words-Class-FB.png
END:VEVENT
BEGIN:VEVENT
DTSTART;TZID=America/Chicago:20220215T130000
DTEND;TZID=America/Chicago:20220215T150000
DTSTAMP:20260424T172404
CREATED:20220209T202943Z
LAST-MODIFIED:20220209T203200Z
UID:12115-1644930000-1644937200@jubileewc.org
SUMMARY:Secrets of the Mysteries Class
DESCRIPTION:New Class Starting: “Secrets of the Mysteries”\nTuesdays 1:00 – 3:00 pm \nFebruary 15 – May 3 \nIn the Fireside Room with Nancy LeTourneau \nFee: $70 (Scholarships available) \nBook: Prophets and Personal Prophecy by Bill Hamon (Available on Amazon for $11.99) \nThis class will meet in the Fireside Room and will Skype with Prophet Char Feldhusen\, who will be teaching it. Please don’t let that dissuade you. Char’s personality – love of God and abilities come right through the screen! \n“The training and activations will give you the confidence to walk in the prophetic gifts.”  -Char \nFor more information or to sign up\, click here.
URL:https://jubileewc.org/event/secrets-of-the-mysteries-class/2022-02-15/
LOCATION:Jubilee Worship Center\, 3125 County Road 74\, St. Cloud\, MN\, 56301\, United States
CATEGORIES:Classes and Small Groups
ATTACH;FMTTYPE=image/png:https://jubileewc.org/wp-content/uploads/2022/02/FB-Post-copy.png
END:VEVENT
END:VCALENDAR