BEGIN:VCALENDAR
VERSION:2.0
PRODID:-//Jubilee Worship Center - ECPv6.15.20//NONSGML v1.0//EN
CALSCALE:GREGORIAN
METHOD:PUBLISH
X-ORIGINAL-URL:https://jubileewc.org
X-WR-CALDESC:Events for Jubilee Worship Center
REFRESH-INTERVAL;VALUE=DURATION:PT1H
X-Robots-Tag:noindex
X-PUBLISHED-TTL:PT1H
BEGIN:VTIMEZONE
TZID:America/Chicago
BEGIN:DAYLIGHT
TZOFFSETFROM:-0600
TZOFFSETTO:-0500
TZNAME:CDT
DTSTART:20230312T080000
END:DAYLIGHT
BEGIN:STANDARD
TZOFFSETFROM:-0500
TZOFFSETTO:-0600
TZNAME:CST
DTSTART:20231105T070000
END:STANDARD
BEGIN:DAYLIGHT
TZOFFSETFROM:-0600
TZOFFSETTO:-0500
TZNAME:CDT
DTSTART:20240310T080000
END:DAYLIGHT
BEGIN:STANDARD
TZOFFSETFROM:-0500
TZOFFSETTO:-0600
TZNAME:CST
DTSTART:20241103T070000
END:STANDARD
BEGIN:DAYLIGHT
TZOFFSETFROM:-0600
TZOFFSETTO:-0500
TZNAME:CDT
DTSTART:20250309T080000
END:DAYLIGHT
BEGIN:STANDARD
TZOFFSETFROM:-0500
TZOFFSETTO:-0600
TZNAME:CST
DTSTART:20251102T070000
END:STANDARD
END:VTIMEZONE
BEGIN:VEVENT
DTSTART;TZID=America/Chicago:20241002T183000
DTEND;TZID=America/Chicago:20241002T193000
DTSTAMP:20260422T023501
CREATED:20230405T183917Z
LAST-MODIFIED:20240921T164220Z
UID:14775-1727893800-1727897400@jubileewc.org
SUMMARY:Discovery Step Two
DESCRIPTION:Join us for the second session in our Discovery Series: “Discover Your Purpose”\nDiscover your unique God-given personality and the spiritual gifts He has given you. Together\, your personality and your spiritual gifts lead to your God-given purpose in life. \nWednesday\, October 2nd from 6:30 – 7:30 p.m. (Meal at 6:00 p.m.) in the Fireside Room \nPrerequisite: Discovery Step One \nIf you would like to come to this session\, sign up here. \n 
URL:https://jubileewc.org/event/discovery-step-two/
LOCATION:Jubilee Worship Center\, 3125 County Road 74\, St. Cloud\, MN\, 56301\, United States
CATEGORIES:Discovery Class
ATTACH;FMTTYPE=image/png:https://jubileewc.org/wp-content/uploads/2022/07/Discovery-Series-FB.png
END:VEVENT
END:VCALENDAR