BEGIN:VCALENDAR
VERSION:2.0
PRODID:-//Jubilee Worship Center - ECPv6.15.20//NONSGML v1.0//EN
CALSCALE:GREGORIAN
METHOD:PUBLISH
X-WR-CALNAME:Jubilee Worship Center
X-ORIGINAL-URL:https://jubileewc.org
X-WR-CALDESC:Events for Jubilee Worship Center
REFRESH-INTERVAL;VALUE=DURATION:PT1H
X-Robots-Tag:noindex
X-PUBLISHED-TTL:PT1H
BEGIN:VTIMEZONE
TZID:America/Chicago
BEGIN:DAYLIGHT
TZOFFSETFROM:-0600
TZOFFSETTO:-0500
TZNAME:CDT
DTSTART:20250309T080000
END:DAYLIGHT
BEGIN:STANDARD
TZOFFSETFROM:-0500
TZOFFSETTO:-0600
TZNAME:CST
DTSTART:20251102T070000
END:STANDARD
BEGIN:DAYLIGHT
TZOFFSETFROM:-0600
TZOFFSETTO:-0500
TZNAME:CDT
DTSTART:20260308T080000
END:DAYLIGHT
BEGIN:STANDARD
TZOFFSETFROM:-0500
TZOFFSETTO:-0600
TZNAME:CST
DTSTART:20261101T070000
END:STANDARD
BEGIN:DAYLIGHT
TZOFFSETFROM:-0600
TZOFFSETTO:-0500
TZNAME:CDT
DTSTART:20270314T080000
END:DAYLIGHT
BEGIN:STANDARD
TZOFFSETFROM:-0500
TZOFFSETTO:-0600
TZNAME:CST
DTSTART:20271107T070000
END:STANDARD
END:VTIMEZONE
BEGIN:VEVENT
DTSTART;TZID=America/Chicago:20260603T180000
DTEND;TZID=America/Chicago:20260603T193000
DTSTAMP:20260424T174910
CREATED:20210910T233836Z
LAST-MODIFIED:20251113T193008Z
UID:19956-1780509600-1780515000@jubileewc.org
SUMMARY:Wednesday Night Kids Church
DESCRIPTION:Join us for Wednesday Night Kids Church with Stephanie Miller!\nThis is for all kids age 3 thru 6th grade (must be potty trained and out of diapers). \nWednesdays from 6:00 – 7:30 p.m. There will be a meal provided.
URL:https://jubileewc.org/event/wednesday-night-kids-ministry/2026-06-03/
LOCATION:Jubilee Worship Center\, 3125 County Road 74\, St. Cloud\, MN\, 56301\, United States
CATEGORIES:Jubilee Kids
ATTACH;FMTTYPE=image/png:https://jubileewc.org/wp-content/uploads/2021/09/Kids-Church-Website-2.png
END:VEVENT
BEGIN:VEVENT
DTSTART;TZID=America/Chicago:20260610T180000
DTEND;TZID=America/Chicago:20260610T193000
DTSTAMP:20260424T174910
CREATED:20210910T233836Z
LAST-MODIFIED:20251113T193009Z
UID:19957-1781114400-1781119800@jubileewc.org
SUMMARY:Wednesday Night Kids Church
DESCRIPTION:Join us for Wednesday Night Kids Church with Stephanie Miller!\nThis is for all kids age 3 thru 6th grade (must be potty trained and out of diapers). \nWednesdays from 6:00 – 7:30 p.m. There will be a meal provided.
URL:https://jubileewc.org/event/wednesday-night-kids-ministry/2026-06-10/
LOCATION:Jubilee Worship Center\, 3125 County Road 74\, St. Cloud\, MN\, 56301\, United States
CATEGORIES:Jubilee Kids
ATTACH;FMTTYPE=image/png:https://jubileewc.org/wp-content/uploads/2021/09/Kids-Church-Website-2.png
END:VEVENT
BEGIN:VEVENT
DTSTART;TZID=America/Chicago:20260617T180000
DTEND;TZID=America/Chicago:20260617T193000
DTSTAMP:20260424T174910
CREATED:20210910T233836Z
LAST-MODIFIED:20251113T193011Z
UID:19958-1781719200-1781724600@jubileewc.org
SUMMARY:Wednesday Night Kids Church
DESCRIPTION:Join us for Wednesday Night Kids Church with Stephanie Miller!\nThis is for all kids age 3 thru 6th grade (must be potty trained and out of diapers). \nWednesdays from 6:00 – 7:30 p.m. There will be a meal provided.
URL:https://jubileewc.org/event/wednesday-night-kids-ministry/2026-06-17/
LOCATION:Jubilee Worship Center\, 3125 County Road 74\, St. Cloud\, MN\, 56301\, United States
CATEGORIES:Jubilee Kids
ATTACH;FMTTYPE=image/png:https://jubileewc.org/wp-content/uploads/2021/09/Kids-Church-Website-2.png
END:VEVENT
BEGIN:VEVENT
DTSTART;TZID=America/Chicago:20260624T180000
DTEND;TZID=America/Chicago:20260624T193000
DTSTAMP:20260424T174910
CREATED:20210910T233836Z
LAST-MODIFIED:20251113T193013Z
UID:19959-1782324000-1782329400@jubileewc.org
SUMMARY:Wednesday Night Kids Church
DESCRIPTION:Join us for Wednesday Night Kids Church with Stephanie Miller!\nThis is for all kids age 3 thru 6th grade (must be potty trained and out of diapers). \nWednesdays from 6:00 – 7:30 p.m. There will be a meal provided.
URL:https://jubileewc.org/event/wednesday-night-kids-ministry/2026-06-24/
LOCATION:Jubilee Worship Center\, 3125 County Road 74\, St. Cloud\, MN\, 56301\, United States
CATEGORIES:Jubilee Kids
ATTACH;FMTTYPE=image/png:https://jubileewc.org/wp-content/uploads/2021/09/Kids-Church-Website-2.png
END:VEVENT
END:VCALENDAR