BEGIN:VCALENDAR
VERSION:2.0
PRODID:-//Jubilee Worship Center - ECPv6.15.20//NONSGML v1.0//EN
CALSCALE:GREGORIAN
METHOD:PUBLISH
X-ORIGINAL-URL:https://jubileewc.org
X-WR-CALDESC:Events for Jubilee Worship Center
REFRESH-INTERVAL;VALUE=DURATION:PT1H
X-Robots-Tag:noindex
X-PUBLISHED-TTL:PT1H
BEGIN:VTIMEZONE
TZID:America/Chicago
BEGIN:DAYLIGHT
TZOFFSETFROM:-0600
TZOFFSETTO:-0500
TZNAME:CDT
DTSTART:20250309T080000
END:DAYLIGHT
BEGIN:STANDARD
TZOFFSETFROM:-0500
TZOFFSETTO:-0600
TZNAME:CST
DTSTART:20251102T070000
END:STANDARD
BEGIN:DAYLIGHT
TZOFFSETFROM:-0600
TZOFFSETTO:-0500
TZNAME:CDT
DTSTART:20260308T080000
END:DAYLIGHT
BEGIN:STANDARD
TZOFFSETFROM:-0500
TZOFFSETTO:-0600
TZNAME:CST
DTSTART:20261101T070000
END:STANDARD
BEGIN:DAYLIGHT
TZOFFSETFROM:-0600
TZOFFSETTO:-0500
TZNAME:CDT
DTSTART:20270314T080000
END:DAYLIGHT
BEGIN:STANDARD
TZOFFSETFROM:-0500
TZOFFSETTO:-0600
TZNAME:CST
DTSTART:20271107T070000
END:STANDARD
END:VTIMEZONE
BEGIN:VEVENT
DTSTART;TZID=America/Chicago:20260805T180000
DTEND;TZID=America/Chicago:20260805T193000
DTSTAMP:20260424T210633
CREATED:20210910T233836Z
LAST-MODIFIED:20251113T193021Z
UID:19965-1785952800-1785958200@jubileewc.org
SUMMARY:Wednesday Night Kids Church
DESCRIPTION:Join us for Wednesday Night Kids Church with Stephanie Miller!\nThis is for all kids age 3 thru 6th grade (must be potty trained and out of diapers). \nWednesdays from 6:00 – 7:30 p.m. There will be a meal provided.
URL:https://jubileewc.org/event/wednesday-night-kids-ministry/2026-08-05/
LOCATION:Jubilee Worship Center\, 3125 County Road 74\, St. Cloud\, MN\, 56301\, United States
CATEGORIES:Jubilee Kids
ATTACH;FMTTYPE=image/png:https://jubileewc.org/wp-content/uploads/2021/09/Kids-Church-Website-2.png
END:VEVENT
BEGIN:VEVENT
DTSTART;TZID=America/Chicago:20260812T180000
DTEND;TZID=America/Chicago:20260812T193000
DTSTAMP:20260424T210633
CREATED:20210910T233836Z
LAST-MODIFIED:20251113T193022Z
UID:19966-1786557600-1786563000@jubileewc.org
SUMMARY:Wednesday Night Kids Church
DESCRIPTION:Join us for Wednesday Night Kids Church with Stephanie Miller!\nThis is for all kids age 3 thru 6th grade (must be potty trained and out of diapers). \nWednesdays from 6:00 – 7:30 p.m. There will be a meal provided.
URL:https://jubileewc.org/event/wednesday-night-kids-ministry/2026-08-12/
LOCATION:Jubilee Worship Center\, 3125 County Road 74\, St. Cloud\, MN\, 56301\, United States
CATEGORIES:Jubilee Kids
ATTACH;FMTTYPE=image/png:https://jubileewc.org/wp-content/uploads/2021/09/Kids-Church-Website-2.png
END:VEVENT
BEGIN:VEVENT
DTSTART;TZID=America/Chicago:20260819T180000
DTEND;TZID=America/Chicago:20260819T193000
DTSTAMP:20260424T210633
CREATED:20210910T233836Z
LAST-MODIFIED:20251113T193023Z
UID:19967-1787162400-1787167800@jubileewc.org
SUMMARY:Wednesday Night Kids Church
DESCRIPTION:Join us for Wednesday Night Kids Church with Stephanie Miller!\nThis is for all kids age 3 thru 6th grade (must be potty trained and out of diapers). \nWednesdays from 6:00 – 7:30 p.m. There will be a meal provided.
URL:https://jubileewc.org/event/wednesday-night-kids-ministry/2026-08-19/
LOCATION:Jubilee Worship Center\, 3125 County Road 74\, St. Cloud\, MN\, 56301\, United States
CATEGORIES:Jubilee Kids
ATTACH;FMTTYPE=image/png:https://jubileewc.org/wp-content/uploads/2021/09/Kids-Church-Website-2.png
END:VEVENT
BEGIN:VEVENT
DTSTART;TZID=America/Chicago:20260826T180000
DTEND;TZID=America/Chicago:20260826T193000
DTSTAMP:20260424T210633
CREATED:20210910T233836Z
LAST-MODIFIED:20251113T193025Z
UID:19968-1787767200-1787772600@jubileewc.org
SUMMARY:Wednesday Night Kids Church
DESCRIPTION:Join us for Wednesday Night Kids Church with Stephanie Miller!\nThis is for all kids age 3 thru 6th grade (must be potty trained and out of diapers). \nWednesdays from 6:00 – 7:30 p.m. There will be a meal provided.
URL:https://jubileewc.org/event/wednesday-night-kids-ministry/2026-08-26/
LOCATION:Jubilee Worship Center\, 3125 County Road 74\, St. Cloud\, MN\, 56301\, United States
CATEGORIES:Jubilee Kids
ATTACH;FMTTYPE=image/png:https://jubileewc.org/wp-content/uploads/2021/09/Kids-Church-Website-2.png
END:VEVENT
END:VCALENDAR