BEGIN:VCALENDAR
VERSION:2.0
PRODID:-//Jubilee Worship Center - ECPv6.15.20//NONSGML v1.0//EN
CALSCALE:GREGORIAN
METHOD:PUBLISH
X-WR-CALNAME:Jubilee Worship Center
X-ORIGINAL-URL:https://jubileewc.org
X-WR-CALDESC:Events for Jubilee Worship Center
REFRESH-INTERVAL;VALUE=DURATION:PT1H
X-Robots-Tag:noindex
X-PUBLISHED-TTL:PT1H
BEGIN:VTIMEZONE
TZID:America/Chicago
BEGIN:DAYLIGHT
TZOFFSETFROM:-0600
TZOFFSETTO:-0500
TZNAME:CDT
DTSTART:20250309T080000
END:DAYLIGHT
BEGIN:STANDARD
TZOFFSETFROM:-0500
TZOFFSETTO:-0600
TZNAME:CST
DTSTART:20251102T070000
END:STANDARD
BEGIN:DAYLIGHT
TZOFFSETFROM:-0600
TZOFFSETTO:-0500
TZNAME:CDT
DTSTART:20260308T080000
END:DAYLIGHT
BEGIN:STANDARD
TZOFFSETFROM:-0500
TZOFFSETTO:-0600
TZNAME:CST
DTSTART:20261101T070000
END:STANDARD
BEGIN:DAYLIGHT
TZOFFSETFROM:-0600
TZOFFSETTO:-0500
TZNAME:CDT
DTSTART:20270314T080000
END:DAYLIGHT
BEGIN:STANDARD
TZOFFSETFROM:-0500
TZOFFSETTO:-0600
TZNAME:CST
DTSTART:20271107T070000
END:STANDARD
END:VTIMEZONE
BEGIN:VEVENT
DTSTART;TZID=America/Chicago:20260923T180000
DTEND;TZID=America/Chicago:20260923T193000
DTSTAMP:20260424T224543
CREATED:20210910T233836Z
LAST-MODIFIED:20251113T193030Z
UID:19972-1790186400-1790191800@jubileewc.org
SUMMARY:Wednesday Night Kids Church
DESCRIPTION:Join us for Wednesday Night Kids Church with Stephanie Miller!\nThis is for all kids age 3 thru 6th grade (must be potty trained and out of diapers). \nWednesdays from 6:00 – 7:30 p.m. There will be a meal provided.
URL:https://jubileewc.org/event/wednesday-night-kids-ministry/2026-09-23/
LOCATION:Jubilee Worship Center\, 3125 County Road 74\, St. Cloud\, MN\, 56301\, United States
CATEGORIES:Jubilee Kids
ATTACH;FMTTYPE=image/png:https://jubileewc.org/wp-content/uploads/2021/09/Kids-Church-Website-2.png
END:VEVENT
BEGIN:VEVENT
DTSTART;TZID=America/Chicago:20260930T180000
DTEND;TZID=America/Chicago:20260930T193000
DTSTAMP:20260424T224543
CREATED:20210910T233836Z
LAST-MODIFIED:20251113T193032Z
UID:19973-1790791200-1790796600@jubileewc.org
SUMMARY:Wednesday Night Kids Church
DESCRIPTION:Join us for Wednesday Night Kids Church with Stephanie Miller!\nThis is for all kids age 3 thru 6th grade (must be potty trained and out of diapers). \nWednesdays from 6:00 – 7:30 p.m. There will be a meal provided.
URL:https://jubileewc.org/event/wednesday-night-kids-ministry/2026-09-30/
LOCATION:Jubilee Worship Center\, 3125 County Road 74\, St. Cloud\, MN\, 56301\, United States
CATEGORIES:Jubilee Kids
ATTACH;FMTTYPE=image/png:https://jubileewc.org/wp-content/uploads/2021/09/Kids-Church-Website-2.png
END:VEVENT
BEGIN:VEVENT
DTSTART;TZID=America/Chicago:20261007T180000
DTEND;TZID=America/Chicago:20261007T193000
DTSTAMP:20260424T224543
CREATED:20210910T233836Z
LAST-MODIFIED:20251113T193033Z
UID:19974-1791396000-1791401400@jubileewc.org
SUMMARY:Wednesday Night Kids Church
DESCRIPTION:Join us for Wednesday Night Kids Church with Stephanie Miller!\nThis is for all kids age 3 thru 6th grade (must be potty trained and out of diapers). \nWednesdays from 6:00 – 7:30 p.m. There will be a meal provided.
URL:https://jubileewc.org/event/wednesday-night-kids-ministry/2026-10-07/
LOCATION:Jubilee Worship Center\, 3125 County Road 74\, St. Cloud\, MN\, 56301\, United States
CATEGORIES:Jubilee Kids
ATTACH;FMTTYPE=image/png:https://jubileewc.org/wp-content/uploads/2021/09/Kids-Church-Website-2.png
END:VEVENT
BEGIN:VEVENT
DTSTART;TZID=America/Chicago:20261014T180000
DTEND;TZID=America/Chicago:20261014T193000
DTSTAMP:20260424T224543
CREATED:20210910T233836Z
LAST-MODIFIED:20251113T193034Z
UID:19975-1792000800-1792006200@jubileewc.org
SUMMARY:Wednesday Night Kids Church
DESCRIPTION:Join us for Wednesday Night Kids Church with Stephanie Miller!\nThis is for all kids age 3 thru 6th grade (must be potty trained and out of diapers). \nWednesdays from 6:00 – 7:30 p.m. There will be a meal provided.
URL:https://jubileewc.org/event/wednesday-night-kids-ministry/2026-10-14/
LOCATION:Jubilee Worship Center\, 3125 County Road 74\, St. Cloud\, MN\, 56301\, United States
CATEGORIES:Jubilee Kids
ATTACH;FMTTYPE=image/png:https://jubileewc.org/wp-content/uploads/2021/09/Kids-Church-Website-2.png
END:VEVENT
BEGIN:VEVENT
DTSTART;TZID=America/Chicago:20261021T180000
DTEND;TZID=America/Chicago:20261021T193000
DTSTAMP:20260424T224543
CREATED:20210910T233836Z
LAST-MODIFIED:20251113T193035Z
UID:19976-1792605600-1792611000@jubileewc.org
SUMMARY:Wednesday Night Kids Church
DESCRIPTION:Join us for Wednesday Night Kids Church with Stephanie Miller!\nThis is for all kids age 3 thru 6th grade (must be potty trained and out of diapers). \nWednesdays from 6:00 – 7:30 p.m. There will be a meal provided.
URL:https://jubileewc.org/event/wednesday-night-kids-ministry/2026-10-21/
LOCATION:Jubilee Worship Center\, 3125 County Road 74\, St. Cloud\, MN\, 56301\, United States
CATEGORIES:Jubilee Kids
ATTACH;FMTTYPE=image/png:https://jubileewc.org/wp-content/uploads/2021/09/Kids-Church-Website-2.png
END:VEVENT
BEGIN:VEVENT
DTSTART;TZID=America/Chicago:20261028T180000
DTEND;TZID=America/Chicago:20261028T193000
DTSTAMP:20260424T224543
CREATED:20210910T233836Z
LAST-MODIFIED:20251113T193037Z
UID:19977-1793210400-1793215800@jubileewc.org
SUMMARY:Wednesday Night Kids Church
DESCRIPTION:Join us for Wednesday Night Kids Church with Stephanie Miller!\nThis is for all kids age 3 thru 6th grade (must be potty trained and out of diapers). \nWednesdays from 6:00 – 7:30 p.m. There will be a meal provided.
URL:https://jubileewc.org/event/wednesday-night-kids-ministry/2026-10-28/
LOCATION:Jubilee Worship Center\, 3125 County Road 74\, St. Cloud\, MN\, 56301\, United States
CATEGORIES:Jubilee Kids
ATTACH;FMTTYPE=image/png:https://jubileewc.org/wp-content/uploads/2021/09/Kids-Church-Website-2.png
END:VEVENT
BEGIN:VEVENT
DTSTART;TZID=America/Chicago:20261104T180000
DTEND;TZID=America/Chicago:20261104T193000
DTSTAMP:20260424T224543
CREATED:20210910T233836Z
LAST-MODIFIED:20251113T193040Z
UID:19978-1793815200-1793820600@jubileewc.org
SUMMARY:Wednesday Night Kids Church
DESCRIPTION:Join us for Wednesday Night Kids Church with Stephanie Miller!\nThis is for all kids age 3 thru 6th grade (must be potty trained and out of diapers). \nWednesdays from 6:00 – 7:30 p.m. There will be a meal provided.
URL:https://jubileewc.org/event/wednesday-night-kids-ministry/2026-11-04/
LOCATION:Jubilee Worship Center\, 3125 County Road 74\, St. Cloud\, MN\, 56301\, United States
CATEGORIES:Jubilee Kids
ATTACH;FMTTYPE=image/png:https://jubileewc.org/wp-content/uploads/2021/09/Kids-Church-Website-2.png
END:VEVENT
BEGIN:VEVENT
DTSTART;TZID=America/Chicago:20261111T180000
DTEND;TZID=America/Chicago:20261111T193000
DTSTAMP:20260424T224543
CREATED:20210910T233836Z
LAST-MODIFIED:20251113T193042Z
UID:19979-1794420000-1794425400@jubileewc.org
SUMMARY:Wednesday Night Kids Church
DESCRIPTION:Join us for Wednesday Night Kids Church with Stephanie Miller!\nThis is for all kids age 3 thru 6th grade (must be potty trained and out of diapers). \nWednesdays from 6:00 – 7:30 p.m. There will be a meal provided.
URL:https://jubileewc.org/event/wednesday-night-kids-ministry/2026-11-11/
LOCATION:Jubilee Worship Center\, 3125 County Road 74\, St. Cloud\, MN\, 56301\, United States
CATEGORIES:Jubilee Kids
ATTACH;FMTTYPE=image/png:https://jubileewc.org/wp-content/uploads/2021/09/Kids-Church-Website-2.png
END:VEVENT
END:VCALENDAR