BEGIN:VCALENDAR
VERSION:2.0
PRODID:-//Jubilee Worship Center - ECPv6.15.20//NONSGML v1.0//EN
CALSCALE:GREGORIAN
METHOD:PUBLISH
X-WR-CALNAME:Jubilee Worship Center
X-ORIGINAL-URL:https://jubileewc.org
X-WR-CALDESC:Events for Jubilee Worship Center
REFRESH-INTERVAL;VALUE=DURATION:PT1H
X-Robots-Tag:noindex
X-PUBLISHED-TTL:PT1H
BEGIN:VTIMEZONE
TZID:America/Chicago
BEGIN:DAYLIGHT
TZOFFSETFROM:-0600
TZOFFSETTO:-0500
TZNAME:CDT
DTSTART:20250309T080000
END:DAYLIGHT
BEGIN:STANDARD
TZOFFSETFROM:-0500
TZOFFSETTO:-0600
TZNAME:CST
DTSTART:20251102T070000
END:STANDARD
BEGIN:DAYLIGHT
TZOFFSETFROM:-0600
TZOFFSETTO:-0500
TZNAME:CDT
DTSTART:20260308T080000
END:DAYLIGHT
BEGIN:STANDARD
TZOFFSETFROM:-0500
TZOFFSETTO:-0600
TZNAME:CST
DTSTART:20261101T070000
END:STANDARD
BEGIN:DAYLIGHT
TZOFFSETFROM:-0600
TZOFFSETTO:-0500
TZNAME:CDT
DTSTART:20270314T080000
END:DAYLIGHT
BEGIN:STANDARD
TZOFFSETFROM:-0500
TZOFFSETTO:-0600
TZNAME:CST
DTSTART:20271107T070000
END:STANDARD
END:VTIMEZONE
BEGIN:VEVENT
DTSTART;TZID=America/Chicago:20260218T063000
DTEND;TZID=America/Chicago:20260218T073000
DTSTAMP:20260424T175209
CREATED:20221117T202648Z
LAST-MODIFIED:20260423T183358Z
UID:19778-1771396200-1771399800@jubileewc.org
SUMMARY:Wednesday Morning Prayer
DESCRIPTION:Join Pastor Mark every Wednesday morning at 6:30 a.m. in the Fireside Room for Morning Prayer!\nRe-center and refocus your week with prayer and encouragement\, lifting our church\, our families\, communities\, and nation up to God.
URL:https://jubileewc.org/event/wednesday-morning-prayer/2026-02-18/
LOCATION:Jubilee Worship Center\, 3125 County Road 74\, St. Cloud\, MN\, 56301\, United States
CATEGORIES:Prayer
ATTACH;FMTTYPE=image/png:https://jubileewc.org/wp-content/uploads/2022/11/Morning-Prayer-Website.png
END:VEVENT
BEGIN:VEVENT
DTSTART;TZID=America/Chicago:20260218T180000
DTEND;TZID=America/Chicago:20260218T193000
DTSTAMP:20260424T175209
CREATED:20201209T030027Z
LAST-MODIFIED:20260205T193106Z
UID:20681-1771437600-1771443000@jubileewc.org
SUMMARY:Wednesday Night Adult Prayer
DESCRIPTION:Join us for a time of prayer on Wednesday evenings from 6:00 – 7:30 p.m.\nNo previous experience necessary. \nThere will be a meal at 6:00 p.m.
URL:https://jubileewc.org/event/wednesday-night-adult-prayer/2026-02-18/
LOCATION:Jubilee Worship Center\, 3125 County Road 74\, St. Cloud\, MN\, 56301\, United States
CATEGORIES:Prayer
ATTACH;FMTTYPE=image/png:https://jubileewc.org/wp-content/uploads/2020/12/Prayer-Night-Website-2.png
END:VEVENT
BEGIN:VEVENT
DTSTART;TZID=America/Chicago:20260225T063000
DTEND;TZID=America/Chicago:20260225T073000
DTSTAMP:20260424T175209
CREATED:20221117T202648Z
LAST-MODIFIED:20260423T183400Z
UID:19779-1772001000-1772004600@jubileewc.org
SUMMARY:Wednesday Morning Prayer
DESCRIPTION:Join Pastor Mark every Wednesday morning at 6:30 a.m. in the Fireside Room for Morning Prayer!\nRe-center and refocus your week with prayer and encouragement\, lifting our church\, our families\, communities\, and nation up to God.
URL:https://jubileewc.org/event/wednesday-morning-prayer/2026-02-25/
LOCATION:Jubilee Worship Center\, 3125 County Road 74\, St. Cloud\, MN\, 56301\, United States
CATEGORIES:Prayer
ATTACH;FMTTYPE=image/png:https://jubileewc.org/wp-content/uploads/2022/11/Morning-Prayer-Website.png
END:VEVENT
BEGIN:VEVENT
DTSTART;TZID=America/Chicago:20260304T063000
DTEND;TZID=America/Chicago:20260304T073000
DTSTAMP:20260424T175209
CREATED:20221117T202648Z
LAST-MODIFIED:20260423T183402Z
UID:19780-1772605800-1772609400@jubileewc.org
SUMMARY:Wednesday Morning Prayer
DESCRIPTION:Join Pastor Mark every Wednesday morning at 6:30 a.m. in the Fireside Room for Morning Prayer!\nRe-center and refocus your week with prayer and encouragement\, lifting our church\, our families\, communities\, and nation up to God.
URL:https://jubileewc.org/event/wednesday-morning-prayer/2026-03-04/
LOCATION:Jubilee Worship Center\, 3125 County Road 74\, St. Cloud\, MN\, 56301\, United States
CATEGORIES:Prayer
ATTACH;FMTTYPE=image/png:https://jubileewc.org/wp-content/uploads/2022/11/Morning-Prayer-Website.png
END:VEVENT
BEGIN:VEVENT
DTSTART;TZID=America/Chicago:20260304T180000
DTEND;TZID=America/Chicago:20260304T193000
DTSTAMP:20260424T175209
CREATED:20201209T030027Z
LAST-MODIFIED:20260205T193107Z
UID:20683-1772647200-1772652600@jubileewc.org
SUMMARY:Wednesday Night Adult Prayer
DESCRIPTION:Join us for a time of prayer on Wednesday evenings from 6:00 – 7:30 p.m.\nNo previous experience necessary. \nThere will be a meal at 6:00 p.m.
URL:https://jubileewc.org/event/wednesday-night-adult-prayer/2026-03-04/
LOCATION:Jubilee Worship Center\, 3125 County Road 74\, St. Cloud\, MN\, 56301\, United States
CATEGORIES:Prayer
ATTACH;FMTTYPE=image/png:https://jubileewc.org/wp-content/uploads/2020/12/Prayer-Night-Website-2.png
END:VEVENT
BEGIN:VEVENT
DTSTART;TZID=America/Chicago:20260311T063000
DTEND;TZID=America/Chicago:20260311T073000
DTSTAMP:20260424T175209
CREATED:20221117T202648Z
LAST-MODIFIED:20260423T183403Z
UID:19781-1773210600-1773214200@jubileewc.org
SUMMARY:Wednesday Morning Prayer
DESCRIPTION:Join Pastor Mark every Wednesday morning at 6:30 a.m. in the Fireside Room for Morning Prayer!\nRe-center and refocus your week with prayer and encouragement\, lifting our church\, our families\, communities\, and nation up to God.
URL:https://jubileewc.org/event/wednesday-morning-prayer/2026-03-11/
LOCATION:Jubilee Worship Center\, 3125 County Road 74\, St. Cloud\, MN\, 56301\, United States
CATEGORIES:Prayer
ATTACH;FMTTYPE=image/png:https://jubileewc.org/wp-content/uploads/2022/11/Morning-Prayer-Website.png
END:VEVENT
BEGIN:VEVENT
DTSTART;TZID=America/Chicago:20260311T180000
DTEND;TZID=America/Chicago:20260311T193000
DTSTAMP:20260424T175209
CREATED:20201209T030027Z
LAST-MODIFIED:20260205T193108Z
UID:20684-1773252000-1773257400@jubileewc.org
SUMMARY:Wednesday Night Adult Prayer
DESCRIPTION:Join us for a time of prayer on Wednesday evenings from 6:00 – 7:30 p.m.\nNo previous experience necessary. \nThere will be a meal at 6:00 p.m.
URL:https://jubileewc.org/event/wednesday-night-adult-prayer/2026-03-11/
LOCATION:Jubilee Worship Center\, 3125 County Road 74\, St. Cloud\, MN\, 56301\, United States
CATEGORIES:Prayer
ATTACH;FMTTYPE=image/png:https://jubileewc.org/wp-content/uploads/2020/12/Prayer-Night-Website-2.png
END:VEVENT
BEGIN:VEVENT
DTSTART;TZID=America/Chicago:20260318T063000
DTEND;TZID=America/Chicago:20260318T073000
DTSTAMP:20260424T175209
CREATED:20221117T202648Z
LAST-MODIFIED:20260423T183405Z
UID:19782-1773815400-1773819000@jubileewc.org
SUMMARY:Wednesday Morning Prayer
DESCRIPTION:Join Pastor Mark every Wednesday morning at 6:30 a.m. in the Fireside Room for Morning Prayer!\nRe-center and refocus your week with prayer and encouragement\, lifting our church\, our families\, communities\, and nation up to God.
URL:https://jubileewc.org/event/wednesday-morning-prayer/2026-03-18/
LOCATION:Jubilee Worship Center\, 3125 County Road 74\, St. Cloud\, MN\, 56301\, United States
CATEGORIES:Prayer
ATTACH;FMTTYPE=image/png:https://jubileewc.org/wp-content/uploads/2022/11/Morning-Prayer-Website.png
END:VEVENT
BEGIN:VEVENT
DTSTART;TZID=America/Chicago:20260318T180000
DTEND;TZID=America/Chicago:20260318T193000
DTSTAMP:20260424T175209
CREATED:20201209T030027Z
LAST-MODIFIED:20260205T193109Z
UID:20685-1773856800-1773862200@jubileewc.org
SUMMARY:Wednesday Night Adult Prayer
DESCRIPTION:Join us for a time of prayer on Wednesday evenings from 6:00 – 7:30 p.m.\nNo previous experience necessary. \nThere will be a meal at 6:00 p.m.
URL:https://jubileewc.org/event/wednesday-night-adult-prayer/2026-03-18/
LOCATION:Jubilee Worship Center\, 3125 County Road 74\, St. Cloud\, MN\, 56301\, United States
CATEGORIES:Prayer
ATTACH;FMTTYPE=image/png:https://jubileewc.org/wp-content/uploads/2020/12/Prayer-Night-Website-2.png
END:VEVENT
BEGIN:VEVENT
DTSTART;TZID=America/Chicago:20260325T063000
DTEND;TZID=America/Chicago:20260325T073000
DTSTAMP:20260424T175209
CREATED:20221117T202648Z
LAST-MODIFIED:20260423T183407Z
UID:19783-1774420200-1774423800@jubileewc.org
SUMMARY:Wednesday Morning Prayer
DESCRIPTION:Join Pastor Mark every Wednesday morning at 6:30 a.m. in the Fireside Room for Morning Prayer!\nRe-center and refocus your week with prayer and encouragement\, lifting our church\, our families\, communities\, and nation up to God.
URL:https://jubileewc.org/event/wednesday-morning-prayer/2026-03-25/
LOCATION:Jubilee Worship Center\, 3125 County Road 74\, St. Cloud\, MN\, 56301\, United States
CATEGORIES:Prayer
ATTACH;FMTTYPE=image/png:https://jubileewc.org/wp-content/uploads/2022/11/Morning-Prayer-Website.png
END:VEVENT
BEGIN:VEVENT
DTSTART;TZID=America/Chicago:20260325T180000
DTEND;TZID=America/Chicago:20260325T193000
DTSTAMP:20260424T175209
CREATED:20201209T030027Z
LAST-MODIFIED:20260205T193111Z
UID:20686-1774461600-1774467000@jubileewc.org
SUMMARY:Wednesday Night Adult Prayer
DESCRIPTION:Join us for a time of prayer on Wednesday evenings from 6:00 – 7:30 p.m.\nNo previous experience necessary. \nThere will be a meal at 6:00 p.m.
URL:https://jubileewc.org/event/wednesday-night-adult-prayer/2026-03-25/
LOCATION:Jubilee Worship Center\, 3125 County Road 74\, St. Cloud\, MN\, 56301\, United States
CATEGORIES:Prayer
ATTACH;FMTTYPE=image/png:https://jubileewc.org/wp-content/uploads/2020/12/Prayer-Night-Website-2.png
END:VEVENT
BEGIN:VEVENT
DTSTART;TZID=America/Chicago:20260401T063000
DTEND;TZID=America/Chicago:20260401T073000
DTSTAMP:20260424T175209
CREATED:20221117T202648Z
LAST-MODIFIED:20260423T183409Z
UID:19784-1775025000-1775028600@jubileewc.org
SUMMARY:Wednesday Morning Prayer
DESCRIPTION:Join Pastor Mark every Wednesday morning at 6:30 a.m. in the Fireside Room for Morning Prayer!\nRe-center and refocus your week with prayer and encouragement\, lifting our church\, our families\, communities\, and nation up to God.
URL:https://jubileewc.org/event/wednesday-morning-prayer/2026-04-01/
LOCATION:Jubilee Worship Center\, 3125 County Road 74\, St. Cloud\, MN\, 56301\, United States
CATEGORIES:Prayer
ATTACH;FMTTYPE=image/png:https://jubileewc.org/wp-content/uploads/2022/11/Morning-Prayer-Website.png
END:VEVENT
BEGIN:VEVENT
DTSTART;TZID=America/Chicago:20260401T180000
DTEND;TZID=America/Chicago:20260401T193000
DTSTAMP:20260424T175209
CREATED:20201209T030027Z
LAST-MODIFIED:20260205T193112Z
UID:20687-1775066400-1775071800@jubileewc.org
SUMMARY:Wednesday Night Adult Prayer
DESCRIPTION:Join us for a time of prayer on Wednesday evenings from 6:00 – 7:30 p.m.\nNo previous experience necessary. \nThere will be a meal at 6:00 p.m.
URL:https://jubileewc.org/event/wednesday-night-adult-prayer/2026-04-01/
LOCATION:Jubilee Worship Center\, 3125 County Road 74\, St. Cloud\, MN\, 56301\, United States
CATEGORIES:Prayer
ATTACH;FMTTYPE=image/png:https://jubileewc.org/wp-content/uploads/2020/12/Prayer-Night-Website-2.png
END:VEVENT
BEGIN:VEVENT
DTSTART;TZID=America/Chicago:20260408T063000
DTEND;TZID=America/Chicago:20260408T073000
DTSTAMP:20260424T175209
CREATED:20221117T202648Z
LAST-MODIFIED:20260423T183413Z
UID:19785-1775629800-1775633400@jubileewc.org
SUMMARY:Wednesday Morning Prayer
DESCRIPTION:Join Pastor Mark every Wednesday morning at 6:30 a.m. in the Fireside Room for Morning Prayer!\nRe-center and refocus your week with prayer and encouragement\, lifting our church\, our families\, communities\, and nation up to God.
URL:https://jubileewc.org/event/wednesday-morning-prayer/2026-04-08/
LOCATION:Jubilee Worship Center\, 3125 County Road 74\, St. Cloud\, MN\, 56301\, United States
CATEGORIES:Prayer
ATTACH;FMTTYPE=image/png:https://jubileewc.org/wp-content/uploads/2022/11/Morning-Prayer-Website.png
END:VEVENT
BEGIN:VEVENT
DTSTART;TZID=America/Chicago:20260408T180000
DTEND;TZID=America/Chicago:20260408T193000
DTSTAMP:20260424T175209
CREATED:20201209T030027Z
LAST-MODIFIED:20260205T193113Z
UID:20688-1775671200-1775676600@jubileewc.org
SUMMARY:Wednesday Night Adult Prayer
DESCRIPTION:Join us for a time of prayer on Wednesday evenings from 6:00 – 7:30 p.m.\nNo previous experience necessary. \nThere will be a meal at 6:00 p.m.
URL:https://jubileewc.org/event/wednesday-night-adult-prayer/2026-04-08/
LOCATION:Jubilee Worship Center\, 3125 County Road 74\, St. Cloud\, MN\, 56301\, United States
CATEGORIES:Prayer
ATTACH;FMTTYPE=image/png:https://jubileewc.org/wp-content/uploads/2020/12/Prayer-Night-Website-2.png
END:VEVENT
BEGIN:VEVENT
DTSTART;TZID=America/Chicago:20260415T063000
DTEND;TZID=America/Chicago:20260415T073000
DTSTAMP:20260424T175209
CREATED:20221117T202648Z
LAST-MODIFIED:20260423T183414Z
UID:19786-1776234600-1776238200@jubileewc.org
SUMMARY:Wednesday Morning Prayer
DESCRIPTION:Join Pastor Mark every Wednesday morning at 6:30 a.m. in the Fireside Room for Morning Prayer!\nRe-center and refocus your week with prayer and encouragement\, lifting our church\, our families\, communities\, and nation up to God.
URL:https://jubileewc.org/event/wednesday-morning-prayer/2026-04-15/
LOCATION:Jubilee Worship Center\, 3125 County Road 74\, St. Cloud\, MN\, 56301\, United States
CATEGORIES:Prayer
ATTACH;FMTTYPE=image/png:https://jubileewc.org/wp-content/uploads/2022/11/Morning-Prayer-Website.png
END:VEVENT
BEGIN:VEVENT
DTSTART;TZID=America/Chicago:20260415T180000
DTEND;TZID=America/Chicago:20260415T193000
DTSTAMP:20260424T175209
CREATED:20201209T030027Z
LAST-MODIFIED:20260205T193114Z
UID:20689-1776276000-1776281400@jubileewc.org
SUMMARY:Wednesday Night Adult Prayer
DESCRIPTION:Join us for a time of prayer on Wednesday evenings from 6:00 – 7:30 p.m.\nNo previous experience necessary. \nThere will be a meal at 6:00 p.m.
URL:https://jubileewc.org/event/wednesday-night-adult-prayer/2026-04-15/
LOCATION:Jubilee Worship Center\, 3125 County Road 74\, St. Cloud\, MN\, 56301\, United States
CATEGORIES:Prayer
ATTACH;FMTTYPE=image/png:https://jubileewc.org/wp-content/uploads/2020/12/Prayer-Night-Website-2.png
END:VEVENT
BEGIN:VEVENT
DTSTART;TZID=America/Chicago:20260422T063000
DTEND;TZID=America/Chicago:20260422T073000
DTSTAMP:20260424T175209
CREATED:20221117T202648Z
LAST-MODIFIED:20260423T183416Z
UID:19787-1776839400-1776843000@jubileewc.org
SUMMARY:Wednesday Morning Prayer
DESCRIPTION:Join Pastor Mark every Wednesday morning at 6:30 a.m. in the Fireside Room for Morning Prayer!\nRe-center and refocus your week with prayer and encouragement\, lifting our church\, our families\, communities\, and nation up to God.
URL:https://jubileewc.org/event/wednesday-morning-prayer/2026-04-22/
LOCATION:Jubilee Worship Center\, 3125 County Road 74\, St. Cloud\, MN\, 56301\, United States
CATEGORIES:Prayer
ATTACH;FMTTYPE=image/png:https://jubileewc.org/wp-content/uploads/2022/11/Morning-Prayer-Website.png
END:VEVENT
BEGIN:VEVENT
DTSTART;TZID=America/Chicago:20260422T180000
DTEND;TZID=America/Chicago:20260422T193000
DTSTAMP:20260424T175209
CREATED:20201209T030027Z
LAST-MODIFIED:20260205T193118Z
UID:20690-1776880800-1776886200@jubileewc.org
SUMMARY:Wednesday Night Adult Prayer
DESCRIPTION:Join us for a time of prayer on Wednesday evenings from 6:00 – 7:30 p.m.\nNo previous experience necessary. \nThere will be a meal at 6:00 p.m.
URL:https://jubileewc.org/event/wednesday-night-adult-prayer/2026-04-22/
LOCATION:Jubilee Worship Center\, 3125 County Road 74\, St. Cloud\, MN\, 56301\, United States
CATEGORIES:Prayer
ATTACH;FMTTYPE=image/png:https://jubileewc.org/wp-content/uploads/2020/12/Prayer-Night-Website-2.png
END:VEVENT
BEGIN:VEVENT
DTSTART;TZID=America/Chicago:20260429T063000
DTEND;TZID=America/Chicago:20260429T073000
DTSTAMP:20260424T175209
CREATED:20221117T202648Z
LAST-MODIFIED:20260423T183418Z
UID:19788-1777444200-1777447800@jubileewc.org
SUMMARY:Wednesday Morning Prayer
DESCRIPTION:Join Pastor Mark every Wednesday morning at 6:30 a.m. in the Fireside Room for Morning Prayer!\nRe-center and refocus your week with prayer and encouragement\, lifting our church\, our families\, communities\, and nation up to God.
URL:https://jubileewc.org/event/wednesday-morning-prayer/2026-04-29/
LOCATION:Jubilee Worship Center\, 3125 County Road 74\, St. Cloud\, MN\, 56301\, United States
CATEGORIES:Prayer
ATTACH;FMTTYPE=image/png:https://jubileewc.org/wp-content/uploads/2022/11/Morning-Prayer-Website.png
END:VEVENT
BEGIN:VEVENT
DTSTART;TZID=America/Chicago:20260429T180000
DTEND;TZID=America/Chicago:20260429T193000
DTSTAMP:20260424T175209
CREATED:20201209T030027Z
LAST-MODIFIED:20260205T193119Z
UID:20691-1777485600-1777491000@jubileewc.org
SUMMARY:Wednesday Night Adult Prayer
DESCRIPTION:Join us for a time of prayer on Wednesday evenings from 6:00 – 7:30 p.m.\nNo previous experience necessary. \nThere will be a meal at 6:00 p.m.
URL:https://jubileewc.org/event/wednesday-night-adult-prayer/2026-04-29/
LOCATION:Jubilee Worship Center\, 3125 County Road 74\, St. Cloud\, MN\, 56301\, United States
CATEGORIES:Prayer
ATTACH;FMTTYPE=image/png:https://jubileewc.org/wp-content/uploads/2020/12/Prayer-Night-Website-2.png
END:VEVENT
BEGIN:VEVENT
DTSTART;TZID=America/Chicago:20260506T063000
DTEND;TZID=America/Chicago:20260506T073000
DTSTAMP:20260424T175209
CREATED:20221117T202648Z
LAST-MODIFIED:20260423T183420Z
UID:19789-1778049000-1778052600@jubileewc.org
SUMMARY:Wednesday Morning Prayer
DESCRIPTION:Join Pastor Mark every Wednesday morning at 6:30 a.m. in the Fireside Room for Morning Prayer!\nRe-center and refocus your week with prayer and encouragement\, lifting our church\, our families\, communities\, and nation up to God.
URL:https://jubileewc.org/event/wednesday-morning-prayer/2026-05-06/
LOCATION:Jubilee Worship Center\, 3125 County Road 74\, St. Cloud\, MN\, 56301\, United States
CATEGORIES:Prayer
ATTACH;FMTTYPE=image/png:https://jubileewc.org/wp-content/uploads/2022/11/Morning-Prayer-Website.png
END:VEVENT
BEGIN:VEVENT
DTSTART;TZID=America/Chicago:20260506T180000
DTEND;TZID=America/Chicago:20260506T193000
DTSTAMP:20260424T175209
CREATED:20201209T030027Z
LAST-MODIFIED:20260205T193120Z
UID:20692-1778090400-1778095800@jubileewc.org
SUMMARY:Wednesday Night Adult Prayer
DESCRIPTION:Join us for a time of prayer on Wednesday evenings from 6:00 – 7:30 p.m.\nNo previous experience necessary. \nThere will be a meal at 6:00 p.m.
URL:https://jubileewc.org/event/wednesday-night-adult-prayer/2026-05-06/
LOCATION:Jubilee Worship Center\, 3125 County Road 74\, St. Cloud\, MN\, 56301\, United States
CATEGORIES:Prayer
ATTACH;FMTTYPE=image/png:https://jubileewc.org/wp-content/uploads/2020/12/Prayer-Night-Website-2.png
END:VEVENT
BEGIN:VEVENT
DTSTART;TZID=America/Chicago:20260513T063000
DTEND;TZID=America/Chicago:20260513T073000
DTSTAMP:20260424T175209
CREATED:20221117T202648Z
LAST-MODIFIED:20260423T183422Z
UID:19790-1778653800-1778657400@jubileewc.org
SUMMARY:Wednesday Morning Prayer
DESCRIPTION:Join Pastor Mark every Wednesday morning at 6:30 a.m. in the Fireside Room for Morning Prayer!\nRe-center and refocus your week with prayer and encouragement\, lifting our church\, our families\, communities\, and nation up to God.
URL:https://jubileewc.org/event/wednesday-morning-prayer/2026-05-13/
LOCATION:Jubilee Worship Center\, 3125 County Road 74\, St. Cloud\, MN\, 56301\, United States
CATEGORIES:Prayer
ATTACH;FMTTYPE=image/png:https://jubileewc.org/wp-content/uploads/2022/11/Morning-Prayer-Website.png
END:VEVENT
BEGIN:VEVENT
DTSTART;TZID=America/Chicago:20260513T180000
DTEND;TZID=America/Chicago:20260513T193000
DTSTAMP:20260424T175209
CREATED:20201209T030027Z
LAST-MODIFIED:20260205T193122Z
UID:20693-1778695200-1778700600@jubileewc.org
SUMMARY:Wednesday Night Adult Prayer
DESCRIPTION:Join us for a time of prayer on Wednesday evenings from 6:00 – 7:30 p.m.\nNo previous experience necessary. \nThere will be a meal at 6:00 p.m.
URL:https://jubileewc.org/event/wednesday-night-adult-prayer/2026-05-13/
LOCATION:Jubilee Worship Center\, 3125 County Road 74\, St. Cloud\, MN\, 56301\, United States
CATEGORIES:Prayer
ATTACH;FMTTYPE=image/png:https://jubileewc.org/wp-content/uploads/2020/12/Prayer-Night-Website-2.png
END:VEVENT
BEGIN:VEVENT
DTSTART;TZID=America/Chicago:20260520T063000
DTEND;TZID=America/Chicago:20260520T073000
DTSTAMP:20260424T175209
CREATED:20221117T202648Z
LAST-MODIFIED:20260423T183423Z
UID:19791-1779258600-1779262200@jubileewc.org
SUMMARY:Wednesday Morning Prayer
DESCRIPTION:Join Pastor Mark every Wednesday morning at 6:30 a.m. in the Fireside Room for Morning Prayer!\nRe-center and refocus your week with prayer and encouragement\, lifting our church\, our families\, communities\, and nation up to God.
URL:https://jubileewc.org/event/wednesday-morning-prayer/2026-05-20/
LOCATION:Jubilee Worship Center\, 3125 County Road 74\, St. Cloud\, MN\, 56301\, United States
CATEGORIES:Prayer
ATTACH;FMTTYPE=image/png:https://jubileewc.org/wp-content/uploads/2022/11/Morning-Prayer-Website.png
END:VEVENT
BEGIN:VEVENT
DTSTART;TZID=America/Chicago:20260520T180000
DTEND;TZID=America/Chicago:20260520T193000
DTSTAMP:20260424T175209
CREATED:20201209T030027Z
LAST-MODIFIED:20260205T193123Z
UID:20694-1779300000-1779305400@jubileewc.org
SUMMARY:Wednesday Night Adult Prayer
DESCRIPTION:Join us for a time of prayer on Wednesday evenings from 6:00 – 7:30 p.m.\nNo previous experience necessary. \nThere will be a meal at 6:00 p.m.
URL:https://jubileewc.org/event/wednesday-night-adult-prayer/2026-05-20/
LOCATION:Jubilee Worship Center\, 3125 County Road 74\, St. Cloud\, MN\, 56301\, United States
CATEGORIES:Prayer
ATTACH;FMTTYPE=image/png:https://jubileewc.org/wp-content/uploads/2020/12/Prayer-Night-Website-2.png
END:VEVENT
BEGIN:VEVENT
DTSTART;TZID=America/Chicago:20260527T063000
DTEND;TZID=America/Chicago:20260527T073000
DTSTAMP:20260424T175209
CREATED:20221117T202648Z
LAST-MODIFIED:20260423T183425Z
UID:19792-1779863400-1779867000@jubileewc.org
SUMMARY:Wednesday Morning Prayer
DESCRIPTION:Join Pastor Mark every Wednesday morning at 6:30 a.m. in the Fireside Room for Morning Prayer!\nRe-center and refocus your week with prayer and encouragement\, lifting our church\, our families\, communities\, and nation up to God.
URL:https://jubileewc.org/event/wednesday-morning-prayer/2026-05-27/
LOCATION:Jubilee Worship Center\, 3125 County Road 74\, St. Cloud\, MN\, 56301\, United States
CATEGORIES:Prayer
ATTACH;FMTTYPE=image/png:https://jubileewc.org/wp-content/uploads/2022/11/Morning-Prayer-Website.png
END:VEVENT
BEGIN:VEVENT
DTSTART;TZID=America/Chicago:20260527T180000
DTEND;TZID=America/Chicago:20260527T193000
DTSTAMP:20260424T175209
CREATED:20201209T030027Z
LAST-MODIFIED:20260205T193124Z
UID:20695-1779904800-1779910200@jubileewc.org
SUMMARY:Wednesday Night Adult Prayer
DESCRIPTION:Join us for a time of prayer on Wednesday evenings from 6:00 – 7:30 p.m.\nNo previous experience necessary. \nThere will be a meal at 6:00 p.m.
URL:https://jubileewc.org/event/wednesday-night-adult-prayer/2026-05-27/
LOCATION:Jubilee Worship Center\, 3125 County Road 74\, St. Cloud\, MN\, 56301\, United States
CATEGORIES:Prayer
ATTACH;FMTTYPE=image/png:https://jubileewc.org/wp-content/uploads/2020/12/Prayer-Night-Website-2.png
END:VEVENT
BEGIN:VEVENT
DTSTART;TZID=America/Chicago:20260603T063000
DTEND;TZID=America/Chicago:20260603T073000
DTSTAMP:20260424T175209
CREATED:20221117T202648Z
LAST-MODIFIED:20260423T183426Z
UID:19793-1780468200-1780471800@jubileewc.org
SUMMARY:Wednesday Morning Prayer
DESCRIPTION:Join Pastor Mark every Wednesday morning at 6:30 a.m. in the Fireside Room for Morning Prayer!\nRe-center and refocus your week with prayer and encouragement\, lifting our church\, our families\, communities\, and nation up to God.
URL:https://jubileewc.org/event/wednesday-morning-prayer/2026-06-03/
LOCATION:Jubilee Worship Center\, 3125 County Road 74\, St. Cloud\, MN\, 56301\, United States
CATEGORIES:Prayer
ATTACH;FMTTYPE=image/png:https://jubileewc.org/wp-content/uploads/2022/11/Morning-Prayer-Website.png
END:VEVENT
END:VCALENDAR