BEGIN:VCALENDAR
VERSION:2.0
PRODID:-//Jubilee Worship Center - ECPv6.15.20//NONSGML v1.0//EN
CALSCALE:GREGORIAN
METHOD:PUBLISH
X-ORIGINAL-URL:https://jubileewc.org
X-WR-CALDESC:Events for Jubilee Worship Center
REFRESH-INTERVAL;VALUE=DURATION:PT1H
X-Robots-Tag:noindex
X-PUBLISHED-TTL:PT1H
BEGIN:VTIMEZONE
TZID:America/Chicago
BEGIN:DAYLIGHT
TZOFFSETFROM:-0600
TZOFFSETTO:-0500
TZNAME:CDT
DTSTART:20250309T080000
END:DAYLIGHT
BEGIN:STANDARD
TZOFFSETFROM:-0500
TZOFFSETTO:-0600
TZNAME:CST
DTSTART:20251102T070000
END:STANDARD
BEGIN:DAYLIGHT
TZOFFSETFROM:-0600
TZOFFSETTO:-0500
TZNAME:CDT
DTSTART:20260308T080000
END:DAYLIGHT
BEGIN:STANDARD
TZOFFSETFROM:-0500
TZOFFSETTO:-0600
TZNAME:CST
DTSTART:20261101T070000
END:STANDARD
BEGIN:DAYLIGHT
TZOFFSETFROM:-0600
TZOFFSETTO:-0500
TZNAME:CDT
DTSTART:20270314T080000
END:DAYLIGHT
BEGIN:STANDARD
TZOFFSETFROM:-0500
TZOFFSETTO:-0600
TZNAME:CST
DTSTART:20271107T070000
END:STANDARD
END:VTIMEZONE
BEGIN:VEVENT
DTSTART;TZID=America/Chicago:20260826T063000
DTEND;TZID=America/Chicago:20260826T073000
DTSTAMP:20260424T175431
CREATED:20221117T202648Z
LAST-MODIFIED:20260423T183446Z
UID:19805-1787725800-1787729400@jubileewc.org
SUMMARY:Wednesday Morning Prayer
DESCRIPTION:Join Pastor Mark every Wednesday morning at 6:30 a.m. in the Fireside Room for Morning Prayer!\nRe-center and refocus your week with prayer and encouragement\, lifting our church\, our families\, communities\, and nation up to God.
URL:https://jubileewc.org/event/wednesday-morning-prayer/2026-08-26/
LOCATION:Jubilee Worship Center\, 3125 County Road 74\, St. Cloud\, MN\, 56301\, United States
CATEGORIES:Prayer
ATTACH;FMTTYPE=image/png:https://jubileewc.org/wp-content/uploads/2022/11/Morning-Prayer-Website.png
END:VEVENT
BEGIN:VEVENT
DTSTART;TZID=America/Chicago:20260826T180000
DTEND;TZID=America/Chicago:20260826T193000
DTSTAMP:20260424T175431
CREATED:20201209T030027Z
LAST-MODIFIED:20260205T193141Z
UID:20708-1787767200-1787772600@jubileewc.org
SUMMARY:Wednesday Night Adult Prayer
DESCRIPTION:Join us for a time of prayer on Wednesday evenings from 6:00 – 7:30 p.m.\nNo previous experience necessary. \nThere will be a meal at 6:00 p.m.
URL:https://jubileewc.org/event/wednesday-night-adult-prayer/2026-08-26/
LOCATION:Jubilee Worship Center\, 3125 County Road 74\, St. Cloud\, MN\, 56301\, United States
CATEGORIES:Prayer
ATTACH;FMTTYPE=image/png:https://jubileewc.org/wp-content/uploads/2020/12/Prayer-Night-Website-2.png
END:VEVENT
BEGIN:VEVENT
DTSTART;TZID=America/Chicago:20260902T063000
DTEND;TZID=America/Chicago:20260902T073000
DTSTAMP:20260424T175431
CREATED:20221117T202648Z
LAST-MODIFIED:20260423T183448Z
UID:19806-1788330600-1788334200@jubileewc.org
SUMMARY:Wednesday Morning Prayer
DESCRIPTION:Join Pastor Mark every Wednesday morning at 6:30 a.m. in the Fireside Room for Morning Prayer!\nRe-center and refocus your week with prayer and encouragement\, lifting our church\, our families\, communities\, and nation up to God.
URL:https://jubileewc.org/event/wednesday-morning-prayer/2026-09-02/
LOCATION:Jubilee Worship Center\, 3125 County Road 74\, St. Cloud\, MN\, 56301\, United States
CATEGORIES:Prayer
ATTACH;FMTTYPE=image/png:https://jubileewc.org/wp-content/uploads/2022/11/Morning-Prayer-Website.png
END:VEVENT
BEGIN:VEVENT
DTSTART;TZID=America/Chicago:20260902T180000
DTEND;TZID=America/Chicago:20260902T193000
DTSTAMP:20260424T175431
CREATED:20201209T030027Z
LAST-MODIFIED:20260205T193143Z
UID:20709-1788372000-1788377400@jubileewc.org
SUMMARY:Wednesday Night Adult Prayer
DESCRIPTION:Join us for a time of prayer on Wednesday evenings from 6:00 – 7:30 p.m.\nNo previous experience necessary. \nThere will be a meal at 6:00 p.m.
URL:https://jubileewc.org/event/wednesday-night-adult-prayer/2026-09-02/
LOCATION:Jubilee Worship Center\, 3125 County Road 74\, St. Cloud\, MN\, 56301\, United States
CATEGORIES:Prayer
ATTACH;FMTTYPE=image/png:https://jubileewc.org/wp-content/uploads/2020/12/Prayer-Night-Website-2.png
END:VEVENT
BEGIN:VEVENT
DTSTART;TZID=America/Chicago:20260909T063000
DTEND;TZID=America/Chicago:20260909T073000
DTSTAMP:20260424T175431
CREATED:20221117T202648Z
LAST-MODIFIED:20260423T183450Z
UID:19807-1788935400-1788939000@jubileewc.org
SUMMARY:Wednesday Morning Prayer
DESCRIPTION:Join Pastor Mark every Wednesday morning at 6:30 a.m. in the Fireside Room for Morning Prayer!\nRe-center and refocus your week with prayer and encouragement\, lifting our church\, our families\, communities\, and nation up to God.
URL:https://jubileewc.org/event/wednesday-morning-prayer/2026-09-09/
LOCATION:Jubilee Worship Center\, 3125 County Road 74\, St. Cloud\, MN\, 56301\, United States
CATEGORIES:Prayer
ATTACH;FMTTYPE=image/png:https://jubileewc.org/wp-content/uploads/2022/11/Morning-Prayer-Website.png
END:VEVENT
BEGIN:VEVENT
DTSTART;TZID=America/Chicago:20260909T180000
DTEND;TZID=America/Chicago:20260909T193000
DTSTAMP:20260424T175431
CREATED:20201209T030027Z
LAST-MODIFIED:20260205T193145Z
UID:20710-1788976800-1788982200@jubileewc.org
SUMMARY:Wednesday Night Adult Prayer
DESCRIPTION:Join us for a time of prayer on Wednesday evenings from 6:00 – 7:30 p.m.\nNo previous experience necessary. \nThere will be a meal at 6:00 p.m.
URL:https://jubileewc.org/event/wednesday-night-adult-prayer/2026-09-09/
LOCATION:Jubilee Worship Center\, 3125 County Road 74\, St. Cloud\, MN\, 56301\, United States
CATEGORIES:Prayer
ATTACH;FMTTYPE=image/png:https://jubileewc.org/wp-content/uploads/2020/12/Prayer-Night-Website-2.png
END:VEVENT
BEGIN:VEVENT
DTSTART;TZID=America/Chicago:20260916T063000
DTEND;TZID=America/Chicago:20260916T073000
DTSTAMP:20260424T175431
CREATED:20221117T202648Z
LAST-MODIFIED:20260423T183451Z
UID:19808-1789540200-1789543800@jubileewc.org
SUMMARY:Wednesday Morning Prayer
DESCRIPTION:Join Pastor Mark every Wednesday morning at 6:30 a.m. in the Fireside Room for Morning Prayer!\nRe-center and refocus your week with prayer and encouragement\, lifting our church\, our families\, communities\, and nation up to God.
URL:https://jubileewc.org/event/wednesday-morning-prayer/2026-09-16/
LOCATION:Jubilee Worship Center\, 3125 County Road 74\, St. Cloud\, MN\, 56301\, United States
CATEGORIES:Prayer
ATTACH;FMTTYPE=image/png:https://jubileewc.org/wp-content/uploads/2022/11/Morning-Prayer-Website.png
END:VEVENT
BEGIN:VEVENT
DTSTART;TZID=America/Chicago:20260916T180000
DTEND;TZID=America/Chicago:20260916T193000
DTSTAMP:20260424T175431
CREATED:20201209T030027Z
LAST-MODIFIED:20260205T193146Z
UID:20711-1789581600-1789587000@jubileewc.org
SUMMARY:Wednesday Night Adult Prayer
DESCRIPTION:Join us for a time of prayer on Wednesday evenings from 6:00 – 7:30 p.m.\nNo previous experience necessary. \nThere will be a meal at 6:00 p.m.
URL:https://jubileewc.org/event/wednesday-night-adult-prayer/2026-09-16/
LOCATION:Jubilee Worship Center\, 3125 County Road 74\, St. Cloud\, MN\, 56301\, United States
CATEGORIES:Prayer
ATTACH;FMTTYPE=image/png:https://jubileewc.org/wp-content/uploads/2020/12/Prayer-Night-Website-2.png
END:VEVENT
BEGIN:VEVENT
DTSTART;TZID=America/Chicago:20260923T063000
DTEND;TZID=America/Chicago:20260923T073000
DTSTAMP:20260424T175431
CREATED:20221117T202648Z
LAST-MODIFIED:20260423T183452Z
UID:19809-1790145000-1790148600@jubileewc.org
SUMMARY:Wednesday Morning Prayer
DESCRIPTION:Join Pastor Mark every Wednesday morning at 6:30 a.m. in the Fireside Room for Morning Prayer!\nRe-center and refocus your week with prayer and encouragement\, lifting our church\, our families\, communities\, and nation up to God.
URL:https://jubileewc.org/event/wednesday-morning-prayer/2026-09-23/
LOCATION:Jubilee Worship Center\, 3125 County Road 74\, St. Cloud\, MN\, 56301\, United States
CATEGORIES:Prayer
ATTACH;FMTTYPE=image/png:https://jubileewc.org/wp-content/uploads/2022/11/Morning-Prayer-Website.png
END:VEVENT
BEGIN:VEVENT
DTSTART;TZID=America/Chicago:20260923T180000
DTEND;TZID=America/Chicago:20260923T193000
DTSTAMP:20260424T175431
CREATED:20201209T030027Z
LAST-MODIFIED:20260205T193147Z
UID:20712-1790186400-1790191800@jubileewc.org
SUMMARY:Wednesday Night Adult Prayer
DESCRIPTION:Join us for a time of prayer on Wednesday evenings from 6:00 – 7:30 p.m.\nNo previous experience necessary. \nThere will be a meal at 6:00 p.m.
URL:https://jubileewc.org/event/wednesday-night-adult-prayer/2026-09-23/
LOCATION:Jubilee Worship Center\, 3125 County Road 74\, St. Cloud\, MN\, 56301\, United States
CATEGORIES:Prayer
ATTACH;FMTTYPE=image/png:https://jubileewc.org/wp-content/uploads/2020/12/Prayer-Night-Website-2.png
END:VEVENT
BEGIN:VEVENT
DTSTART;TZID=America/Chicago:20260930T063000
DTEND;TZID=America/Chicago:20260930T073000
DTSTAMP:20260424T175431
CREATED:20221117T202648Z
LAST-MODIFIED:20260423T183454Z
UID:19810-1790749800-1790753400@jubileewc.org
SUMMARY:Wednesday Morning Prayer
DESCRIPTION:Join Pastor Mark every Wednesday morning at 6:30 a.m. in the Fireside Room for Morning Prayer!\nRe-center and refocus your week with prayer and encouragement\, lifting our church\, our families\, communities\, and nation up to God.
URL:https://jubileewc.org/event/wednesday-morning-prayer/2026-09-30/
LOCATION:Jubilee Worship Center\, 3125 County Road 74\, St. Cloud\, MN\, 56301\, United States
CATEGORIES:Prayer
ATTACH;FMTTYPE=image/png:https://jubileewc.org/wp-content/uploads/2022/11/Morning-Prayer-Website.png
END:VEVENT
BEGIN:VEVENT
DTSTART;TZID=America/Chicago:20260930T180000
DTEND;TZID=America/Chicago:20260930T193000
DTSTAMP:20260424T175431
CREATED:20201209T030027Z
LAST-MODIFIED:20260205T193148Z
UID:20713-1790791200-1790796600@jubileewc.org
SUMMARY:Wednesday Night Adult Prayer
DESCRIPTION:Join us for a time of prayer on Wednesday evenings from 6:00 – 7:30 p.m.\nNo previous experience necessary. \nThere will be a meal at 6:00 p.m.
URL:https://jubileewc.org/event/wednesday-night-adult-prayer/2026-09-30/
LOCATION:Jubilee Worship Center\, 3125 County Road 74\, St. Cloud\, MN\, 56301\, United States
CATEGORIES:Prayer
ATTACH;FMTTYPE=image/png:https://jubileewc.org/wp-content/uploads/2020/12/Prayer-Night-Website-2.png
END:VEVENT
BEGIN:VEVENT
DTSTART;TZID=America/Chicago:20261007T063000
DTEND;TZID=America/Chicago:20261007T073000
DTSTAMP:20260424T175431
CREATED:20221117T202648Z
LAST-MODIFIED:20260423T183455Z
UID:19811-1791354600-1791358200@jubileewc.org
SUMMARY:Wednesday Morning Prayer
DESCRIPTION:Join Pastor Mark every Wednesday morning at 6:30 a.m. in the Fireside Room for Morning Prayer!\nRe-center and refocus your week with prayer and encouragement\, lifting our church\, our families\, communities\, and nation up to God.
URL:https://jubileewc.org/event/wednesday-morning-prayer/2026-10-07/
LOCATION:Jubilee Worship Center\, 3125 County Road 74\, St. Cloud\, MN\, 56301\, United States
CATEGORIES:Prayer
ATTACH;FMTTYPE=image/png:https://jubileewc.org/wp-content/uploads/2022/11/Morning-Prayer-Website.png
END:VEVENT
BEGIN:VEVENT
DTSTART;TZID=America/Chicago:20261007T180000
DTEND;TZID=America/Chicago:20261007T193000
DTSTAMP:20260424T175431
CREATED:20201209T030027Z
LAST-MODIFIED:20260205T193149Z
UID:20714-1791396000-1791401400@jubileewc.org
SUMMARY:Wednesday Night Adult Prayer
DESCRIPTION:Join us for a time of prayer on Wednesday evenings from 6:00 – 7:30 p.m.\nNo previous experience necessary. \nThere will be a meal at 6:00 p.m.
URL:https://jubileewc.org/event/wednesday-night-adult-prayer/2026-10-07/
LOCATION:Jubilee Worship Center\, 3125 County Road 74\, St. Cloud\, MN\, 56301\, United States
CATEGORIES:Prayer
ATTACH;FMTTYPE=image/png:https://jubileewc.org/wp-content/uploads/2020/12/Prayer-Night-Website-2.png
END:VEVENT
BEGIN:VEVENT
DTSTART;TZID=America/Chicago:20261014T063000
DTEND;TZID=America/Chicago:20261014T073000
DTSTAMP:20260424T175431
CREATED:20221117T202648Z
LAST-MODIFIED:20260423T183457Z
UID:19812-1791959400-1791963000@jubileewc.org
SUMMARY:Wednesday Morning Prayer
DESCRIPTION:Join Pastor Mark every Wednesday morning at 6:30 a.m. in the Fireside Room for Morning Prayer!\nRe-center and refocus your week with prayer and encouragement\, lifting our church\, our families\, communities\, and nation up to God.
URL:https://jubileewc.org/event/wednesday-morning-prayer/2026-10-14/
LOCATION:Jubilee Worship Center\, 3125 County Road 74\, St. Cloud\, MN\, 56301\, United States
CATEGORIES:Prayer
ATTACH;FMTTYPE=image/png:https://jubileewc.org/wp-content/uploads/2022/11/Morning-Prayer-Website.png
END:VEVENT
BEGIN:VEVENT
DTSTART;TZID=America/Chicago:20261014T180000
DTEND;TZID=America/Chicago:20261014T193000
DTSTAMP:20260424T175431
CREATED:20201209T030027Z
LAST-MODIFIED:20260205T193151Z
UID:20715-1792000800-1792006200@jubileewc.org
SUMMARY:Wednesday Night Adult Prayer
DESCRIPTION:Join us for a time of prayer on Wednesday evenings from 6:00 – 7:30 p.m.\nNo previous experience necessary. \nThere will be a meal at 6:00 p.m.
URL:https://jubileewc.org/event/wednesday-night-adult-prayer/2026-10-14/
LOCATION:Jubilee Worship Center\, 3125 County Road 74\, St. Cloud\, MN\, 56301\, United States
CATEGORIES:Prayer
ATTACH;FMTTYPE=image/png:https://jubileewc.org/wp-content/uploads/2020/12/Prayer-Night-Website-2.png
END:VEVENT
BEGIN:VEVENT
DTSTART;TZID=America/Chicago:20261021T063000
DTEND;TZID=America/Chicago:20261021T073000
DTSTAMP:20260424T175431
CREATED:20221117T202648Z
LAST-MODIFIED:20260423T183458Z
UID:19813-1792564200-1792567800@jubileewc.org
SUMMARY:Wednesday Morning Prayer
DESCRIPTION:Join Pastor Mark every Wednesday morning at 6:30 a.m. in the Fireside Room for Morning Prayer!\nRe-center and refocus your week with prayer and encouragement\, lifting our church\, our families\, communities\, and nation up to God.
URL:https://jubileewc.org/event/wednesday-morning-prayer/2026-10-21/
LOCATION:Jubilee Worship Center\, 3125 County Road 74\, St. Cloud\, MN\, 56301\, United States
CATEGORIES:Prayer
ATTACH;FMTTYPE=image/png:https://jubileewc.org/wp-content/uploads/2022/11/Morning-Prayer-Website.png
END:VEVENT
BEGIN:VEVENT
DTSTART;TZID=America/Chicago:20261021T180000
DTEND;TZID=America/Chicago:20261021T193000
DTSTAMP:20260424T175431
CREATED:20201209T030027Z
LAST-MODIFIED:20260205T193152Z
UID:20716-1792605600-1792611000@jubileewc.org
SUMMARY:Wednesday Night Adult Prayer
DESCRIPTION:Join us for a time of prayer on Wednesday evenings from 6:00 – 7:30 p.m.\nNo previous experience necessary. \nThere will be a meal at 6:00 p.m.
URL:https://jubileewc.org/event/wednesday-night-adult-prayer/2026-10-21/
LOCATION:Jubilee Worship Center\, 3125 County Road 74\, St. Cloud\, MN\, 56301\, United States
CATEGORIES:Prayer
ATTACH;FMTTYPE=image/png:https://jubileewc.org/wp-content/uploads/2020/12/Prayer-Night-Website-2.png
END:VEVENT
BEGIN:VEVENT
DTSTART;TZID=America/Chicago:20261028T063000
DTEND;TZID=America/Chicago:20261028T073000
DTSTAMP:20260424T175431
CREATED:20221117T202648Z
LAST-MODIFIED:20260423T183500Z
UID:19814-1793169000-1793172600@jubileewc.org
SUMMARY:Wednesday Morning Prayer
DESCRIPTION:Join Pastor Mark every Wednesday morning at 6:30 a.m. in the Fireside Room for Morning Prayer!\nRe-center and refocus your week with prayer and encouragement\, lifting our church\, our families\, communities\, and nation up to God.
URL:https://jubileewc.org/event/wednesday-morning-prayer/2026-10-28/
LOCATION:Jubilee Worship Center\, 3125 County Road 74\, St. Cloud\, MN\, 56301\, United States
CATEGORIES:Prayer
ATTACH;FMTTYPE=image/png:https://jubileewc.org/wp-content/uploads/2022/11/Morning-Prayer-Website.png
END:VEVENT
BEGIN:VEVENT
DTSTART;TZID=America/Chicago:20261028T180000
DTEND;TZID=America/Chicago:20261028T193000
DTSTAMP:20260424T175431
CREATED:20201209T030027Z
LAST-MODIFIED:20260205T193153Z
UID:20717-1793210400-1793215800@jubileewc.org
SUMMARY:Wednesday Night Adult Prayer
DESCRIPTION:Join us for a time of prayer on Wednesday evenings from 6:00 – 7:30 p.m.\nNo previous experience necessary. \nThere will be a meal at 6:00 p.m.
URL:https://jubileewc.org/event/wednesday-night-adult-prayer/2026-10-28/
LOCATION:Jubilee Worship Center\, 3125 County Road 74\, St. Cloud\, MN\, 56301\, United States
CATEGORIES:Prayer
ATTACH;FMTTYPE=image/png:https://jubileewc.org/wp-content/uploads/2020/12/Prayer-Night-Website-2.png
END:VEVENT
BEGIN:VEVENT
DTSTART;TZID=America/Chicago:20261104T063000
DTEND;TZID=America/Chicago:20261104T073000
DTSTAMP:20260424T175431
CREATED:20221117T202648Z
LAST-MODIFIED:20260423T183503Z
UID:19815-1793773800-1793777400@jubileewc.org
SUMMARY:Wednesday Morning Prayer
DESCRIPTION:Join Pastor Mark every Wednesday morning at 6:30 a.m. in the Fireside Room for Morning Prayer!\nRe-center and refocus your week with prayer and encouragement\, lifting our church\, our families\, communities\, and nation up to God.
URL:https://jubileewc.org/event/wednesday-morning-prayer/2026-11-04/
LOCATION:Jubilee Worship Center\, 3125 County Road 74\, St. Cloud\, MN\, 56301\, United States
CATEGORIES:Prayer
ATTACH;FMTTYPE=image/png:https://jubileewc.org/wp-content/uploads/2022/11/Morning-Prayer-Website.png
END:VEVENT
BEGIN:VEVENT
DTSTART;TZID=America/Chicago:20261104T180000
DTEND;TZID=America/Chicago:20261104T193000
DTSTAMP:20260424T175431
CREATED:20201209T030027Z
LAST-MODIFIED:20260205T193154Z
UID:20718-1793815200-1793820600@jubileewc.org
SUMMARY:Wednesday Night Adult Prayer
DESCRIPTION:Join us for a time of prayer on Wednesday evenings from 6:00 – 7:30 p.m.\nNo previous experience necessary. \nThere will be a meal at 6:00 p.m.
URL:https://jubileewc.org/event/wednesday-night-adult-prayer/2026-11-04/
LOCATION:Jubilee Worship Center\, 3125 County Road 74\, St. Cloud\, MN\, 56301\, United States
CATEGORIES:Prayer
ATTACH;FMTTYPE=image/png:https://jubileewc.org/wp-content/uploads/2020/12/Prayer-Night-Website-2.png
END:VEVENT
BEGIN:VEVENT
DTSTART;TZID=America/Chicago:20261111T063000
DTEND;TZID=America/Chicago:20261111T073000
DTSTAMP:20260424T175431
CREATED:20221117T202648Z
LAST-MODIFIED:20260423T183505Z
UID:19816-1794378600-1794382200@jubileewc.org
SUMMARY:Wednesday Morning Prayer
DESCRIPTION:Join Pastor Mark every Wednesday morning at 6:30 a.m. in the Fireside Room for Morning Prayer!\nRe-center and refocus your week with prayer and encouragement\, lifting our church\, our families\, communities\, and nation up to God.
URL:https://jubileewc.org/event/wednesday-morning-prayer/2026-11-11/
LOCATION:Jubilee Worship Center\, 3125 County Road 74\, St. Cloud\, MN\, 56301\, United States
CATEGORIES:Prayer
ATTACH;FMTTYPE=image/png:https://jubileewc.org/wp-content/uploads/2022/11/Morning-Prayer-Website.png
END:VEVENT
BEGIN:VEVENT
DTSTART;TZID=America/Chicago:20261111T180000
DTEND;TZID=America/Chicago:20261111T193000
DTSTAMP:20260424T175431
CREATED:20201209T030027Z
LAST-MODIFIED:20260205T193156Z
UID:20719-1794420000-1794425400@jubileewc.org
SUMMARY:Wednesday Night Adult Prayer
DESCRIPTION:Join us for a time of prayer on Wednesday evenings from 6:00 – 7:30 p.m.\nNo previous experience necessary. \nThere will be a meal at 6:00 p.m.
URL:https://jubileewc.org/event/wednesday-night-adult-prayer/2026-11-11/
LOCATION:Jubilee Worship Center\, 3125 County Road 74\, St. Cloud\, MN\, 56301\, United States
CATEGORIES:Prayer
ATTACH;FMTTYPE=image/png:https://jubileewc.org/wp-content/uploads/2020/12/Prayer-Night-Website-2.png
END:VEVENT
BEGIN:VEVENT
DTSTART;TZID=America/Chicago:20261118T063000
DTEND;TZID=America/Chicago:20261118T073000
DTSTAMP:20260424T175431
CREATED:20221117T202648Z
LAST-MODIFIED:20260423T183507Z
UID:20248-1794983400-1794987000@jubileewc.org
SUMMARY:Wednesday Morning Prayer
DESCRIPTION:Join Pastor Mark every Wednesday morning at 6:30 a.m. in the Fireside Room for Morning Prayer!\nRe-center and refocus your week with prayer and encouragement\, lifting our church\, our families\, communities\, and nation up to God.
URL:https://jubileewc.org/event/wednesday-morning-prayer/2026-11-18/
LOCATION:Jubilee Worship Center\, 3125 County Road 74\, St. Cloud\, MN\, 56301\, United States
CATEGORIES:Prayer
ATTACH;FMTTYPE=image/png:https://jubileewc.org/wp-content/uploads/2022/11/Morning-Prayer-Website.png
END:VEVENT
BEGIN:VEVENT
DTSTART;TZID=America/Chicago:20261118T180000
DTEND;TZID=America/Chicago:20261118T193000
DTSTAMP:20260424T175431
CREATED:20201209T030027Z
LAST-MODIFIED:20260205T193159Z
UID:20720-1795024800-1795030200@jubileewc.org
SUMMARY:Wednesday Night Adult Prayer
DESCRIPTION:Join us for a time of prayer on Wednesday evenings from 6:00 – 7:30 p.m.\nNo previous experience necessary. \nThere will be a meal at 6:00 p.m.
URL:https://jubileewc.org/event/wednesday-night-adult-prayer/2026-11-18/
LOCATION:Jubilee Worship Center\, 3125 County Road 74\, St. Cloud\, MN\, 56301\, United States
CATEGORIES:Prayer
ATTACH;FMTTYPE=image/png:https://jubileewc.org/wp-content/uploads/2020/12/Prayer-Night-Website-2.png
END:VEVENT
BEGIN:VEVENT
DTSTART;TZID=America/Chicago:20261125T063000
DTEND;TZID=America/Chicago:20261125T073000
DTSTAMP:20260424T175431
CREATED:20221117T202648Z
LAST-MODIFIED:20260423T183508Z
UID:20909-1795588200-1795591800@jubileewc.org
SUMMARY:Wednesday Morning Prayer
DESCRIPTION:Join Pastor Mark every Wednesday morning at 6:30 a.m. in the Fireside Room for Morning Prayer!\nRe-center and refocus your week with prayer and encouragement\, lifting our church\, our families\, communities\, and nation up to God.
URL:https://jubileewc.org/event/wednesday-morning-prayer/2026-11-25/
LOCATION:Jubilee Worship Center\, 3125 County Road 74\, St. Cloud\, MN\, 56301\, United States
CATEGORIES:Prayer
ATTACH;FMTTYPE=image/png:https://jubileewc.org/wp-content/uploads/2022/11/Morning-Prayer-Website.png
END:VEVENT
BEGIN:VEVENT
DTSTART;TZID=America/Chicago:20261125T063000
DTEND;TZID=America/Chicago:20261125T073000
DTSTAMP:20260424T175431
CREATED:20221117T202648Z
LAST-MODIFIED:20221117T202648Z
UID:21134-1795588200-1795591800@jubileewc.org
SUMMARY:Wednesday Morning Prayer
DESCRIPTION:Join Pastor Mark every Wednesday morning at 6:30 a.m. in the Fireside Room for Morning Prayer!\nRe-center and refocus your week with prayer and encouragement\, lifting our church\, our families\, communities\, and nation up to God.
URL:https://jubileewc.org/event/wednesday-morning-prayer/2026-11-25/
LOCATION:Jubilee Worship Center\, 3125 County Road 74\, St. Cloud\, MN\, 56301\, United States
CATEGORIES:Prayer
ATTACH;FMTTYPE=image/png:https://jubileewc.org/wp-content/uploads/2022/11/Morning-Prayer-Website.png
END:VEVENT
BEGIN:VEVENT
DTSTART;TZID=America/Chicago:20261125T180000
DTEND;TZID=America/Chicago:20261125T193000
DTSTAMP:20260424T175431
CREATED:20201209T030027Z
LAST-MODIFIED:20260205T193200Z
UID:20721-1795629600-1795635000@jubileewc.org
SUMMARY:Wednesday Night Adult Prayer
DESCRIPTION:Join us for a time of prayer on Wednesday evenings from 6:00 – 7:30 p.m.\nNo previous experience necessary. \nThere will be a meal at 6:00 p.m.
URL:https://jubileewc.org/event/wednesday-night-adult-prayer/2026-11-25/
LOCATION:Jubilee Worship Center\, 3125 County Road 74\, St. Cloud\, MN\, 56301\, United States
CATEGORIES:Prayer
ATTACH;FMTTYPE=image/png:https://jubileewc.org/wp-content/uploads/2020/12/Prayer-Night-Website-2.png
END:VEVENT
BEGIN:VEVENT
DTSTART;TZID=America/Chicago:20261202T063000
DTEND;TZID=America/Chicago:20261202T073000
DTSTAMP:20260424T175431
CREATED:20221117T202648Z
LAST-MODIFIED:20260423T183512Z
UID:20910-1796193000-1796196600@jubileewc.org
SUMMARY:Wednesday Morning Prayer
DESCRIPTION:Join Pastor Mark every Wednesday morning at 6:30 a.m. in the Fireside Room for Morning Prayer!\nRe-center and refocus your week with prayer and encouragement\, lifting our church\, our families\, communities\, and nation up to God.
URL:https://jubileewc.org/event/wednesday-morning-prayer/2026-12-02/
LOCATION:Jubilee Worship Center\, 3125 County Road 74\, St. Cloud\, MN\, 56301\, United States
CATEGORIES:Prayer
ATTACH;FMTTYPE=image/png:https://jubileewc.org/wp-content/uploads/2022/11/Morning-Prayer-Website.png
END:VEVENT
END:VCALENDAR