BEGIN:VCALENDAR
VERSION:2.0
PRODID:-//Jubilee Worship Center - ECPv6.15.20//NONSGML v1.0//EN
CALSCALE:GREGORIAN
METHOD:PUBLISH
X-ORIGINAL-URL:https://jubileewc.org
X-WR-CALDESC:Events for Jubilee Worship Center
REFRESH-INTERVAL;VALUE=DURATION:PT1H
X-Robots-Tag:noindex
X-PUBLISHED-TTL:PT1H
BEGIN:VTIMEZONE
TZID:America/Chicago
BEGIN:DAYLIGHT
TZOFFSETFROM:-0600
TZOFFSETTO:-0500
TZNAME:CDT
DTSTART:20250309T080000
END:DAYLIGHT
BEGIN:STANDARD
TZOFFSETFROM:-0500
TZOFFSETTO:-0600
TZNAME:CST
DTSTART:20251102T070000
END:STANDARD
BEGIN:DAYLIGHT
TZOFFSETFROM:-0600
TZOFFSETTO:-0500
TZNAME:CDT
DTSTART:20260308T080000
END:DAYLIGHT
BEGIN:STANDARD
TZOFFSETFROM:-0500
TZOFFSETTO:-0600
TZNAME:CST
DTSTART:20261101T070000
END:STANDARD
BEGIN:DAYLIGHT
TZOFFSETFROM:-0600
TZOFFSETTO:-0500
TZNAME:CDT
DTSTART:20270314T080000
END:DAYLIGHT
BEGIN:STANDARD
TZOFFSETFROM:-0500
TZOFFSETTO:-0600
TZNAME:CST
DTSTART:20271107T070000
END:STANDARD
END:VTIMEZONE
BEGIN:VEVENT
DTSTART;TZID=America/Chicago:20261125T063000
DTEND;TZID=America/Chicago:20261125T073000
DTSTAMP:20260424T224542
CREATED:20221117T202648Z
LAST-MODIFIED:20260423T183508Z
UID:20909-1795588200-1795591800@jubileewc.org
SUMMARY:Wednesday Morning Prayer
DESCRIPTION:Join Pastor Mark every Wednesday morning at 6:30 a.m. in the Fireside Room for Morning Prayer!\nRe-center and refocus your week with prayer and encouragement\, lifting our church\, our families\, communities\, and nation up to God.
URL:https://jubileewc.org/event/wednesday-morning-prayer/2026-11-25/
LOCATION:Jubilee Worship Center\, 3125 County Road 74\, St. Cloud\, MN\, 56301\, United States
CATEGORIES:Prayer
ATTACH;FMTTYPE=image/png:https://jubileewc.org/wp-content/uploads/2022/11/Morning-Prayer-Website.png
END:VEVENT
BEGIN:VEVENT
DTSTART;TZID=America/Chicago:20261125T063000
DTEND;TZID=America/Chicago:20261125T073000
DTSTAMP:20260424T224542
CREATED:20221117T202648Z
LAST-MODIFIED:20221117T202648Z
UID:21134-1795588200-1795591800@jubileewc.org
SUMMARY:Wednesday Morning Prayer
DESCRIPTION:Join Pastor Mark every Wednesday morning at 6:30 a.m. in the Fireside Room for Morning Prayer!\nRe-center and refocus your week with prayer and encouragement\, lifting our church\, our families\, communities\, and nation up to God.
URL:https://jubileewc.org/event/wednesday-morning-prayer/2026-11-25/
LOCATION:Jubilee Worship Center\, 3125 County Road 74\, St. Cloud\, MN\, 56301\, United States
CATEGORIES:Prayer
ATTACH;FMTTYPE=image/png:https://jubileewc.org/wp-content/uploads/2022/11/Morning-Prayer-Website.png
END:VEVENT
BEGIN:VEVENT
DTSTART;TZID=America/Chicago:20261125T180000
DTEND;TZID=America/Chicago:20261125T193000
DTSTAMP:20260424T224542
CREATED:20201209T030027Z
LAST-MODIFIED:20260205T193200Z
UID:20721-1795629600-1795635000@jubileewc.org
SUMMARY:Wednesday Night Adult Prayer
DESCRIPTION:Join us for a time of prayer on Wednesday evenings from 6:00 – 7:30 p.m.\nNo previous experience necessary. \nThere will be a meal at 6:00 p.m.
URL:https://jubileewc.org/event/wednesday-night-adult-prayer/2026-11-25/
LOCATION:Jubilee Worship Center\, 3125 County Road 74\, St. Cloud\, MN\, 56301\, United States
CATEGORIES:Prayer
ATTACH;FMTTYPE=image/png:https://jubileewc.org/wp-content/uploads/2020/12/Prayer-Night-Website-2.png
END:VEVENT
BEGIN:VEVENT
DTSTART;TZID=America/Chicago:20261202T063000
DTEND;TZID=America/Chicago:20261202T073000
DTSTAMP:20260424T224542
CREATED:20221117T202648Z
LAST-MODIFIED:20221117T202648Z
UID:21135-1796193000-1796196600@jubileewc.org
SUMMARY:Wednesday Morning Prayer
DESCRIPTION:Join Pastor Mark every Wednesday morning at 6:30 a.m. in the Fireside Room for Morning Prayer!\nRe-center and refocus your week with prayer and encouragement\, lifting our church\, our families\, communities\, and nation up to God.
URL:https://jubileewc.org/event/wednesday-morning-prayer/2026-12-02/
LOCATION:Jubilee Worship Center\, 3125 County Road 74\, St. Cloud\, MN\, 56301\, United States
CATEGORIES:Prayer
ATTACH;FMTTYPE=image/png:https://jubileewc.org/wp-content/uploads/2022/11/Morning-Prayer-Website.png
END:VEVENT
BEGIN:VEVENT
DTSTART;TZID=America/Chicago:20261202T063000
DTEND;TZID=America/Chicago:20261202T073000
DTSTAMP:20260424T224542
CREATED:20221117T202648Z
LAST-MODIFIED:20260423T183512Z
UID:20910-1796193000-1796196600@jubileewc.org
SUMMARY:Wednesday Morning Prayer
DESCRIPTION:Join Pastor Mark every Wednesday morning at 6:30 a.m. in the Fireside Room for Morning Prayer!\nRe-center and refocus your week with prayer and encouragement\, lifting our church\, our families\, communities\, and nation up to God.
URL:https://jubileewc.org/event/wednesday-morning-prayer/2026-12-02/
LOCATION:Jubilee Worship Center\, 3125 County Road 74\, St. Cloud\, MN\, 56301\, United States
CATEGORIES:Prayer
ATTACH;FMTTYPE=image/png:https://jubileewc.org/wp-content/uploads/2022/11/Morning-Prayer-Website.png
END:VEVENT
BEGIN:VEVENT
DTSTART;TZID=America/Chicago:20261202T180000
DTEND;TZID=America/Chicago:20261202T193000
DTSTAMP:20260424T224542
CREATED:20201209T030027Z
LAST-MODIFIED:20260205T193201Z
UID:20722-1796234400-1796239800@jubileewc.org
SUMMARY:Wednesday Night Adult Prayer
DESCRIPTION:Join us for a time of prayer on Wednesday evenings from 6:00 – 7:30 p.m.\nNo previous experience necessary. \nThere will be a meal at 6:00 p.m.
URL:https://jubileewc.org/event/wednesday-night-adult-prayer/2026-12-02/
LOCATION:Jubilee Worship Center\, 3125 County Road 74\, St. Cloud\, MN\, 56301\, United States
CATEGORIES:Prayer
ATTACH;FMTTYPE=image/png:https://jubileewc.org/wp-content/uploads/2020/12/Prayer-Night-Website-2.png
END:VEVENT
BEGIN:VEVENT
DTSTART;TZID=America/Chicago:20261209T063000
DTEND;TZID=America/Chicago:20261209T073000
DTSTAMP:20260424T224542
CREATED:20221117T202648Z
LAST-MODIFIED:20221117T202648Z
UID:21136-1796797800-1796801400@jubileewc.org
SUMMARY:Wednesday Morning Prayer
DESCRIPTION:Join Pastor Mark every Wednesday morning at 6:30 a.m. in the Fireside Room for Morning Prayer!\nRe-center and refocus your week with prayer and encouragement\, lifting our church\, our families\, communities\, and nation up to God.
URL:https://jubileewc.org/event/wednesday-morning-prayer/2026-12-09/
LOCATION:Jubilee Worship Center\, 3125 County Road 74\, St. Cloud\, MN\, 56301\, United States
CATEGORIES:Prayer
ATTACH;FMTTYPE=image/png:https://jubileewc.org/wp-content/uploads/2022/11/Morning-Prayer-Website.png
END:VEVENT
BEGIN:VEVENT
DTSTART;TZID=America/Chicago:20261209T063000
DTEND;TZID=America/Chicago:20261209T073000
DTSTAMP:20260424T224542
CREATED:20221117T202648Z
LAST-MODIFIED:20260423T183515Z
UID:20911-1796797800-1796801400@jubileewc.org
SUMMARY:Wednesday Morning Prayer
DESCRIPTION:Join Pastor Mark every Wednesday morning at 6:30 a.m. in the Fireside Room for Morning Prayer!\nRe-center and refocus your week with prayer and encouragement\, lifting our church\, our families\, communities\, and nation up to God.
URL:https://jubileewc.org/event/wednesday-morning-prayer/2026-12-09/
LOCATION:Jubilee Worship Center\, 3125 County Road 74\, St. Cloud\, MN\, 56301\, United States
CATEGORIES:Prayer
ATTACH;FMTTYPE=image/png:https://jubileewc.org/wp-content/uploads/2022/11/Morning-Prayer-Website.png
END:VEVENT
BEGIN:VEVENT
DTSTART;TZID=America/Chicago:20261209T180000
DTEND;TZID=America/Chicago:20261209T193000
DTSTAMP:20260424T224542
CREATED:20201209T030027Z
LAST-MODIFIED:20260205T193202Z
UID:20723-1796839200-1796844600@jubileewc.org
SUMMARY:Wednesday Night Adult Prayer
DESCRIPTION:Join us for a time of prayer on Wednesday evenings from 6:00 – 7:30 p.m.\nNo previous experience necessary. \nThere will be a meal at 6:00 p.m.
URL:https://jubileewc.org/event/wednesday-night-adult-prayer/2026-12-09/
LOCATION:Jubilee Worship Center\, 3125 County Road 74\, St. Cloud\, MN\, 56301\, United States
CATEGORIES:Prayer
ATTACH;FMTTYPE=image/png:https://jubileewc.org/wp-content/uploads/2020/12/Prayer-Night-Website-2.png
END:VEVENT
BEGIN:VEVENT
DTSTART;TZID=America/Chicago:20261216T063000
DTEND;TZID=America/Chicago:20261216T073000
DTSTAMP:20260424T224542
CREATED:20221117T202648Z
LAST-MODIFIED:20221117T202648Z
UID:21137-1797402600-1797406200@jubileewc.org
SUMMARY:Wednesday Morning Prayer
DESCRIPTION:Join Pastor Mark every Wednesday morning at 6:30 a.m. in the Fireside Room for Morning Prayer!\nRe-center and refocus your week with prayer and encouragement\, lifting our church\, our families\, communities\, and nation up to God.
URL:https://jubileewc.org/event/wednesday-morning-prayer/2026-12-16/
LOCATION:Jubilee Worship Center\, 3125 County Road 74\, St. Cloud\, MN\, 56301\, United States
CATEGORIES:Prayer
ATTACH;FMTTYPE=image/png:https://jubileewc.org/wp-content/uploads/2022/11/Morning-Prayer-Website.png
END:VEVENT
BEGIN:VEVENT
DTSTART;TZID=America/Chicago:20261216T063000
DTEND;TZID=America/Chicago:20261216T073000
DTSTAMP:20260424T224542
CREATED:20221117T202648Z
LAST-MODIFIED:20260423T183518Z
UID:20912-1797402600-1797406200@jubileewc.org
SUMMARY:Wednesday Morning Prayer
DESCRIPTION:Join Pastor Mark every Wednesday morning at 6:30 a.m. in the Fireside Room for Morning Prayer!\nRe-center and refocus your week with prayer and encouragement\, lifting our church\, our families\, communities\, and nation up to God.
URL:https://jubileewc.org/event/wednesday-morning-prayer/2026-12-16/
LOCATION:Jubilee Worship Center\, 3125 County Road 74\, St. Cloud\, MN\, 56301\, United States
CATEGORIES:Prayer
ATTACH;FMTTYPE=image/png:https://jubileewc.org/wp-content/uploads/2022/11/Morning-Prayer-Website.png
END:VEVENT
BEGIN:VEVENT
DTSTART;TZID=America/Chicago:20261216T180000
DTEND;TZID=America/Chicago:20261216T193000
DTSTAMP:20260424T224542
CREATED:20201209T030027Z
LAST-MODIFIED:20260205T193203Z
UID:20724-1797444000-1797449400@jubileewc.org
SUMMARY:Wednesday Night Adult Prayer
DESCRIPTION:Join us for a time of prayer on Wednesday evenings from 6:00 – 7:30 p.m.\nNo previous experience necessary. \nThere will be a meal at 6:00 p.m.
URL:https://jubileewc.org/event/wednesday-night-adult-prayer/2026-12-16/
LOCATION:Jubilee Worship Center\, 3125 County Road 74\, St. Cloud\, MN\, 56301\, United States
CATEGORIES:Prayer
ATTACH;FMTTYPE=image/png:https://jubileewc.org/wp-content/uploads/2020/12/Prayer-Night-Website-2.png
END:VEVENT
BEGIN:VEVENT
DTSTART;TZID=America/Chicago:20261223T063000
DTEND;TZID=America/Chicago:20261223T073000
DTSTAMP:20260424T224542
CREATED:20221117T202648Z
LAST-MODIFIED:20221117T202648Z
UID:21138-1798007400-1798011000@jubileewc.org
SUMMARY:Wednesday Morning Prayer
DESCRIPTION:Join Pastor Mark every Wednesday morning at 6:30 a.m. in the Fireside Room for Morning Prayer!\nRe-center and refocus your week with prayer and encouragement\, lifting our church\, our families\, communities\, and nation up to God.
URL:https://jubileewc.org/event/wednesday-morning-prayer/2026-12-23/
LOCATION:Jubilee Worship Center\, 3125 County Road 74\, St. Cloud\, MN\, 56301\, United States
CATEGORIES:Prayer
ATTACH;FMTTYPE=image/png:https://jubileewc.org/wp-content/uploads/2022/11/Morning-Prayer-Website.png
END:VEVENT
BEGIN:VEVENT
DTSTART;TZID=America/Chicago:20261223T063000
DTEND;TZID=America/Chicago:20261223T073000
DTSTAMP:20260424T224542
CREATED:20221117T202648Z
LAST-MODIFIED:20260423T183520Z
UID:20913-1798007400-1798011000@jubileewc.org
SUMMARY:Wednesday Morning Prayer
DESCRIPTION:Join Pastor Mark every Wednesday morning at 6:30 a.m. in the Fireside Room for Morning Prayer!\nRe-center and refocus your week with prayer and encouragement\, lifting our church\, our families\, communities\, and nation up to God.
URL:https://jubileewc.org/event/wednesday-morning-prayer/2026-12-23/
LOCATION:Jubilee Worship Center\, 3125 County Road 74\, St. Cloud\, MN\, 56301\, United States
CATEGORIES:Prayer
ATTACH;FMTTYPE=image/png:https://jubileewc.org/wp-content/uploads/2022/11/Morning-Prayer-Website.png
END:VEVENT
BEGIN:VEVENT
DTSTART;TZID=America/Chicago:20261223T180000
DTEND;TZID=America/Chicago:20261223T193000
DTSTAMP:20260424T224542
CREATED:20201209T030027Z
LAST-MODIFIED:20260205T193205Z
UID:20725-1798048800-1798054200@jubileewc.org
SUMMARY:Wednesday Night Adult Prayer
DESCRIPTION:Join us for a time of prayer on Wednesday evenings from 6:00 – 7:30 p.m.\nNo previous experience necessary. \nThere will be a meal at 6:00 p.m.
URL:https://jubileewc.org/event/wednesday-night-adult-prayer/2026-12-23/
LOCATION:Jubilee Worship Center\, 3125 County Road 74\, St. Cloud\, MN\, 56301\, United States
CATEGORIES:Prayer
ATTACH;FMTTYPE=image/png:https://jubileewc.org/wp-content/uploads/2020/12/Prayer-Night-Website-2.png
END:VEVENT
BEGIN:VEVENT
DTSTART;TZID=America/Chicago:20261230T063000
DTEND;TZID=America/Chicago:20261230T073000
DTSTAMP:20260424T224542
CREATED:20221117T202648Z
LAST-MODIFIED:20221117T202648Z
UID:21139-1798612200-1798615800@jubileewc.org
SUMMARY:Wednesday Morning Prayer
DESCRIPTION:Join Pastor Mark every Wednesday morning at 6:30 a.m. in the Fireside Room for Morning Prayer!\nRe-center and refocus your week with prayer and encouragement\, lifting our church\, our families\, communities\, and nation up to God.
URL:https://jubileewc.org/event/wednesday-morning-prayer/2026-12-30/
LOCATION:Jubilee Worship Center\, 3125 County Road 74\, St. Cloud\, MN\, 56301\, United States
CATEGORIES:Prayer
ATTACH;FMTTYPE=image/png:https://jubileewc.org/wp-content/uploads/2022/11/Morning-Prayer-Website.png
END:VEVENT
BEGIN:VEVENT
DTSTART;TZID=America/Chicago:20261230T063000
DTEND;TZID=America/Chicago:20261230T073000
DTSTAMP:20260424T224542
CREATED:20221117T202648Z
LAST-MODIFIED:20260423T183523Z
UID:20914-1798612200-1798615800@jubileewc.org
SUMMARY:Wednesday Morning Prayer
DESCRIPTION:Join Pastor Mark every Wednesday morning at 6:30 a.m. in the Fireside Room for Morning Prayer!\nRe-center and refocus your week with prayer and encouragement\, lifting our church\, our families\, communities\, and nation up to God.
URL:https://jubileewc.org/event/wednesday-morning-prayer/2026-12-30/
LOCATION:Jubilee Worship Center\, 3125 County Road 74\, St. Cloud\, MN\, 56301\, United States
CATEGORIES:Prayer
ATTACH;FMTTYPE=image/png:https://jubileewc.org/wp-content/uploads/2022/11/Morning-Prayer-Website.png
END:VEVENT
BEGIN:VEVENT
DTSTART;TZID=America/Chicago:20261230T180000
DTEND;TZID=America/Chicago:20261230T193000
DTSTAMP:20260424T224542
CREATED:20201209T030027Z
LAST-MODIFIED:20260205T193206Z
UID:20726-1798653600-1798659000@jubileewc.org
SUMMARY:Wednesday Night Adult Prayer
DESCRIPTION:Join us for a time of prayer on Wednesday evenings from 6:00 – 7:30 p.m.\nNo previous experience necessary. \nThere will be a meal at 6:00 p.m.
URL:https://jubileewc.org/event/wednesday-night-adult-prayer/2026-12-30/
LOCATION:Jubilee Worship Center\, 3125 County Road 74\, St. Cloud\, MN\, 56301\, United States
CATEGORIES:Prayer
ATTACH;FMTTYPE=image/png:https://jubileewc.org/wp-content/uploads/2020/12/Prayer-Night-Website-2.png
END:VEVENT
END:VCALENDAR