BEGIN:VCALENDAR
VERSION:2.0
PRODID:-//Jubilee Worship Center - ECPv6.15.20//NONSGML v1.0//EN
CALSCALE:GREGORIAN
METHOD:PUBLISH
X-WR-CALNAME:Jubilee Worship Center
X-ORIGINAL-URL:https://jubileewc.org
X-WR-CALDESC:Events for Jubilee Worship Center
REFRESH-INTERVAL;VALUE=DURATION:PT1H
X-Robots-Tag:noindex
X-PUBLISHED-TTL:PT1H
BEGIN:VTIMEZONE
TZID:America/Chicago
BEGIN:DAYLIGHT
TZOFFSETFROM:-0600
TZOFFSETTO:-0500
TZNAME:CDT
DTSTART:20200308T080000
END:DAYLIGHT
BEGIN:STANDARD
TZOFFSETFROM:-0500
TZOFFSETTO:-0600
TZNAME:CST
DTSTART:20201101T070000
END:STANDARD
BEGIN:DAYLIGHT
TZOFFSETFROM:-0600
TZOFFSETTO:-0500
TZNAME:CDT
DTSTART:20210314T080000
END:DAYLIGHT
BEGIN:STANDARD
TZOFFSETFROM:-0500
TZOFFSETTO:-0600
TZNAME:CST
DTSTART:20211107T070000
END:STANDARD
BEGIN:DAYLIGHT
TZOFFSETFROM:-0600
TZOFFSETTO:-0500
TZNAME:CDT
DTSTART:20220313T080000
END:DAYLIGHT
BEGIN:STANDARD
TZOFFSETFROM:-0500
TZOFFSETTO:-0600
TZNAME:CST
DTSTART:20221106T070000
END:STANDARD
END:VTIMEZONE
BEGIN:VEVENT
DTSTART;TZID=America/Chicago:20210521T180000
DTEND;TZID=America/Chicago:20210521T203000
DTSTAMP:20260424T222314
CREATED:20210415T221938Z
LAST-MODIFIED:20210430T232440Z
UID:10271-1621620000-1621629000@jubileewc.org
SUMMARY:Youth Camp Fundraiser Dinner Play
DESCRIPTION:Mark your calendars\, put on your finest linens and join us at Jubilee for our Youth Camp Fundraiser Dinner Play! \n“Who’s Cookin’?”   Written by Nancy Bond \nWho’s cookin’ up a scrumptious meal and who’s cookin’ up a shady scheme to win this charity competition??? \nBe our guest at an elite gala dinner where three celebrity chefs\, including Patty Deen\, Gordy Whimsey\, and Rochelle Ray battle to lead their teams to victory! \nPairs will fight for votes but when the coveted grand prize starts slipping away\, will the mischief of self-absorbed\, win-at-all-costs celebrities bring the evening’s events to a halt? \nOr will YOU help solve the mystery and crown the true victor? \nReserve your delicious night of FUN! \nTickets are $20/person\, dinner is included. \nChildcare available for an additional $5. \nGet your tickets here.\n  \n 
URL:https://jubileewc.org/event/youth-camp-fundraiser-dinner-play/
LOCATION:Jubilee Worship Center\, 3125 County Road 74\, St. Cloud\, MN\, 56301\, United States
CATEGORIES:Special Event
END:VEVENT
END:VCALENDAR