BEGIN:VCALENDAR
VERSION:2.0
PRODID:-//Jubilee Worship Center - ECPv6.15.20//NONSGML v1.0//EN
CALSCALE:GREGORIAN
METHOD:PUBLISH
X-WR-CALNAME:Jubilee Worship Center
X-ORIGINAL-URL:https://jubileewc.org
X-WR-CALDESC:Events for Jubilee Worship Center
REFRESH-INTERVAL;VALUE=DURATION:PT1H
X-Robots-Tag:noindex
X-PUBLISHED-TTL:PT1H
BEGIN:VTIMEZONE
TZID:America/Chicago
BEGIN:DAYLIGHT
TZOFFSETFROM:-0600
TZOFFSETTO:-0500
TZNAME:CDT
DTSTART:20220313T080000
END:DAYLIGHT
BEGIN:STANDARD
TZOFFSETFROM:-0500
TZOFFSETTO:-0600
TZNAME:CST
DTSTART:20221106T070000
END:STANDARD
BEGIN:DAYLIGHT
TZOFFSETFROM:-0600
TZOFFSETTO:-0500
TZNAME:CDT
DTSTART:20230312T080000
END:DAYLIGHT
BEGIN:STANDARD
TZOFFSETFROM:-0500
TZOFFSETTO:-0600
TZNAME:CST
DTSTART:20231105T070000
END:STANDARD
BEGIN:DAYLIGHT
TZOFFSETFROM:-0600
TZOFFSETTO:-0500
TZNAME:CDT
DTSTART:20240310T080000
END:DAYLIGHT
BEGIN:STANDARD
TZOFFSETFROM:-0500
TZOFFSETTO:-0600
TZNAME:CST
DTSTART:20241103T070000
END:STANDARD
END:VTIMEZONE
BEGIN:VEVENT
DTSTART;TZID=America/Chicago:20230811T140000
DTEND;TZID=America/Chicago:20230811T220000
DTSTAMP:20260422T194101
CREATED:20230802T170737Z
LAST-MODIFIED:20230802T170738Z
UID:15418-1691762400-1691791200@jubileewc.org
SUMMARY:Celebrate MN Family Festival
DESCRIPTION:You are invited to Celebrate MN’s Free Family Festival!\nFriday & Saturday\, August 11 & 12 at Whitney Park \nLive Music! Action Sports! Car Show! KidsFest! And More!!! \nFind out more here.
URL:https://jubileewc.org/event/celebrate-mn-family-festival/2023-08-11/
LOCATION:Whitney Park\, 1529 Northway Drive\, St. Cloud\, MN\, 56303\, United States
CATEGORIES:Special Event
ATTACH;FMTTYPE=image/png:https://jubileewc.org/wp-content/uploads/2023/08/Picture2.png
END:VEVENT
BEGIN:VEVENT
DTSTART;TZID=America/Chicago:20230826T090000
DTEND;TZID=America/Chicago:20230826T160000
DTSTAMP:20260422T194101
CREATED:20230802T200036Z
LAST-MODIFIED:20230803T190254Z
UID:15423-1693040400-1693065600@jubileewc.org
SUMMARY:Family Zoo Day
DESCRIPTION:Join us for a Family Zoo Day!\nSaturday\, August 26 \nWe will meet at Jubilee at 9:00 a.m. and caravan to Como Zoo! We will return to Jubilee at 4:00 p.m. \nThis is a free event\, but you will need your own spending money for food\, rides or souvenirs. \nLet us know if you can make it.  We hope to see you there! \nSign up here.
URL:https://jubileewc.org/event/family-zoo-day/
LOCATION:Como Zoo\, 1225 Estabrook Dr.\, St. Paul\, MN\, 55103\, United States
CATEGORIES:Special Event
END:VEVENT
END:VCALENDAR