BEGIN:VCALENDAR
VERSION:2.0
PRODID:-//Jubilee Worship Center - ECPv6.15.20//NONSGML v1.0//EN
CALSCALE:GREGORIAN
METHOD:PUBLISH
X-WR-CALNAME:Jubilee Worship Center
X-ORIGINAL-URL:https://jubileewc.org
X-WR-CALDESC:Events for Jubilee Worship Center
REFRESH-INTERVAL;VALUE=DURATION:PT1H
X-Robots-Tag:noindex
X-PUBLISHED-TTL:PT1H
BEGIN:VTIMEZONE
TZID:America/Chicago
BEGIN:DAYLIGHT
TZOFFSETFROM:-0600
TZOFFSETTO:-0500
TZNAME:CDT
DTSTART:20230312T080000
END:DAYLIGHT
BEGIN:STANDARD
TZOFFSETFROM:-0500
TZOFFSETTO:-0600
TZNAME:CST
DTSTART:20231105T070000
END:STANDARD
BEGIN:DAYLIGHT
TZOFFSETFROM:-0600
TZOFFSETTO:-0500
TZNAME:CDT
DTSTART:20240310T080000
END:DAYLIGHT
BEGIN:STANDARD
TZOFFSETFROM:-0500
TZOFFSETTO:-0600
TZNAME:CST
DTSTART:20241103T070000
END:STANDARD
BEGIN:DAYLIGHT
TZOFFSETFROM:-0600
TZOFFSETTO:-0500
TZNAME:CDT
DTSTART:20250309T080000
END:DAYLIGHT
BEGIN:STANDARD
TZOFFSETFROM:-0500
TZOFFSETTO:-0600
TZNAME:CST
DTSTART:20251102T070000
END:STANDARD
END:VTIMEZONE
BEGIN:VEVENT
DTSTART;TZID=America/Chicago:20240203T100000
DTEND;TZID=America/Chicago:20240203T113000
DTSTAMP:20260422T104622
CREATED:20240125T195121Z
LAST-MODIFIED:20240125T195122Z
UID:16532-1706954400-1706959800@jubileewc.org
SUMMARY:Dinner Theatre Auditions
DESCRIPTION:You are invited to Dinner Theatre Auditions! This is open to all ages and all skill levels. There are many parts – ranging from many lines to no lines.\nAuditions are Saturday\, February 3rd from 10-11:30am at Jubilee \nThis Dinner Theatre\, called “No Greater Love”\, will be on Friday\, March 15th at 6:30pm. \nSee Pastor Buddy for more info or if you have any questions.
URL:https://jubileewc.org/event/dinner-theatre-auditions/
LOCATION:Jubilee Worship Center\, 3125 County Road 74\, St. Cloud\, MN\, 56301\, United States
CATEGORIES:Special Event
ATTACH;FMTTYPE=image/png:https://jubileewc.org/wp-content/uploads/2024/01/Auditions-Website.png
END:VEVENT
END:VCALENDAR