BEGIN:VCALENDAR
VERSION:2.0
PRODID:-//Jubilee Worship Center - ECPv6.15.20//NONSGML v1.0//EN
CALSCALE:GREGORIAN
METHOD:PUBLISH
X-WR-CALNAME:Jubilee Worship Center
X-ORIGINAL-URL:https://jubileewc.org
X-WR-CALDESC:Events for Jubilee Worship Center
REFRESH-INTERVAL;VALUE=DURATION:PT1H
X-Robots-Tag:noindex
X-PUBLISHED-TTL:PT1H
BEGIN:VTIMEZONE
TZID:America/Chicago
BEGIN:DAYLIGHT
TZOFFSETFROM:-0600
TZOFFSETTO:-0500
TZNAME:CDT
DTSTART:20230312T080000
END:DAYLIGHT
BEGIN:STANDARD
TZOFFSETFROM:-0500
TZOFFSETTO:-0600
TZNAME:CST
DTSTART:20231105T070000
END:STANDARD
BEGIN:DAYLIGHT
TZOFFSETFROM:-0600
TZOFFSETTO:-0500
TZNAME:CDT
DTSTART:20240310T080000
END:DAYLIGHT
BEGIN:STANDARD
TZOFFSETFROM:-0500
TZOFFSETTO:-0600
TZNAME:CST
DTSTART:20241103T070000
END:STANDARD
BEGIN:DAYLIGHT
TZOFFSETFROM:-0600
TZOFFSETTO:-0500
TZNAME:CDT
DTSTART:20250309T080000
END:DAYLIGHT
BEGIN:STANDARD
TZOFFSETFROM:-0500
TZOFFSETTO:-0600
TZNAME:CST
DTSTART:20251102T070000
END:STANDARD
END:VTIMEZONE
BEGIN:VEVENT
DTSTART;TZID=America/Chicago:20240315T180000
DTEND;TZID=America/Chicago:20240315T203000
DTSTAMP:20260422T090043
CREATED:20240221T184654Z
LAST-MODIFIED:20240221T184655Z
UID:16843-1710525600-1710534600@jubileewc.org
SUMMARY:No Greater Love Dinner Theatre
DESCRIPTION:You are invited to No Greater Love Dinner Theatre!\nFriday\, March 15th from 6:00 – 8:30 pm at Jubilee Worship Center \nJoin us for an unforgettable evening of love\, laughter and delicious food! The proceeds from this event will go to help community youth attend camp and other summer events. \nTickets can be purchased using the link below. Ticket sales end on March 10th. \nWe hope to see you there! \n\nGet your tickets here.
URL:https://jubileewc.org/event/no-greater-love-dinner-theatre/
LOCATION:Jubilee Worship Center\, 3125 County Road 74\, St. Cloud\, MN\, 56301\, United States
CATEGORIES:Special Event
ATTACH;FMTTYPE=image/png:https://jubileewc.org/wp-content/uploads/2024/02/No-Greater-Love-Website.png
END:VEVENT
END:VCALENDAR