BEGIN:VCALENDAR
VERSION:2.0
PRODID:-//Jubilee Worship Center - ECPv6.15.20//NONSGML v1.0//EN
CALSCALE:GREGORIAN
METHOD:PUBLISH
X-ORIGINAL-URL:https://jubileewc.org
X-WR-CALDESC:Events for Jubilee Worship Center
REFRESH-INTERVAL;VALUE=DURATION:PT1H
X-Robots-Tag:noindex
X-PUBLISHED-TTL:PT1H
BEGIN:VTIMEZONE
TZID:America/Chicago
BEGIN:DAYLIGHT
TZOFFSETFROM:-0600
TZOFFSETTO:-0500
TZNAME:CDT
DTSTART:20240310T080000
END:DAYLIGHT
BEGIN:STANDARD
TZOFFSETFROM:-0500
TZOFFSETTO:-0600
TZNAME:CST
DTSTART:20241103T070000
END:STANDARD
BEGIN:DAYLIGHT
TZOFFSETFROM:-0600
TZOFFSETTO:-0500
TZNAME:CDT
DTSTART:20250309T080000
END:DAYLIGHT
BEGIN:STANDARD
TZOFFSETFROM:-0500
TZOFFSETTO:-0600
TZNAME:CST
DTSTART:20251102T070000
END:STANDARD
BEGIN:DAYLIGHT
TZOFFSETFROM:-0600
TZOFFSETTO:-0500
TZNAME:CDT
DTSTART:20260308T080000
END:DAYLIGHT
BEGIN:STANDARD
TZOFFSETFROM:-0500
TZOFFSETTO:-0600
TZNAME:CST
DTSTART:20261101T070000
END:STANDARD
END:VTIMEZONE
BEGIN:VEVENT
DTSTART;TZID=America/Chicago:20250619T120000
DTEND;TZID=America/Chicago:20250619T190000
DTSTAMP:20260421T073502
CREATED:20220609T203535Z
LAST-MODIFIED:20250612T213804Z
UID:13065-1750334400-1750359600@jubileewc.org
SUMMARY:Juneteenth Celebration
DESCRIPTION:You are invited to St. Cloud’s Annual Juneteenth Celebration at Lake George!\nPut on by Higher Works Collaborative \nLive Music\, Games & Activities\, Vendors & More! \nWe are looking for volunteers to work 1-hour or 2-hour shifts at the Jubilee Booth and to help decorate our booth. If you are able to help\, sign up here.
URL:https://jubileewc.org/event/juneteenth-celebration/
LOCATION:Lake George\, 1101 7th St. S\, St. Cloud\, MN\, 56301\, United States
CATEGORIES:Special Event
ATTACH;FMTTYPE=image/png:https://jubileewc.org/wp-content/uploads/2022/06/Juneteenth-2025.png
END:VEVENT
BEGIN:VEVENT
DTSTART;TZID=America/Chicago:20250628T080000
DTEND;TZID=America/Chicago:20250628T130000
DTSTAMP:20260421T073502
CREATED:20230613T183614Z
LAST-MODIFIED:20250620T203922Z
UID:15321-1751097600-1751115600@jubileewc.org
SUMMARY:St. Cloud Granite City Days Parade
DESCRIPTION:We are excited to have a float in the St. Cloud Granite City Days Parade!\nWe are looking for volunteers to help with the Jubilee float and walk in the parade with us! Sign up below if you’d like to join us! \nSaturday\, June 28th from 8:00 a.m. – 1:00 p.m. \n  \nSign up here.
URL:https://jubileewc.org/event/granite-city-days-parade/
LOCATION:MN
CATEGORIES:Special Event
END:VEVENT
END:VCALENDAR