BEGIN:VCALENDAR
VERSION:2.0
PRODID:-//Jubilee Worship Center - ECPv6.15.20//NONSGML v1.0//EN
CALSCALE:GREGORIAN
METHOD:PUBLISH
X-WR-CALNAME:Jubilee Worship Center
X-ORIGINAL-URL:https://jubileewc.org
X-WR-CALDESC:Events for Jubilee Worship Center
REFRESH-INTERVAL;VALUE=DURATION:PT1H
X-Robots-Tag:noindex
X-PUBLISHED-TTL:PT1H
BEGIN:VTIMEZONE
TZID:America/Chicago
BEGIN:DAYLIGHT
TZOFFSETFROM:-0600
TZOFFSETTO:-0500
TZNAME:CDT
DTSTART:20230312T080000
END:DAYLIGHT
BEGIN:STANDARD
TZOFFSETFROM:-0500
TZOFFSETTO:-0600
TZNAME:CST
DTSTART:20231105T070000
END:STANDARD
BEGIN:DAYLIGHT
TZOFFSETFROM:-0600
TZOFFSETTO:-0500
TZNAME:CDT
DTSTART:20240310T080000
END:DAYLIGHT
BEGIN:STANDARD
TZOFFSETFROM:-0500
TZOFFSETTO:-0600
TZNAME:CST
DTSTART:20241103T070000
END:STANDARD
BEGIN:DAYLIGHT
TZOFFSETFROM:-0600
TZOFFSETTO:-0500
TZNAME:CDT
DTSTART:20250309T080000
END:DAYLIGHT
BEGIN:STANDARD
TZOFFSETFROM:-0500
TZOFFSETTO:-0600
TZNAME:CST
DTSTART:20251102T070000
END:STANDARD
BEGIN:DAYLIGHT
TZOFFSETFROM:-0600
TZOFFSETTO:-0500
TZNAME:CDT
DTSTART:20260308T080000
END:DAYLIGHT
BEGIN:STANDARD
TZOFFSETFROM:-0500
TZOFFSETTO:-0600
TZNAME:CST
DTSTART:20261101T070000
END:STANDARD
BEGIN:DAYLIGHT
TZOFFSETFROM:-0600
TZOFFSETTO:-0500
TZNAME:CDT
DTSTART:20270314T080000
END:DAYLIGHT
BEGIN:STANDARD
TZOFFSETFROM:-0500
TZOFFSETTO:-0600
TZNAME:CST
DTSTART:20271107T070000
END:STANDARD
END:VTIMEZONE
BEGIN:VEVENT
DTSTART;TZID=America/Chicago:20240114T150000
DTEND;TZID=America/Chicago:20240114T170000
DTSTAMP:20260424T081605
CREATED:20240110T164924Z
LAST-MODIFIED:20240110T164924Z
UID:16521-1705244400-1705251600@jubileewc.org
SUMMARY:MLK Spirit
DESCRIPTION:You are invited to MLK Spirit: A Praise & Worship Celebration\nSunday\, January 14th at 3:00 pm at Jubilee Worship Center \nFor more information on any of the MLK Community Celebration events\, click here.
URL:https://jubileewc.org/event/mlk-spirit/
LOCATION:Jubilee Worship Center\, 3125 County Road 74\, St. Cloud\, MN\, 56301\, United States
CATEGORIES:Special Event
ATTACH;FMTTYPE=image/png:https://jubileewc.org/wp-content/uploads/2024/01/Picture21.png
END:VEVENT
BEGIN:VEVENT
DTSTART;TZID=America/Chicago:20240203T100000
DTEND;TZID=America/Chicago:20240203T113000
DTSTAMP:20260424T081605
CREATED:20240125T195121Z
LAST-MODIFIED:20240125T195122Z
UID:16532-1706954400-1706959800@jubileewc.org
SUMMARY:Dinner Theatre Auditions
DESCRIPTION:You are invited to Dinner Theatre Auditions! This is open to all ages and all skill levels. There are many parts – ranging from many lines to no lines.\nAuditions are Saturday\, February 3rd from 10-11:30am at Jubilee \nThis Dinner Theatre\, called “No Greater Love”\, will be on Friday\, March 15th at 6:30pm. \nSee Pastor Buddy for more info or if you have any questions.
URL:https://jubileewc.org/event/dinner-theatre-auditions/
LOCATION:Jubilee Worship Center\, 3125 County Road 74\, St. Cloud\, MN\, 56301\, United States
CATEGORIES:Special Event
ATTACH;FMTTYPE=image/png:https://jubileewc.org/wp-content/uploads/2024/01/Auditions-Website.png
END:VEVENT
BEGIN:VEVENT
DTSTART;TZID=America/Chicago:20240315T180000
DTEND;TZID=America/Chicago:20240315T203000
DTSTAMP:20260424T081605
CREATED:20240221T184654Z
LAST-MODIFIED:20240221T184655Z
UID:16843-1710525600-1710534600@jubileewc.org
SUMMARY:No Greater Love Dinner Theatre
DESCRIPTION:You are invited to No Greater Love Dinner Theatre!\nFriday\, March 15th from 6:00 – 8:30 pm at Jubilee Worship Center \nJoin us for an unforgettable evening of love\, laughter and delicious food! The proceeds from this event will go to help community youth attend camp and other summer events. \nTickets can be purchased using the link below. Ticket sales end on March 10th. \nWe hope to see you there! \n\nGet your tickets here.
URL:https://jubileewc.org/event/no-greater-love-dinner-theatre/
LOCATION:Jubilee Worship Center\, 3125 County Road 74\, St. Cloud\, MN\, 56301\, United States
CATEGORIES:Special Event
ATTACH;FMTTYPE=image/png:https://jubileewc.org/wp-content/uploads/2024/02/No-Greater-Love-Website.png
END:VEVENT
BEGIN:VEVENT
DTSTART;TZID=America/Chicago:20240419T100000
DTEND;TZID=America/Chicago:20240419T120000
DTSTAMP:20260424T081605
CREATED:20240412T014209Z
LAST-MODIFIED:20240412T014209Z
UID:16912-1713520800-1713528000@jubileewc.org
SUMMARY:Movie Screening: Letter to the American Church
DESCRIPTION:Free movie screening based on the best-selling book Letter to the American Church!\n“Silence in the face of evil is itself evil. Not to speak is to speak. Not to act is to act. God will not hold us guiltless.” -Dietrich Bonhoeffer \n\nFriday\, April 19th @ 10:00 a.m. (Pastors Only)\nFriday\, April 19th @ 7:00 p.m.\nSunday\, April 21st @ 4:00 p.m.\n\nNote: This is not suitable for children. No childcare provided.
URL:https://jubileewc.org/event/movie-screening-letter-to-the-american-church/2024-04-19/
LOCATION:Jubilee Worship Center\, 3125 County Road 74\, St. Cloud\, MN\, 56301\, United States
CATEGORIES:Special Event
ATTACH;FMTTYPE=image/png:https://jubileewc.org/wp-content/uploads/2024/04/Letter-to-the-American-Church-Website.png
END:VEVENT
BEGIN:VEVENT
DTSTART;TZID=America/Chicago:20240519T100000
DTEND;TZID=America/Chicago:20240519T113000
DTSTAMP:20260424T081605
CREATED:20210319T001021Z
LAST-MODIFIED:20240504T003505Z
UID:10199-1716112800-1716118200@jubileewc.org
SUMMARY:MN Adult & Teen Challenge
DESCRIPTION:Come see the Central MN Adult & Teen Challenge choir sing songs of hope and tell their stories of redemption and healing!\nSunday\, May 19th at 10:00 a.m. \nFor more information about MN Adult & Teen Challenge\, visit their website.
URL:https://jubileewc.org/event/mn-adult-teen-challenge/
LOCATION:Jubilee Worship Center\, 3125 County Road 74\, St. Cloud\, MN\, 56301\, United States
CATEGORIES:Special Event
END:VEVENT
BEGIN:VEVENT
DTSTART;TZID=America/Chicago:20240713T100000
DTEND;TZID=America/Chicago:20240713T180000
DTSTAMP:20260424T081605
CREATED:20220825T170432Z
LAST-MODIFIED:20240620T004021Z
UID:13351-1720864800-1720893600@jubileewc.org
SUMMARY:Family Day at the Lake
DESCRIPTION:You are invited to a Family Day at the Lake!\nSaturday\, July 13th from 10am – 6pm \nAt Warner Lake Memorial Park (1485 County Road 143\, Clearwater MN 55320) \nPlease bring a dish to share. \nNote: Swimming is at your own risk. The lake is roped off to swim; average feet there is 3.5 feet with deeper water further out.
URL:https://jubileewc.org/event/family-day-at-the-lake/
LOCATION:Warner Lake Memorial Park\, 1485 County Road 143\, Clearwater\, MN\, 55320\, United States
CATEGORIES:Special Event
ATTACH;FMTTYPE=image/png:https://jubileewc.org/wp-content/uploads/2022/08/Lake-Day-2024-Website.png
END:VEVENT
BEGIN:VEVENT
DTSTART;TZID=America/Chicago:20250114T160000
DTEND;TZID=America/Chicago:20250114T180000
DTSTAMP:20260424T081605
CREATED:20240208T203423Z
LAST-MODIFIED:20250320T191915Z
UID:16821-1736870400-1736877600@jubileewc.org
SUMMARY:Arts & Crafts
DESCRIPTION:You are invited to our open Arts & Crafts time!\nEvery 2nd & 4th Tuesday of the month from 4:00 – 6:00 p.m. \nBring your own arts & crafts project and enjoy a time of community and crafting together. Then stay for Talk & Tea right after!
URL:https://jubileewc.org/event/arts-crafts/2025-01-14/
LOCATION:Jubilee Worship Center\, 3125 County Road 74\, St. Cloud\, MN\, 56301\, United States
CATEGORIES:Special Event
ATTACH;FMTTYPE=image/png:https://jubileewc.org/wp-content/uploads/2024/02/Arts-Crafts-Website.png
END:VEVENT
BEGIN:VEVENT
DTSTART;TZID=America/Chicago:20250306T173000
DTEND;TZID=America/Chicago:20250306T200000
DTSTAMP:20260424T081605
CREATED:20250226T204545Z
LAST-MODIFIED:20250226T204546Z
UID:18695-1741282200-1741291200@jubileewc.org
SUMMARY:Adults 50+ Fellowship Night
DESCRIPTION:Pastor Mark & Becky are inviting all Jubilee adults 50+ to a night of fellowship & hanging out!\nThursday\, March 6th from 5:30 – 8:00 pm \nAt Pastor Mark & Becky’s home \nThis is a potluck gathering. Please bring a dish to share. \nLet us know if you can make it. \nSign up here.
URL:https://jubileewc.org/event/adults-50-fellowship-night/
LOCATION:MN
CATEGORIES:Special Event
ATTACH;FMTTYPE=image/png:https://jubileewc.org/wp-content/uploads/2025/02/50-Fellowship-Night-Website.png
END:VEVENT
BEGIN:VEVENT
DTSTART;TZID=America/Chicago:20250518T100000
DTEND;TZID=America/Chicago:20250518T113000
DTSTAMP:20260424T081605
CREATED:20220512T184939Z
LAST-MODIFIED:20250506T185740Z
UID:12448-1747562400-1747567800@jubileewc.org
SUMMARY:Honoring Our Graduates
DESCRIPTION:We will be honoring all high school and college graduates on May 18th!\nIf you are graduating from high school or college\, we would like to honor you during our Sunday morning service. Please let us know by clicking on the link below. \nSign up here.
URL:https://jubileewc.org/event/honoring-high-school-college-graduates/
LOCATION:Jubilee Worship Center\, 3125 County Road 74\, St. Cloud\, MN\, 56301\, United States
CATEGORIES:Special Event
ATTACH;FMTTYPE=image/png:https://jubileewc.org/wp-content/uploads/2022/05/Honoring-Graduates-2025-Website.png
END:VEVENT
BEGIN:VEVENT
DTSTART;TZID=America/Chicago:20250619T120000
DTEND;TZID=America/Chicago:20250619T190000
DTSTAMP:20260424T081605
CREATED:20220609T203535Z
LAST-MODIFIED:20250612T213804Z
UID:13065-1750334400-1750359600@jubileewc.org
SUMMARY:Juneteenth Celebration
DESCRIPTION:You are invited to St. Cloud’s Annual Juneteenth Celebration at Lake George!\nPut on by Higher Works Collaborative \nLive Music\, Games & Activities\, Vendors & More! \nWe are looking for volunteers to work 1-hour or 2-hour shifts at the Jubilee Booth and to help decorate our booth. If you are able to help\, sign up here.
URL:https://jubileewc.org/event/juneteenth-celebration/
LOCATION:Lake George\, 1101 7th St. S\, St. Cloud\, MN\, 56301\, United States
CATEGORIES:Special Event
ATTACH;FMTTYPE=image/png:https://jubileewc.org/wp-content/uploads/2022/06/Juneteenth-2025.png
END:VEVENT
BEGIN:VEVENT
DTSTART;TZID=America/Chicago:20250628T080000
DTEND;TZID=America/Chicago:20250628T130000
DTSTAMP:20260424T081605
CREATED:20230613T183614Z
LAST-MODIFIED:20250620T203922Z
UID:15321-1751097600-1751115600@jubileewc.org
SUMMARY:St. Cloud Granite City Days Parade
DESCRIPTION:We are excited to have a float in the St. Cloud Granite City Days Parade!\nWe are looking for volunteers to help with the Jubilee float and walk in the parade with us! Sign up below if you’d like to join us! \nSaturday\, June 28th from 8:00 a.m. – 1:00 p.m. \n  \nSign up here.
URL:https://jubileewc.org/event/granite-city-days-parade/
LOCATION:MN
CATEGORIES:Special Event
END:VEVENT
BEGIN:VEVENT
DTSTART;TZID=America/Chicago:20250704T080000
DTEND;TZID=America/Chicago:20250704T130000
DTSTAMP:20260424T081605
CREATED:20250620T210148Z
LAST-MODIFIED:20250620T210148Z
UID:19215-1751616000-1751634000@jubileewc.org
SUMMARY:St. Joseph 4th of July Parade
DESCRIPTION:We are excited to have a float in the St. Joseph 4th of July Parade!\nWe are looking for volunteers to walk in the parade with us! Sign up below if you’d like to join us! \nFriday\, July 4th from 8:00 a.m. – 1:00 p.m. \n  \nSign up here.
URL:https://jubileewc.org/event/st-joseph-4th-of-july-parade/
LOCATION:MN
CATEGORIES:Special Event
ATTACH;FMTTYPE=image/png:https://jubileewc.org/wp-content/uploads/2025/06/Copy-of-ST.-CLOUD-7.6-x-4-in.png
END:VEVENT
BEGIN:VEVENT
DTSTART;TZID=America/Chicago:20250817T113000
DTEND;TZID=America/Chicago:20250817T150000
DTSTAMP:20260424T081605
CREATED:20210623T192926Z
LAST-MODIFIED:20250805T204345Z
UID:10421-1755430200-1755442800@jubileewc.org
SUMMARY:Annual Church Picnic
DESCRIPTION:You are invited to Jubilee’s Annual Church Picnic!\nFabulous Food! Kids Inflatables! Yard Games! Karaoke! \nSunday\, August 17th following the morning service on the church grounds \nLunch will be provided by Jubilee! \nBring a lawn chair or blanket and join us for afternoon of Food\, Fellowship & Fun!
URL:https://jubileewc.org/event/annual-church-picnic/
LOCATION:Jubilee Worship Center\, 3125 County Road 74\, St. Cloud\, MN\, 56301\, United States
CATEGORIES:Special Event
ATTACH;FMTTYPE=image/png:https://jubileewc.org/wp-content/uploads/2021/06/Church-Picnic-Website-1.png
END:VEVENT
BEGIN:VEVENT
DTSTART;TZID=America/Chicago:20251026T100000
DTEND;TZID=America/Chicago:20251026T130000
DTSTAMP:20260424T081605
CREATED:20221026T171738Z
LAST-MODIFIED:20251015T205409Z
UID:13709-1761472800-1761483600@jubileewc.org
SUMMARY:Pastor Appreciation Day
DESCRIPTION:Join us for Pastor Appreciation Sunday!\nJoin us as we honor\, celebrate and give thanks for our pastors and recognize the work\, prayer\, and whole-hearted dedication they give to the task of caring for our church family. \nWe will be recognizing Pastors Mark & Becky Johnson for their long-time leadership over Jubilee. \nWe will use a portion of that Sunday’s service to pray over the pastors and express our appreciation for them. Few things encourage our pastors as much as hearing from each of us how their ministry has touched our lives\, or what we most appreciate about them personally. At Sunday’s service\, there will be a table set up in the rear of the sanctuary where you can place your personal expressions of thanks in the form of cards\, notes or gifts. \nWe also invite you to join us immediately following the service for a lunch (provided by Jubilee) and a time of visiting with our pastors. \nThank you for helping us honor and appreciate those who have put so much of their energy and heart into the life of the church.
URL:https://jubileewc.org/event/pastor-appreciation-day/
LOCATION:Jubilee Worship Center\, 3125 County Road 74\, St. Cloud\, MN\, 56301\, United States
CATEGORIES:Special Event
ATTACH;FMTTYPE=image/png:https://jubileewc.org/wp-content/uploads/2022/10/Pastor-Appreciation-Website-1.png
END:VEVENT
BEGIN:VEVENT
DTSTART;TZID=America/Chicago:20251213T120000
DTEND;TZID=America/Chicago:20251213T140000
DTSTAMP:20260424T081605
CREATED:20210319T001730Z
LAST-MODIFIED:20251120T153117Z
UID:10202-1765627200-1765634400@jubileewc.org
SUMMARY:Socks From the Soul
DESCRIPTION:We are partnering with Socks From the Soul to collect wrapping paper\, socks\, hats\, mittens\, gloves\, etc. These items are wrapped and brought to those in need. These items can be dropped off at Jubilee in the large boxes in the foyer. \nWe are also looking for volunteers to help us wrap these items at our Wrapping Party on December 13th from 12:00 – 2:00 p.m. \nFor more information\, call Arvis at 320-282-4160. \n  \n\n  \n 
URL:https://jubileewc.org/event/socks-from-the-soul/
LOCATION:Jubilee Worship Center\, 3125 County Road 74\, St. Cloud\, MN\, 56301\, United States
CATEGORIES:Special Event
ATTACH;FMTTYPE=image/png:https://jubileewc.org/wp-content/uploads/2021/03/SFTS-Website.png
END:VEVENT
BEGIN:VEVENT
DTSTART;TZID=America/Chicago:20251231T190000
DTEND;TZID=America/Chicago:20251231T203000
DTSTAMP:20260424T081605
CREATED:20251204T162552Z
LAST-MODIFIED:20251204T162553Z
UID:20397-1767207600-1767213000@jubileewc.org
SUMMARY:New Year's Eve Worship & Prayer
DESCRIPTION:Join us New Year’s Eve from 7:00 – 8:30 p.m. for Worship & Prayer!\nThere will be a Finger Food Fellowship right after! Please bring a finger food to share. \n 
URL:https://jubileewc.org/event/new-years-eve-worship-prayer/
LOCATION:Jubilee Worship Center\, 3125 County Road 74\, St. Cloud\, MN\, 56301\, United States
CATEGORIES:New Year's,Prayer,Special Event,Worship Night
ATTACH;FMTTYPE=image/png:https://jubileewc.org/wp-content/uploads/2025/12/Worship-Prayer-Website.png
END:VEVENT
BEGIN:VEVENT
DTSTART;TZID=America/Chicago:20260208T170000
DTEND;TZID=America/Chicago:20260208T210000
DTSTAMP:20260424T081605
CREATED:20250203T205519Z
LAST-MODIFIED:20260130T210603Z
UID:18585-1770570000-1770584400@jubileewc.org
SUMMARY:Super Bowl Party
DESCRIPTION:Join us for a Super Bowl Party!\nSunday\, February 8th at 5:00 p.m. \nHot dogs will be provided. Please bring a dish or dessert to share. \nLet us know if you can make it! Contact us.
URL:https://jubileewc.org/event/super-bowl-party/
LOCATION:Jubilee Worship Center\, 3125 County Road 74\, St. Cloud\, MN\, 56301\, United States
CATEGORIES:Special Event
ATTACH;FMTTYPE=image/png:https://jubileewc.org/wp-content/uploads/2025/02/Super-Bowl-Party-Website.png
END:VEVENT
BEGIN:VEVENT
DTSTART;TZID=America/Chicago:20260503T180000
DTEND;TZID=America/Chicago:20260503T200000
DTSTAMP:20260424T081605
CREATED:20220316T155502Z
LAST-MODIFIED:20260409T201546Z
UID:12285-1777831200-1777838400@jubileewc.org
SUMMARY:Jubilee Roller Skating
DESCRIPTION:Join us for our annual church skate night!\nSunday\, May 3rd from 6-8 pm \nAt St. Cloud Skatin’ Place \nThere is no cost to attend; donations are encouraged. Concessions are available for purchase.
URL:https://jubileewc.org/event/jubilee-roller-skating/
LOCATION:St. Cloud Skatin’ Place\, 3302 Southway Drive\, St. Cloud\, MN\, 56301\, United States
CATEGORIES:Special Event
ATTACH;FMTTYPE=image/png:https://jubileewc.org/wp-content/uploads/2022/03/Roller-Skating-Website-1.png
END:VEVENT
END:VCALENDAR