BEGIN:VCALENDAR
VERSION:2.0
PRODID:-//Jubilee Worship Center - ECPv6.15.20//NONSGML v1.0//EN
CALSCALE:GREGORIAN
METHOD:PUBLISH
X-WR-CALNAME:Jubilee Worship Center
X-ORIGINAL-URL:https://jubileewc.org
X-WR-CALDESC:Events for Jubilee Worship Center
REFRESH-INTERVAL;VALUE=DURATION:PT1H
X-Robots-Tag:noindex
X-PUBLISHED-TTL:PT1H
BEGIN:VTIMEZONE
TZID:America/Chicago
BEGIN:DAYLIGHT
TZOFFSETFROM:-0600
TZOFFSETTO:-0500
TZNAME:CDT
DTSTART:20240310T080000
END:DAYLIGHT
BEGIN:STANDARD
TZOFFSETFROM:-0500
TZOFFSETTO:-0600
TZNAME:CST
DTSTART:20241103T070000
END:STANDARD
BEGIN:DAYLIGHT
TZOFFSETFROM:-0600
TZOFFSETTO:-0500
TZNAME:CDT
DTSTART:20250309T080000
END:DAYLIGHT
BEGIN:STANDARD
TZOFFSETFROM:-0500
TZOFFSETTO:-0600
TZNAME:CST
DTSTART:20251102T070000
END:STANDARD
BEGIN:DAYLIGHT
TZOFFSETFROM:-0600
TZOFFSETTO:-0500
TZNAME:CDT
DTSTART:20260308T080000
END:DAYLIGHT
BEGIN:STANDARD
TZOFFSETFROM:-0500
TZOFFSETTO:-0600
TZNAME:CST
DTSTART:20261101T070000
END:STANDARD
BEGIN:DAYLIGHT
TZOFFSETFROM:-0600
TZOFFSETTO:-0500
TZNAME:CDT
DTSTART:20270314T080000
END:DAYLIGHT
BEGIN:STANDARD
TZOFFSETFROM:-0500
TZOFFSETTO:-0600
TZNAME:CST
DTSTART:20271107T070000
END:STANDARD
END:VTIMEZONE
BEGIN:VEVENT
DTSTART;TZID=America/Chicago:20251231T190000
DTEND;TZID=America/Chicago:20251231T203000
DTSTAMP:20260422T150311
CREATED:20251204T162552Z
LAST-MODIFIED:20251204T162553Z
UID:20397-1767207600-1767213000@jubileewc.org
SUMMARY:New Year's Eve Worship & Prayer
DESCRIPTION:Join us New Year’s Eve from 7:00 – 8:30 p.m. for Worship & Prayer!\nThere will be a Finger Food Fellowship right after! Please bring a finger food to share. \n 
URL:https://jubileewc.org/event/new-years-eve-worship-prayer/
LOCATION:Jubilee Worship Center\, 3125 County Road 74\, St. Cloud\, MN\, 56301\, United States
CATEGORIES:New Year's,Prayer,Special Event,Worship Night
ATTACH;FMTTYPE=image/png:https://jubileewc.org/wp-content/uploads/2025/12/Worship-Prayer-Website.png
END:VEVENT
BEGIN:VEVENT
DTSTART;TZID=America/Chicago:20260208T170000
DTEND;TZID=America/Chicago:20260208T210000
DTSTAMP:20260422T150311
CREATED:20250203T205519Z
LAST-MODIFIED:20260130T210603Z
UID:18585-1770570000-1770584400@jubileewc.org
SUMMARY:Super Bowl Party
DESCRIPTION:Join us for a Super Bowl Party!\nSunday\, February 8th at 5:00 p.m. \nHot dogs will be provided. Please bring a dish or dessert to share. \nLet us know if you can make it! Contact us.
URL:https://jubileewc.org/event/super-bowl-party/
LOCATION:Jubilee Worship Center\, 3125 County Road 74\, St. Cloud\, MN\, 56301\, United States
CATEGORIES:Special Event
ATTACH;FMTTYPE=image/png:https://jubileewc.org/wp-content/uploads/2025/02/Super-Bowl-Party-Website.png
END:VEVENT
BEGIN:VEVENT
DTSTART;TZID=America/Chicago:20260503T180000
DTEND;TZID=America/Chicago:20260503T200000
DTSTAMP:20260422T150311
CREATED:20220316T155502Z
LAST-MODIFIED:20260409T201546Z
UID:12285-1777831200-1777838400@jubileewc.org
SUMMARY:Jubilee Roller Skating
DESCRIPTION:Join us for our annual church skate night!\nSunday\, May 3rd from 6-8 pm \nAt St. Cloud Skatin’ Place \nThere is no cost to attend; donations are encouraged. Concessions are available for purchase.
URL:https://jubileewc.org/event/jubilee-roller-skating/
LOCATION:St. Cloud Skatin’ Place\, 3302 Southway Drive\, St. Cloud\, MN\, 56301\, United States
CATEGORIES:Special Event
ATTACH;FMTTYPE=image/png:https://jubileewc.org/wp-content/uploads/2022/03/Roller-Skating-Website-1.png
END:VEVENT
END:VCALENDAR