BEGIN:VCALENDAR
VERSION:2.0
PRODID:-//Jubilee Worship Center - ECPv6.15.20//NONSGML v1.0//EN
CALSCALE:GREGORIAN
METHOD:PUBLISH
X-ORIGINAL-URL:https://jubileewc.org
X-WR-CALDESC:Events for Jubilee Worship Center
REFRESH-INTERVAL;VALUE=DURATION:PT1H
X-Robots-Tag:noindex
X-PUBLISHED-TTL:PT1H
BEGIN:VTIMEZONE
TZID:America/Chicago
BEGIN:DAYLIGHT
TZOFFSETFROM:-0600
TZOFFSETTO:-0500
TZNAME:CDT
DTSTART:20240310T080000
END:DAYLIGHT
BEGIN:STANDARD
TZOFFSETFROM:-0500
TZOFFSETTO:-0600
TZNAME:CST
DTSTART:20241103T070000
END:STANDARD
BEGIN:DAYLIGHT
TZOFFSETFROM:-0600
TZOFFSETTO:-0500
TZNAME:CDT
DTSTART:20250309T080000
END:DAYLIGHT
BEGIN:STANDARD
TZOFFSETFROM:-0500
TZOFFSETTO:-0600
TZNAME:CST
DTSTART:20251102T070000
END:STANDARD
BEGIN:DAYLIGHT
TZOFFSETFROM:-0600
TZOFFSETTO:-0500
TZNAME:CDT
DTSTART:20260308T080000
END:DAYLIGHT
BEGIN:STANDARD
TZOFFSETFROM:-0500
TZOFFSETTO:-0600
TZNAME:CST
DTSTART:20261101T070000
END:STANDARD
END:VTIMEZONE
BEGIN:VEVENT
DTSTART;TZID=America/Chicago:20251224T170000
DTEND;TZID=America/Chicago:20251224T180000
DTSTAMP:20260419T092552
CREATED:20231213T190256Z
LAST-MODIFIED:20251120T185438Z
UID:16222-1766595600-1766599200@jubileewc.org
SUMMARY:Christmas Eve Family Service
DESCRIPTION:Join us for a Christmas Eve Family Service with Communion!\nWednesday\, December 24th from 5:00 – 6:00 p.m.
URL:https://jubileewc.org/event/christmas-eve-family-service/
LOCATION:Jubilee Worship Center\, 3125 County Road 74\, St. Cloud\, MN\, 56301\, United States
CATEGORIES:Christmas,Special Service
ATTACH;FMTTYPE=image/png:https://jubileewc.org/wp-content/uploads/2023/12/Christmas-Eve-Service-Website-3.png
END:VEVENT
END:VCALENDAR