BEGIN:VCALENDAR
VERSION:2.0
PRODID:-//Jubilee Worship Center - ECPv6.15.20//NONSGML v1.0//EN
CALSCALE:GREGORIAN
METHOD:PUBLISH
X-ORIGINAL-URL:https://jubileewc.org
X-WR-CALDESC:Events for Jubilee Worship Center
REFRESH-INTERVAL;VALUE=DURATION:PT1H
X-Robots-Tag:noindex
X-PUBLISHED-TTL:PT1H
BEGIN:VTIMEZONE
TZID:UTC
BEGIN:STANDARD
TZOFFSETFROM:+0000
TZOFFSETTO:+0000
TZNAME:UTC
DTSTART:20240101T000000
END:STANDARD
END:VTIMEZONE
BEGIN:VEVENT
DTSTART;TZID=UTC:20250706T100000
DTEND;TZID=UTC:20250706T113000
DTSTAMP:20260422T092327
CREATED:20201005T211448Z
LAST-MODIFIED:20260319T200331Z
UID:18189-1751796000-1751801400@jubileewc.org
SUMMARY:Sunday Worship Service
DESCRIPTION:We invite you to be our guest at one of our Sunday morning Worship Services at 10:00 a.m.\nWe believe you will find Jubilee to be a friendly\, relational church\, full of life. Our services have a very expressive and contemporary style of worship and praise. Brace yourself\, because it may not be what you’re used to! \n  \nLivestream Link – Facebook \nLivestream Link – YouTube \nLivestream Link – Rumble \n  \n  \n 
URL:https://jubileewc.org/event/sunday-worship-service/2025-07-06/
LOCATION:Jubilee Sanctuary\, 3125 County Road 74\, St. Cloud\, MN\, 56301\, United States
CATEGORIES:Sunday Worship
ATTACH;FMTTYPE=image/png:https://jubileewc.org/wp-content/uploads/2020/10/Sunday-Worship-Service.png
END:VEVENT
BEGIN:VEVENT
DTSTART;TZID=UTC:20250713T100000
DTEND;TZID=UTC:20250713T113000
DTSTAMP:20260422T092327
CREATED:20201005T211448Z
LAST-MODIFIED:20260319T200334Z
UID:18190-1752400800-1752406200@jubileewc.org
SUMMARY:Sunday Worship Service
DESCRIPTION:We invite you to be our guest at one of our Sunday morning Worship Services at 10:00 a.m.\nWe believe you will find Jubilee to be a friendly\, relational church\, full of life. Our services have a very expressive and contemporary style of worship and praise. Brace yourself\, because it may not be what you’re used to! \n  \nLivestream Link – Facebook \nLivestream Link – YouTube \nLivestream Link – Rumble \n  \n  \n 
URL:https://jubileewc.org/event/sunday-worship-service/2025-07-13/
LOCATION:Jubilee Sanctuary\, 3125 County Road 74\, St. Cloud\, MN\, 56301\, United States
CATEGORIES:Sunday Worship
ATTACH;FMTTYPE=image/png:https://jubileewc.org/wp-content/uploads/2020/10/Sunday-Worship-Service.png
END:VEVENT
BEGIN:VEVENT
DTSTART;TZID=UTC:20250720T100000
DTEND;TZID=UTC:20250720T113000
DTSTAMP:20260422T092327
CREATED:20201005T211448Z
LAST-MODIFIED:20260319T200336Z
UID:18191-1753005600-1753011000@jubileewc.org
SUMMARY:Sunday Worship Service
DESCRIPTION:We invite you to be our guest at one of our Sunday morning Worship Services at 10:00 a.m.\nWe believe you will find Jubilee to be a friendly\, relational church\, full of life. Our services have a very expressive and contemporary style of worship and praise. Brace yourself\, because it may not be what you’re used to! \n  \nLivestream Link – Facebook \nLivestream Link – YouTube \nLivestream Link – Rumble \n  \n  \n 
URL:https://jubileewc.org/event/sunday-worship-service/2025-07-20/
LOCATION:Jubilee Sanctuary\, 3125 County Road 74\, St. Cloud\, MN\, 56301\, United States
CATEGORIES:Sunday Worship
ATTACH;FMTTYPE=image/png:https://jubileewc.org/wp-content/uploads/2020/10/Sunday-Worship-Service.png
END:VEVENT
BEGIN:VEVENT
DTSTART;TZID=UTC:20250727T100000
DTEND;TZID=UTC:20250727T113000
DTSTAMP:20260422T092327
CREATED:20201005T211448Z
LAST-MODIFIED:20260319T200339Z
UID:18192-1753610400-1753615800@jubileewc.org
SUMMARY:Sunday Worship Service
DESCRIPTION:We invite you to be our guest at one of our Sunday morning Worship Services at 10:00 a.m.\nWe believe you will find Jubilee to be a friendly\, relational church\, full of life. Our services have a very expressive and contemporary style of worship and praise. Brace yourself\, because it may not be what you’re used to! \n  \nLivestream Link – Facebook \nLivestream Link – YouTube \nLivestream Link – Rumble \n  \n  \n 
URL:https://jubileewc.org/event/sunday-worship-service/2025-07-27/
LOCATION:Jubilee Sanctuary\, 3125 County Road 74\, St. Cloud\, MN\, 56301\, United States
CATEGORIES:Sunday Worship
ATTACH;FMTTYPE=image/png:https://jubileewc.org/wp-content/uploads/2020/10/Sunday-Worship-Service.png
END:VEVENT
END:VCALENDAR