BEGIN:VCALENDAR
VERSION:2.0
PRODID:-//Jubilee Worship Center - ECPv6.15.20//NONSGML v1.0//EN
CALSCALE:GREGORIAN
METHOD:PUBLISH
X-WR-CALNAME:Jubilee Worship Center
X-ORIGINAL-URL:https://jubileewc.org
X-WR-CALDESC:Events for Jubilee Worship Center
REFRESH-INTERVAL;VALUE=DURATION:PT1H
X-Robots-Tag:noindex
X-PUBLISHED-TTL:PT1H
BEGIN:VTIMEZONE
TZID:UTC
BEGIN:STANDARD
TZOFFSETFROM:+0000
TZOFFSETTO:+0000
TZNAME:UTC
DTSTART:20250101T000000
END:STANDARD
END:VTIMEZONE
BEGIN:VEVENT
DTSTART;TZID=UTC:20260104T100000
DTEND;TZID=UTC:20260104T113000
DTSTAMP:20260421T230010
CREATED:20201005T211448Z
LAST-MODIFIED:20260319T200439Z
UID:19572-1767520800-1767526200@jubileewc.org
SUMMARY:Sunday Worship Service
DESCRIPTION:We invite you to be our guest at one of our Sunday morning Worship Services at 10:00 a.m.\nWe believe you will find Jubilee to be a friendly\, relational church\, full of life. Our services have a very expressive and contemporary style of worship and praise. Brace yourself\, because it may not be what you’re used to! \n  \nLivestream Link – Facebook \nLivestream Link – YouTube \nLivestream Link – Rumble \n  \n  \n 
URL:https://jubileewc.org/event/sunday-worship-service/2026-01-04/
LOCATION:Jubilee Sanctuary\, 3125 County Road 74\, St. Cloud\, MN\, 56301\, United States
CATEGORIES:Sunday Worship
ATTACH;FMTTYPE=image/png:https://jubileewc.org/wp-content/uploads/2020/10/Sunday-Worship-Service.png
END:VEVENT
BEGIN:VEVENT
DTSTART;TZID=UTC:20260111T100000
DTEND;TZID=UTC:20260111T113000
DTSTAMP:20260421T230010
CREATED:20201005T211448Z
LAST-MODIFIED:20260319T200442Z
UID:19573-1768125600-1768131000@jubileewc.org
SUMMARY:Sunday Worship Service
DESCRIPTION:We invite you to be our guest at one of our Sunday morning Worship Services at 10:00 a.m.\nWe believe you will find Jubilee to be a friendly\, relational church\, full of life. Our services have a very expressive and contemporary style of worship and praise. Brace yourself\, because it may not be what you’re used to! \n  \nLivestream Link – Facebook \nLivestream Link – YouTube \nLivestream Link – Rumble \n  \n  \n 
URL:https://jubileewc.org/event/sunday-worship-service/2026-01-11/
LOCATION:Jubilee Sanctuary\, 3125 County Road 74\, St. Cloud\, MN\, 56301\, United States
CATEGORIES:Sunday Worship
ATTACH;FMTTYPE=image/png:https://jubileewc.org/wp-content/uploads/2020/10/Sunday-Worship-Service.png
END:VEVENT
BEGIN:VEVENT
DTSTART;TZID=UTC:20260118T100000
DTEND;TZID=UTC:20260118T113000
DTSTAMP:20260421T230010
CREATED:20201005T211448Z
LAST-MODIFIED:20260319T200444Z
UID:19574-1768730400-1768735800@jubileewc.org
SUMMARY:Sunday Worship Service
DESCRIPTION:We invite you to be our guest at one of our Sunday morning Worship Services at 10:00 a.m.\nWe believe you will find Jubilee to be a friendly\, relational church\, full of life. Our services have a very expressive and contemporary style of worship and praise. Brace yourself\, because it may not be what you’re used to! \n  \nLivestream Link – Facebook \nLivestream Link – YouTube \nLivestream Link – Rumble \n  \n  \n 
URL:https://jubileewc.org/event/sunday-worship-service/2026-01-18/
LOCATION:Jubilee Sanctuary\, 3125 County Road 74\, St. Cloud\, MN\, 56301\, United States
CATEGORIES:Sunday Worship
ATTACH;FMTTYPE=image/png:https://jubileewc.org/wp-content/uploads/2020/10/Sunday-Worship-Service.png
END:VEVENT
BEGIN:VEVENT
DTSTART;TZID=UTC:20260125T100000
DTEND;TZID=UTC:20260125T113000
DTSTAMP:20260421T230010
CREATED:20201005T211448Z
LAST-MODIFIED:20260319T200447Z
UID:19575-1769335200-1769340600@jubileewc.org
SUMMARY:Sunday Worship Service
DESCRIPTION:We invite you to be our guest at one of our Sunday morning Worship Services at 10:00 a.m.\nWe believe you will find Jubilee to be a friendly\, relational church\, full of life. Our services have a very expressive and contemporary style of worship and praise. Brace yourself\, because it may not be what you’re used to! \n  \nLivestream Link – Facebook \nLivestream Link – YouTube \nLivestream Link – Rumble \n  \n  \n 
URL:https://jubileewc.org/event/sunday-worship-service/2026-01-25/
LOCATION:Jubilee Sanctuary\, 3125 County Road 74\, St. Cloud\, MN\, 56301\, United States
CATEGORIES:Sunday Worship
ATTACH;FMTTYPE=image/png:https://jubileewc.org/wp-content/uploads/2020/10/Sunday-Worship-Service.png
END:VEVENT
END:VCALENDAR