BEGIN:VCALENDAR
VERSION:2.0
PRODID:-//Jubilee Worship Center - ECPv6.15.20//NONSGML v1.0//EN
CALSCALE:GREGORIAN
METHOD:PUBLISH
X-WR-CALNAME:Jubilee Worship Center
X-ORIGINAL-URL:https://jubileewc.org
X-WR-CALDESC:Events for Jubilee Worship Center
REFRESH-INTERVAL;VALUE=DURATION:PT1H
X-Robots-Tag:noindex
X-PUBLISHED-TTL:PT1H
BEGIN:VTIMEZONE
TZID:UTC
BEGIN:STANDARD
TZOFFSETFROM:+0000
TZOFFSETTO:+0000
TZNAME:UTC
DTSTART:20250101T000000
END:STANDARD
END:VTIMEZONE
BEGIN:VEVENT
DTSTART;TZID=UTC:20260607T100000
DTEND;TZID=UTC:20260607T113000
DTSTAMP:20260421T211103
CREATED:20201005T211448Z
LAST-MODIFIED:20260319T200530Z
UID:19595-1780826400-1780831800@jubileewc.org
SUMMARY:Sunday Worship Service
DESCRIPTION:We invite you to be our guest at one of our Sunday morning Worship Services at 10:00 a.m.\nWe believe you will find Jubilee to be a friendly\, relational church\, full of life. Our services have a very expressive and contemporary style of worship and praise. Brace yourself\, because it may not be what you’re used to! \n  \nLivestream Link – Facebook \nLivestream Link – YouTube \nLivestream Link – Rumble \n  \n  \n 
URL:https://jubileewc.org/event/sunday-worship-service/2026-06-07/
LOCATION:Jubilee Sanctuary\, 3125 County Road 74\, St. Cloud\, MN\, 56301\, United States
CATEGORIES:Sunday Worship
ATTACH;FMTTYPE=image/png:https://jubileewc.org/wp-content/uploads/2020/10/Sunday-Worship-Service.png
END:VEVENT
BEGIN:VEVENT
DTSTART;TZID=UTC:20260614T100000
DTEND;TZID=UTC:20260614T113000
DTSTAMP:20260421T211103
CREATED:20201005T211448Z
LAST-MODIFIED:20260319T200535Z
UID:19596-1781431200-1781436600@jubileewc.org
SUMMARY:Sunday Worship Service
DESCRIPTION:We invite you to be our guest at one of our Sunday morning Worship Services at 10:00 a.m.\nWe believe you will find Jubilee to be a friendly\, relational church\, full of life. Our services have a very expressive and contemporary style of worship and praise. Brace yourself\, because it may not be what you’re used to! \n  \nLivestream Link – Facebook \nLivestream Link – YouTube \nLivestream Link – Rumble \n  \n  \n 
URL:https://jubileewc.org/event/sunday-worship-service/2026-06-14/
LOCATION:Jubilee Sanctuary\, 3125 County Road 74\, St. Cloud\, MN\, 56301\, United States
CATEGORIES:Sunday Worship
ATTACH;FMTTYPE=image/png:https://jubileewc.org/wp-content/uploads/2020/10/Sunday-Worship-Service.png
END:VEVENT
BEGIN:VEVENT
DTSTART;TZID=UTC:20260621T100000
DTEND;TZID=UTC:20260621T113000
DTSTAMP:20260421T211103
CREATED:20201005T211448Z
LAST-MODIFIED:20260319T200537Z
UID:19597-1782036000-1782041400@jubileewc.org
SUMMARY:Sunday Worship Service
DESCRIPTION:We invite you to be our guest at one of our Sunday morning Worship Services at 10:00 a.m.\nWe believe you will find Jubilee to be a friendly\, relational church\, full of life. Our services have a very expressive and contemporary style of worship and praise. Brace yourself\, because it may not be what you’re used to! \n  \nLivestream Link – Facebook \nLivestream Link – YouTube \nLivestream Link – Rumble \n  \n  \n 
URL:https://jubileewc.org/event/sunday-worship-service/2026-06-21/
LOCATION:Jubilee Sanctuary\, 3125 County Road 74\, St. Cloud\, MN\, 56301\, United States
CATEGORIES:Sunday Worship
ATTACH;FMTTYPE=image/png:https://jubileewc.org/wp-content/uploads/2020/10/Sunday-Worship-Service.png
END:VEVENT
BEGIN:VEVENT
DTSTART;TZID=UTC:20260628T100000
DTEND;TZID=UTC:20260628T113000
DTSTAMP:20260421T211103
CREATED:20201005T211448Z
LAST-MODIFIED:20260319T200540Z
UID:19598-1782640800-1782646200@jubileewc.org
SUMMARY:Sunday Worship Service
DESCRIPTION:We invite you to be our guest at one of our Sunday morning Worship Services at 10:00 a.m.\nWe believe you will find Jubilee to be a friendly\, relational church\, full of life. Our services have a very expressive and contemporary style of worship and praise. Brace yourself\, because it may not be what you’re used to! \n  \nLivestream Link – Facebook \nLivestream Link – YouTube \nLivestream Link – Rumble \n  \n  \n 
URL:https://jubileewc.org/event/sunday-worship-service/2026-06-28/
LOCATION:Jubilee Sanctuary\, 3125 County Road 74\, St. Cloud\, MN\, 56301\, United States
CATEGORIES:Sunday Worship
ATTACH;FMTTYPE=image/png:https://jubileewc.org/wp-content/uploads/2020/10/Sunday-Worship-Service.png
END:VEVENT
END:VCALENDAR