BEGIN:VCALENDAR
VERSION:2.0
PRODID:-//Jubilee Worship Center - ECPv6.15.20//NONSGML v1.0//EN
CALSCALE:GREGORIAN
METHOD:PUBLISH
X-WR-CALNAME:Jubilee Worship Center
X-ORIGINAL-URL:https://jubileewc.org
X-WR-CALDESC:Events for Jubilee Worship Center
REFRESH-INTERVAL;VALUE=DURATION:PT1H
X-Robots-Tag:noindex
X-PUBLISHED-TTL:PT1H
BEGIN:VTIMEZONE
TZID:UTC
BEGIN:STANDARD
TZOFFSETFROM:+0000
TZOFFSETTO:+0000
TZNAME:UTC
DTSTART:20250101T000000
END:STANDARD
END:VTIMEZONE
BEGIN:VEVENT
DTSTART;TZID=UTC:20261101T100000
DTEND;TZID=UTC:20261101T113000
DTSTAMP:20260422T054648
CREATED:20201005T211448Z
LAST-MODIFIED:20260319T200623Z
UID:19616-1793527200-1793532600@jubileewc.org
SUMMARY:Sunday Worship Service
DESCRIPTION:We invite you to be our guest at one of our Sunday morning Worship Services at 10:00 a.m.\nWe believe you will find Jubilee to be a friendly\, relational church\, full of life. Our services have a very expressive and contemporary style of worship and praise. Brace yourself\, because it may not be what you’re used to! \n  \nLivestream Link – Facebook \nLivestream Link – YouTube \nLivestream Link – Rumble \n  \n  \n 
URL:https://jubileewc.org/event/sunday-worship-service/2026-11-01/
LOCATION:Jubilee Sanctuary\, 3125 County Road 74\, St. Cloud\, MN\, 56301\, United States
CATEGORIES:Sunday Worship
ATTACH;FMTTYPE=image/png:https://jubileewc.org/wp-content/uploads/2020/10/Sunday-Worship-Service.png
END:VEVENT
BEGIN:VEVENT
DTSTART;TZID=UTC:20261108T100000
DTEND;TZID=UTC:20261108T113000
DTSTAMP:20260422T054648
CREATED:20201005T211448Z
LAST-MODIFIED:20260319T200626Z
UID:19617-1794132000-1794137400@jubileewc.org
SUMMARY:Sunday Worship Service
DESCRIPTION:We invite you to be our guest at one of our Sunday morning Worship Services at 10:00 a.m.\nWe believe you will find Jubilee to be a friendly\, relational church\, full of life. Our services have a very expressive and contemporary style of worship and praise. Brace yourself\, because it may not be what you’re used to! \n  \nLivestream Link – Facebook \nLivestream Link – YouTube \nLivestream Link – Rumble \n  \n  \n 
URL:https://jubileewc.org/event/sunday-worship-service/2026-11-08/
LOCATION:Jubilee Sanctuary\, 3125 County Road 74\, St. Cloud\, MN\, 56301\, United States
CATEGORIES:Sunday Worship
ATTACH;FMTTYPE=image/png:https://jubileewc.org/wp-content/uploads/2020/10/Sunday-Worship-Service.png
END:VEVENT
BEGIN:VEVENT
DTSTART;TZID=UTC:20261115T100000
DTEND;TZID=UTC:20261115T113000
DTSTAMP:20260422T054648
CREATED:20201005T211448Z
LAST-MODIFIED:20260319T200628Z
UID:20304-1794736800-1794742200@jubileewc.org
SUMMARY:Sunday Worship Service
DESCRIPTION:We invite you to be our guest at one of our Sunday morning Worship Services at 10:00 a.m.\nWe believe you will find Jubilee to be a friendly\, relational church\, full of life. Our services have a very expressive and contemporary style of worship and praise. Brace yourself\, because it may not be what you’re used to! \n  \nLivestream Link – Facebook \nLivestream Link – YouTube \nLivestream Link – Rumble \n  \n  \n 
URL:https://jubileewc.org/event/sunday-worship-service/2026-11-15/
LOCATION:Jubilee Sanctuary\, 3125 County Road 74\, St. Cloud\, MN\, 56301\, United States
CATEGORIES:Sunday Worship
ATTACH;FMTTYPE=image/png:https://jubileewc.org/wp-content/uploads/2020/10/Sunday-Worship-Service.png
END:VEVENT
BEGIN:VEVENT
DTSTART;TZID=UTC:20261122T100000
DTEND;TZID=UTC:20261122T113000
DTSTAMP:20260422T054648
CREATED:20201005T211448Z
LAST-MODIFIED:20260319T200630Z
UID:21007-1795341600-1795347000@jubileewc.org
SUMMARY:Sunday Worship Service
DESCRIPTION:We invite you to be our guest at one of our Sunday morning Worship Services at 10:00 a.m.\nWe believe you will find Jubilee to be a friendly\, relational church\, full of life. Our services have a very expressive and contemporary style of worship and praise. Brace yourself\, because it may not be what you’re used to! \n  \nLivestream Link – Facebook \nLivestream Link – YouTube \nLivestream Link – Rumble \n  \n  \n 
URL:https://jubileewc.org/event/sunday-worship-service/2026-11-22/
LOCATION:Jubilee Sanctuary\, 3125 County Road 74\, St. Cloud\, MN\, 56301\, United States
CATEGORIES:Sunday Worship
ATTACH;FMTTYPE=image/png:https://jubileewc.org/wp-content/uploads/2020/10/Sunday-Worship-Service.png
END:VEVENT
BEGIN:VEVENT
DTSTART;TZID=UTC:20261129T100000
DTEND;TZID=UTC:20261129T113000
DTSTAMP:20260422T054648
CREATED:20201005T211448Z
LAST-MODIFIED:20260319T200633Z
UID:21008-1795946400-1795951800@jubileewc.org
SUMMARY:Sunday Worship Service
DESCRIPTION:We invite you to be our guest at one of our Sunday morning Worship Services at 10:00 a.m.\nWe believe you will find Jubilee to be a friendly\, relational church\, full of life. Our services have a very expressive and contemporary style of worship and praise. Brace yourself\, because it may not be what you’re used to! \n  \nLivestream Link – Facebook \nLivestream Link – YouTube \nLivestream Link – Rumble \n  \n  \n 
URL:https://jubileewc.org/event/sunday-worship-service/2026-11-29/
LOCATION:Jubilee Sanctuary\, 3125 County Road 74\, St. Cloud\, MN\, 56301\, United States
CATEGORIES:Sunday Worship
ATTACH;FMTTYPE=image/png:https://jubileewc.org/wp-content/uploads/2020/10/Sunday-Worship-Service.png
END:VEVENT
END:VCALENDAR