BEGIN:VCALENDAR
VERSION:2.0
PRODID:-//Jubilee Worship Center - ECPv6.15.20//NONSGML v1.0//EN
CALSCALE:GREGORIAN
METHOD:PUBLISH
X-ORIGINAL-URL:https://jubileewc.org
X-WR-CALDESC:Events for Jubilee Worship Center
REFRESH-INTERVAL;VALUE=DURATION:PT1H
X-Robots-Tag:noindex
X-PUBLISHED-TTL:PT1H
BEGIN:VTIMEZONE
TZID:America/Chicago
BEGIN:DAYLIGHT
TZOFFSETFROM:-0600
TZOFFSETTO:-0500
TZNAME:CDT
DTSTART:20240310T080000
END:DAYLIGHT
BEGIN:STANDARD
TZOFFSETFROM:-0500
TZOFFSETTO:-0600
TZNAME:CST
DTSTART:20241103T070000
END:STANDARD
BEGIN:DAYLIGHT
TZOFFSETFROM:-0600
TZOFFSETTO:-0500
TZNAME:CDT
DTSTART:20250309T080000
END:DAYLIGHT
BEGIN:STANDARD
TZOFFSETFROM:-0500
TZOFFSETTO:-0600
TZNAME:CST
DTSTART:20251102T070000
END:STANDARD
BEGIN:DAYLIGHT
TZOFFSETFROM:-0600
TZOFFSETTO:-0500
TZNAME:CDT
DTSTART:20260308T080000
END:DAYLIGHT
BEGIN:STANDARD
TZOFFSETFROM:-0500
TZOFFSETTO:-0600
TZNAME:CST
DTSTART:20261101T070000
END:STANDARD
END:VTIMEZONE
BEGIN:VEVENT
DTSTART;TZID=America/Chicago:20250508T190000
DTEND;TZID=America/Chicago:20250508T200000
DTSTAMP:20260422T181419
CREATED:20250418T213415Z
LAST-MODIFIED:20250418T213415Z
UID:18887-1746730800-1746734400@jubileewc.org
SUMMARY:Discipleship Class
DESCRIPTION:New Class Starting: “SO\, YOU WANT TO BE A DISCIPLE”\n3 Thursdays: April 24th\, May 1st & May 8th \nFrom 7:00 – 8:00 p.m. in the Jubilee Fireside Room \nWith Pastor Mark \n“And Jesus came and spoke to them\, saying\, ‘All authority has been given to Me in heaven and on earth. Go therefore and make disciples of all the nations\, baptizing them in the name of the Father and of the Son and of the Holy Spirit\, teaching them to observe all things that I have commanded you; and lo\, I am with you always\, even to the end of the age.’ Amen.” Matthew 28:18-20 \n-Where are you on the discipleship matrix? What is a disciple? How are disciples made? Are all Christians/believers disciples? How can I make disciples? \nFind our the answers to these questions and more! \nLet us know if you want to sign up for this class. Contact us.
URL:https://jubileewc.org/event/discipleship-class/2025-05-08/
LOCATION:Jubilee Fireside Room\, 3125 County Road 74\, St. Cloud\, 56301\, United States
CATEGORIES:Classes and Small Groups
ATTACH;FMTTYPE=image/png:https://jubileewc.org/wp-content/uploads/2025/04/Discipleship-Class-Website2.png
END:VEVENT
BEGIN:VEVENT
DTSTART;TZID=America/Chicago:20250501T190000
DTEND;TZID=America/Chicago:20250501T200000
DTSTAMP:20260422T181419
CREATED:20250418T213415Z
LAST-MODIFIED:20250418T213415Z
UID:18886-1746126000-1746129600@jubileewc.org
SUMMARY:Discipleship Class
DESCRIPTION:New Class Starting: “SO\, YOU WANT TO BE A DISCIPLE”\n3 Thursdays: April 24th\, May 1st & May 8th \nFrom 7:00 – 8:00 p.m. in the Jubilee Fireside Room \nWith Pastor Mark \n“And Jesus came and spoke to them\, saying\, ‘All authority has been given to Me in heaven and on earth. Go therefore and make disciples of all the nations\, baptizing them in the name of the Father and of the Son and of the Holy Spirit\, teaching them to observe all things that I have commanded you; and lo\, I am with you always\, even to the end of the age.’ Amen.” Matthew 28:18-20 \n-Where are you on the discipleship matrix? What is a disciple? How are disciples made? Are all Christians/believers disciples? How can I make disciples? \nFind our the answers to these questions and more! \nLet us know if you want to sign up for this class. Contact us.
URL:https://jubileewc.org/event/discipleship-class/2025-05-01/
LOCATION:Jubilee Fireside Room\, 3125 County Road 74\, St. Cloud\, 56301\, United States
CATEGORIES:Classes and Small Groups
ATTACH;FMTTYPE=image/png:https://jubileewc.org/wp-content/uploads/2025/04/Discipleship-Class-Website2.png
END:VEVENT
BEGIN:VEVENT
DTSTART;TZID=America/Chicago:20250424T190000
DTEND;TZID=America/Chicago:20250424T200000
DTSTAMP:20260422T181419
CREATED:20250418T213415Z
LAST-MODIFIED:20250419T161154Z
UID:18880-1745521200-1745524800@jubileewc.org
SUMMARY:Discipleship Class
DESCRIPTION:New Class Starting: “SO\, YOU WANT TO BE A DISCIPLE”\n3 Thursdays: April 24th\, May 1st & May 8th \nFrom 7:00 – 8:00 p.m. in the Jubilee Fireside Room \nWith Pastor Mark \n“And Jesus came and spoke to them\, saying\, ‘All authority has been given to Me in heaven and on earth. Go therefore and make disciples of all the nations\, baptizing them in the name of the Father and of the Son and of the Holy Spirit\, teaching them to observe all things that I have commanded you; and lo\, I am with you always\, even to the end of the age.’ Amen.” Matthew 28:18-20 \n-Where are you on the discipleship matrix? What is a disciple? How are disciples made? Are all Christians/believers disciples? How can I make disciples? \nFind our the answers to these questions and more! \nLet us know if you want to sign up for this class. Contact us.
URL:https://jubileewc.org/event/discipleship-class/2025-04-24/
LOCATION:Jubilee Fireside Room\, 3125 County Road 74\, St. Cloud\, 56301\, United States
CATEGORIES:Classes and Small Groups
ATTACH;FMTTYPE=image/png:https://jubileewc.org/wp-content/uploads/2025/04/Discipleship-Class-Website2.png
END:VEVENT
BEGIN:VEVENT
DTSTART;TZID=America/Chicago:20250423T180000
DTEND;TZID=America/Chicago:20250423T193000
DTSTAMP:20260422T181419
CREATED:20250418T212630Z
LAST-MODIFIED:20250418T212631Z
UID:18876-1745431200-1745436600@jubileewc.org
SUMMARY:Leaders Meeting
DESCRIPTION:All those leading a Jubilee ministry are invited to a Leaders Meeting with Pastor Mark.\nWednesday\, April 23rd \n6:00 – 7:30 p.m. in the Fireside Room \nA meal will be provided. \nPlease let us know if you can make it. Contact us.
URL:https://jubileewc.org/event/leaders-meeting/
LOCATION:Jubilee Fireside Room\, 3125 County Road 74\, St. Cloud\, 56301\, United States
CATEGORIES:Business Meeting
ATTACH;FMTTYPE=image/png:https://jubileewc.org/wp-content/uploads/2025/04/Leaders-Meeting-2025-Website.png
END:VEVENT
END:VCALENDAR